BEGIN:VCALENDAR
VERSION:2.0
PRODID:-//Ponsonby Community Centre - ECPv6.15.20//NONSGML v1.0//EN
CALSCALE:GREGORIAN
METHOD:PUBLISH
X-WR-CALNAME:Ponsonby Community Centre
X-ORIGINAL-URL:https://ponsonbycommunity.org.nz
X-WR-CALDESC:Events for Ponsonby Community Centre
REFRESH-INTERVAL;VALUE=DURATION:PT1H
X-Robots-Tag:noindex
X-PUBLISHED-TTL:PT1H
BEGIN:VTIMEZONE
TZID:Pacific/Auckland
BEGIN:STANDARD
TZOFFSETFROM:+1300
TZOFFSETTO:+1200
TZNAME:NZST
DTSTART:20250405T140000
END:STANDARD
BEGIN:DAYLIGHT
TZOFFSETFROM:+1200
TZOFFSETTO:+1300
TZNAME:NZDT
DTSTART:20250927T140000
END:DAYLIGHT
BEGIN:STANDARD
TZOFFSETFROM:+1300
TZOFFSETTO:+1200
TZNAME:NZST
DTSTART:20260404T140000
END:STANDARD
BEGIN:DAYLIGHT
TZOFFSETFROM:+1200
TZOFFSETTO:+1300
TZNAME:NZDT
DTSTART:20260926T140000
END:DAYLIGHT
BEGIN:STANDARD
TZOFFSETFROM:+1300
TZOFFSETTO:+1200
TZNAME:NZST
DTSTART:20270403T140000
END:STANDARD
BEGIN:DAYLIGHT
TZOFFSETFROM:+1200
TZOFFSETTO:+1300
TZNAME:NZDT
DTSTART:20270925T140000
END:DAYLIGHT
BEGIN:STANDARD
TZOFFSETFROM:+1300
TZOFFSETTO:+1200
TZNAME:NZST
DTSTART:20280401T140000
END:STANDARD
BEGIN:DAYLIGHT
TZOFFSETFROM:+1200
TZOFFSETTO:+1300
TZNAME:NZDT
DTSTART:20280923T140000
END:DAYLIGHT
END:VTIMEZONE
BEGIN:VEVENT
DTSTART;TZID=Pacific/Auckland:20261119T093000
DTEND;TZID=Pacific/Auckland:20261119T120000
DTSTAMP:20260420T052110
CREATED:20190318T004958Z
LAST-MODIFIED:20190318T004958Z
UID:19910-1795080600-1795089600@ponsonbycommunity.org.nz
SUMMARY:Life Drawing
DESCRIPTION:The Life Drawing classes do not run during the school holidays
URL:https://ponsonbycommunity.org.nz/event/life-drawing/2026-11-19/
LOCATION:Johnny Mitchell Hall\, 20 Ponsonby Terrace\, Auckland\, 1011\, New Zealand
ORGANIZER;CN="Elizabeth":MAILTO:elizand333@gmail.com
GEO:-36.8502225;174.7421481
X-APPLE-STRUCTURED-LOCATION;VALUE=URI;X-ADDRESS=Johnny Mitchell Hall 20 Ponsonby Terrace Auckland 1011 New Zealand;X-APPLE-RADIUS=500;X-TITLE=20 Ponsonby Terrace:geo:174.7421481,-36.8502225
END:VEVENT
BEGIN:VEVENT
DTSTART;TZID=Pacific/Auckland:20261121T183000
DTEND;TZID=Pacific/Auckland:20261121T193000
DTSTAMP:20260420T052110
CREATED:20210802T032243Z
LAST-MODIFIED:20210802T032243Z
UID:19917-1795285800-1795289400@ponsonbycommunity.org.nz
SUMMARY:Saturday Night Live! Narcotics Anonymous
DESCRIPTION:Map of Meetings in Aotearoa New Zealand
URL:https://ponsonbycommunity.org.nz/event/na/2026-11-21/
LOCATION:Johnny Mitchell Hall\, 20 Ponsonby Terrace\, Auckland\, 1011\, New Zealand
GEO:-36.8502225;174.7421481
X-APPLE-STRUCTURED-LOCATION;VALUE=URI;X-ADDRESS=Johnny Mitchell Hall 20 Ponsonby Terrace Auckland 1011 New Zealand;X-APPLE-RADIUS=500;X-TITLE=20 Ponsonby Terrace:geo:174.7421481,-36.8502225
END:VEVENT
BEGIN:VEVENT
DTSTART;TZID=Pacific/Auckland:20261126T093000
DTEND;TZID=Pacific/Auckland:20261126T120000
DTSTAMP:20260420T052110
CREATED:20190318T004958Z
LAST-MODIFIED:20190318T004958Z
UID:19932-1795685400-1795694400@ponsonbycommunity.org.nz
SUMMARY:Life Drawing
DESCRIPTION:The Life Drawing classes do not run during the school holidays
URL:https://ponsonbycommunity.org.nz/event/life-drawing/2026-11-26/
LOCATION:Johnny Mitchell Hall\, 20 Ponsonby Terrace\, Auckland\, 1011\, New Zealand
ORGANIZER;CN="Elizabeth":MAILTO:elizand333@gmail.com
GEO:-36.8502225;174.7421481
X-APPLE-STRUCTURED-LOCATION;VALUE=URI;X-ADDRESS=Johnny Mitchell Hall 20 Ponsonby Terrace Auckland 1011 New Zealand;X-APPLE-RADIUS=500;X-TITLE=20 Ponsonby Terrace:geo:174.7421481,-36.8502225
END:VEVENT
BEGIN:VEVENT
DTSTART;TZID=Pacific/Auckland:20261128T183000
DTEND;TZID=Pacific/Auckland:20261128T193000
DTSTAMP:20260420T052110
CREATED:20210802T032243Z
LAST-MODIFIED:20210802T032243Z
UID:19942-1795890600-1795894200@ponsonbycommunity.org.nz
SUMMARY:Saturday Night Live! Narcotics Anonymous
DESCRIPTION:Map of Meetings in Aotearoa New Zealand
URL:https://ponsonbycommunity.org.nz/event/na/2026-11-28/
LOCATION:Johnny Mitchell Hall\, 20 Ponsonby Terrace\, Auckland\, 1011\, New Zealand
GEO:-36.8502225;174.7421481
X-APPLE-STRUCTURED-LOCATION;VALUE=URI;X-ADDRESS=Johnny Mitchell Hall 20 Ponsonby Terrace Auckland 1011 New Zealand;X-APPLE-RADIUS=500;X-TITLE=20 Ponsonby Terrace:geo:174.7421481,-36.8502225
END:VEVENT
BEGIN:VEVENT
DTSTART;TZID=Pacific/Auckland:20261203T093000
DTEND;TZID=Pacific/Auckland:20261203T120000
DTSTAMP:20260420T052110
CREATED:20190318T004958Z
LAST-MODIFIED:20190318T004958Z
UID:19951-1796290200-1796299200@ponsonbycommunity.org.nz
SUMMARY:Life Drawing
DESCRIPTION:The Life Drawing classes do not run during the school holidays
URL:https://ponsonbycommunity.org.nz/event/life-drawing/2026-12-03/
LOCATION:Johnny Mitchell Hall\, 20 Ponsonby Terrace\, Auckland\, 1011\, New Zealand
ORGANIZER;CN="Elizabeth":MAILTO:elizand333@gmail.com
GEO:-36.8502225;174.7421481
X-APPLE-STRUCTURED-LOCATION;VALUE=URI;X-ADDRESS=Johnny Mitchell Hall 20 Ponsonby Terrace Auckland 1011 New Zealand;X-APPLE-RADIUS=500;X-TITLE=20 Ponsonby Terrace:geo:174.7421481,-36.8502225
END:VEVENT
BEGIN:VEVENT
DTSTART;TZID=Pacific/Auckland:20261205T183000
DTEND;TZID=Pacific/Auckland:20261205T193000
DTSTAMP:20260420T052111
CREATED:20210802T032243Z
LAST-MODIFIED:20210802T032243Z
UID:19956-1796495400-1796499000@ponsonbycommunity.org.nz
SUMMARY:Saturday Night Live! Narcotics Anonymous
DESCRIPTION:Map of Meetings in Aotearoa New Zealand
URL:https://ponsonbycommunity.org.nz/event/na/2026-12-05/
LOCATION:Johnny Mitchell Hall\, 20 Ponsonby Terrace\, Auckland\, 1011\, New Zealand
GEO:-36.8502225;174.7421481
X-APPLE-STRUCTURED-LOCATION;VALUE=URI;X-ADDRESS=Johnny Mitchell Hall 20 Ponsonby Terrace Auckland 1011 New Zealand;X-APPLE-RADIUS=500;X-TITLE=20 Ponsonby Terrace:geo:174.7421481,-36.8502225
END:VEVENT
BEGIN:VEVENT
DTSTART;TZID=Pacific/Auckland:20261210T093000
DTEND;TZID=Pacific/Auckland:20261210T120000
DTSTAMP:20260420T052111
CREATED:20190318T004958Z
LAST-MODIFIED:20190318T004958Z
UID:19970-1796895000-1796904000@ponsonbycommunity.org.nz
SUMMARY:Life Drawing
DESCRIPTION:The Life Drawing classes do not run during the school holidays
URL:https://ponsonbycommunity.org.nz/event/life-drawing/2026-12-10/
LOCATION:Johnny Mitchell Hall\, 20 Ponsonby Terrace\, Auckland\, 1011\, New Zealand
ORGANIZER;CN="Elizabeth":MAILTO:elizand333@gmail.com
GEO:-36.8502225;174.7421481
X-APPLE-STRUCTURED-LOCATION;VALUE=URI;X-ADDRESS=Johnny Mitchell Hall 20 Ponsonby Terrace Auckland 1011 New Zealand;X-APPLE-RADIUS=500;X-TITLE=20 Ponsonby Terrace:geo:174.7421481,-36.8502225
END:VEVENT
BEGIN:VEVENT
DTSTART;TZID=Pacific/Auckland:20261212T183000
DTEND;TZID=Pacific/Auckland:20261212T193000
DTSTAMP:20260420T052111
CREATED:20210802T032243Z
LAST-MODIFIED:20210802T032243Z
UID:19975-1797100200-1797103800@ponsonbycommunity.org.nz
SUMMARY:Saturday Night Live! Narcotics Anonymous
DESCRIPTION:Map of Meetings in Aotearoa New Zealand
URL:https://ponsonbycommunity.org.nz/event/na/2026-12-12/
LOCATION:Johnny Mitchell Hall\, 20 Ponsonby Terrace\, Auckland\, 1011\, New Zealand
GEO:-36.8502225;174.7421481
X-APPLE-STRUCTURED-LOCATION;VALUE=URI;X-ADDRESS=Johnny Mitchell Hall 20 Ponsonby Terrace Auckland 1011 New Zealand;X-APPLE-RADIUS=500;X-TITLE=20 Ponsonby Terrace:geo:174.7421481,-36.8502225
END:VEVENT
BEGIN:VEVENT
DTSTART;TZID=Pacific/Auckland:20261217T093000
DTEND;TZID=Pacific/Auckland:20261217T120000
DTSTAMP:20260420T052111
CREATED:20190318T004958Z
LAST-MODIFIED:20190318T004958Z
UID:19987-1797499800-1797508800@ponsonbycommunity.org.nz
SUMMARY:Life Drawing
DESCRIPTION:The Life Drawing classes do not run during the school holidays
URL:https://ponsonbycommunity.org.nz/event/life-drawing/2026-12-17/
LOCATION:Johnny Mitchell Hall\, 20 Ponsonby Terrace\, Auckland\, 1011\, New Zealand
ORGANIZER;CN="Elizabeth":MAILTO:elizand333@gmail.com
GEO:-36.8502225;174.7421481
X-APPLE-STRUCTURED-LOCATION;VALUE=URI;X-ADDRESS=Johnny Mitchell Hall 20 Ponsonby Terrace Auckland 1011 New Zealand;X-APPLE-RADIUS=500;X-TITLE=20 Ponsonby Terrace:geo:174.7421481,-36.8502225
END:VEVENT
BEGIN:VEVENT
DTSTART;TZID=Pacific/Auckland:20261219T183000
DTEND;TZID=Pacific/Auckland:20261219T193000
DTSTAMP:20260420T052111
CREATED:20210802T032243Z
LAST-MODIFIED:20210802T032243Z
UID:19992-1797705000-1797708600@ponsonbycommunity.org.nz
SUMMARY:Saturday Night Live! Narcotics Anonymous
DESCRIPTION:Map of Meetings in Aotearoa New Zealand
URL:https://ponsonbycommunity.org.nz/event/na/2026-12-19/
LOCATION:Johnny Mitchell Hall\, 20 Ponsonby Terrace\, Auckland\, 1011\, New Zealand
GEO:-36.8502225;174.7421481
X-APPLE-STRUCTURED-LOCATION;VALUE=URI;X-ADDRESS=Johnny Mitchell Hall 20 Ponsonby Terrace Auckland 1011 New Zealand;X-APPLE-RADIUS=500;X-TITLE=20 Ponsonby Terrace:geo:174.7421481,-36.8502225
END:VEVENT
BEGIN:VEVENT
DTSTART;TZID=Pacific/Auckland:20261224T093000
DTEND;TZID=Pacific/Auckland:20261224T120000
DTSTAMP:20260420T052111
CREATED:20190318T004958Z
LAST-MODIFIED:20190318T004958Z
UID:20005-1798104600-1798113600@ponsonbycommunity.org.nz
SUMMARY:Life Drawing
DESCRIPTION:The Life Drawing classes do not run during the school holidays
URL:https://ponsonbycommunity.org.nz/event/life-drawing/2026-12-24/
LOCATION:Johnny Mitchell Hall\, 20 Ponsonby Terrace\, Auckland\, 1011\, New Zealand
ORGANIZER;CN="Elizabeth":MAILTO:elizand333@gmail.com
GEO:-36.8502225;174.7421481
X-APPLE-STRUCTURED-LOCATION;VALUE=URI;X-ADDRESS=Johnny Mitchell Hall 20 Ponsonby Terrace Auckland 1011 New Zealand;X-APPLE-RADIUS=500;X-TITLE=20 Ponsonby Terrace:geo:174.7421481,-36.8502225
END:VEVENT
BEGIN:VEVENT
DTSTART;TZID=Pacific/Auckland:20261226T183000
DTEND;TZID=Pacific/Auckland:20261226T193000
DTSTAMP:20260420T052111
CREATED:20210802T032243Z
LAST-MODIFIED:20210802T032243Z
UID:20022-1798309800-1798313400@ponsonbycommunity.org.nz
SUMMARY:Saturday Night Live! Narcotics Anonymous
DESCRIPTION:Map of Meetings in Aotearoa New Zealand
URL:https://ponsonbycommunity.org.nz/event/na/2026-12-26/
LOCATION:Johnny Mitchell Hall\, 20 Ponsonby Terrace\, Auckland\, 1011\, New Zealand
GEO:-36.8502225;174.7421481
X-APPLE-STRUCTURED-LOCATION;VALUE=URI;X-ADDRESS=Johnny Mitchell Hall 20 Ponsonby Terrace Auckland 1011 New Zealand;X-APPLE-RADIUS=500;X-TITLE=20 Ponsonby Terrace:geo:174.7421481,-36.8502225
END:VEVENT
BEGIN:VEVENT
DTSTART;TZID=Pacific/Auckland:20261231T093000
DTEND;TZID=Pacific/Auckland:20261231T120000
DTSTAMP:20260420T052111
CREATED:20190318T004958Z
LAST-MODIFIED:20190318T004958Z
UID:20034-1798709400-1798718400@ponsonbycommunity.org.nz
SUMMARY:Life Drawing
DESCRIPTION:The Life Drawing classes do not run during the school holidays
URL:https://ponsonbycommunity.org.nz/event/life-drawing/2026-12-31/
LOCATION:Johnny Mitchell Hall\, 20 Ponsonby Terrace\, Auckland\, 1011\, New Zealand
ORGANIZER;CN="Elizabeth":MAILTO:elizand333@gmail.com
GEO:-36.8502225;174.7421481
X-APPLE-STRUCTURED-LOCATION;VALUE=URI;X-ADDRESS=Johnny Mitchell Hall 20 Ponsonby Terrace Auckland 1011 New Zealand;X-APPLE-RADIUS=500;X-TITLE=20 Ponsonby Terrace:geo:174.7421481,-36.8502225
END:VEVENT
BEGIN:VEVENT
DTSTART;TZID=Pacific/Auckland:20270102T183000
DTEND;TZID=Pacific/Auckland:20270102T193000
DTSTAMP:20260420T052111
CREATED:20210802T032243Z
LAST-MODIFIED:20210802T032243Z
UID:20045-1798914600-1798918200@ponsonbycommunity.org.nz
SUMMARY:Saturday Night Live! Narcotics Anonymous
DESCRIPTION:Map of Meetings in Aotearoa New Zealand
URL:https://ponsonbycommunity.org.nz/event/na/2027-01-02/
LOCATION:Johnny Mitchell Hall\, 20 Ponsonby Terrace\, Auckland\, 1011\, New Zealand
GEO:-36.8502225;174.7421481
X-APPLE-STRUCTURED-LOCATION;VALUE=URI;X-ADDRESS=Johnny Mitchell Hall 20 Ponsonby Terrace Auckland 1011 New Zealand;X-APPLE-RADIUS=500;X-TITLE=20 Ponsonby Terrace:geo:174.7421481,-36.8502225
END:VEVENT
BEGIN:VEVENT
DTSTART;TZID=Pacific/Auckland:20270107T093000
DTEND;TZID=Pacific/Auckland:20270107T120000
DTSTAMP:20260420T052111
CREATED:20190318T004958Z
LAST-MODIFIED:20190318T004958Z
UID:20064-1799314200-1799323200@ponsonbycommunity.org.nz
SUMMARY:Life Drawing
DESCRIPTION:The Life Drawing classes do not run during the school holidays
URL:https://ponsonbycommunity.org.nz/event/life-drawing/2027-01-07/
LOCATION:Johnny Mitchell Hall\, 20 Ponsonby Terrace\, Auckland\, 1011\, New Zealand
ORGANIZER;CN="Elizabeth":MAILTO:elizand333@gmail.com
GEO:-36.8502225;174.7421481
X-APPLE-STRUCTURED-LOCATION;VALUE=URI;X-ADDRESS=Johnny Mitchell Hall 20 Ponsonby Terrace Auckland 1011 New Zealand;X-APPLE-RADIUS=500;X-TITLE=20 Ponsonby Terrace:geo:174.7421481,-36.8502225
END:VEVENT
BEGIN:VEVENT
DTSTART;TZID=Pacific/Auckland:20270109T183000
DTEND;TZID=Pacific/Auckland:20270109T193000
DTSTAMP:20260420T052111
CREATED:20210802T032243Z
LAST-MODIFIED:20210802T032243Z
UID:20069-1799519400-1799523000@ponsonbycommunity.org.nz
SUMMARY:Saturday Night Live! Narcotics Anonymous
DESCRIPTION:Map of Meetings in Aotearoa New Zealand
URL:https://ponsonbycommunity.org.nz/event/na/2027-01-09/
LOCATION:Johnny Mitchell Hall\, 20 Ponsonby Terrace\, Auckland\, 1011\, New Zealand
GEO:-36.8502225;174.7421481
X-APPLE-STRUCTURED-LOCATION;VALUE=URI;X-ADDRESS=Johnny Mitchell Hall 20 Ponsonby Terrace Auckland 1011 New Zealand;X-APPLE-RADIUS=500;X-TITLE=20 Ponsonby Terrace:geo:174.7421481,-36.8502225
END:VEVENT
BEGIN:VEVENT
DTSTART;TZID=Pacific/Auckland:20270114T093000
DTEND;TZID=Pacific/Auckland:20270114T120000
DTSTAMP:20260420T052111
CREATED:20190318T004958Z
LAST-MODIFIED:20190318T004958Z
UID:20081-1799919000-1799928000@ponsonbycommunity.org.nz
SUMMARY:Life Drawing
DESCRIPTION:The Life Drawing classes do not run during the school holidays
URL:https://ponsonbycommunity.org.nz/event/life-drawing/2027-01-14/
LOCATION:Johnny Mitchell Hall\, 20 Ponsonby Terrace\, Auckland\, 1011\, New Zealand
ORGANIZER;CN="Elizabeth":MAILTO:elizand333@gmail.com
GEO:-36.8502225;174.7421481
X-APPLE-STRUCTURED-LOCATION;VALUE=URI;X-ADDRESS=Johnny Mitchell Hall 20 Ponsonby Terrace Auckland 1011 New Zealand;X-APPLE-RADIUS=500;X-TITLE=20 Ponsonby Terrace:geo:174.7421481,-36.8502225
END:VEVENT
BEGIN:VEVENT
DTSTART;TZID=Pacific/Auckland:20270116T183000
DTEND;TZID=Pacific/Auckland:20270116T193000
DTSTAMP:20260420T052111
CREATED:20210802T032243Z
LAST-MODIFIED:20210802T032243Z
UID:20086-1800124200-1800127800@ponsonbycommunity.org.nz
SUMMARY:Saturday Night Live! Narcotics Anonymous
DESCRIPTION:Map of Meetings in Aotearoa New Zealand
URL:https://ponsonbycommunity.org.nz/event/na/2027-01-16/
LOCATION:Johnny Mitchell Hall\, 20 Ponsonby Terrace\, Auckland\, 1011\, New Zealand
GEO:-36.8502225;174.7421481
X-APPLE-STRUCTURED-LOCATION;VALUE=URI;X-ADDRESS=Johnny Mitchell Hall 20 Ponsonby Terrace Auckland 1011 New Zealand;X-APPLE-RADIUS=500;X-TITLE=20 Ponsonby Terrace:geo:174.7421481,-36.8502225
END:VEVENT
END:VCALENDAR