BEGIN:VCALENDAR
VERSION:2.0
PRODID:-//Ponsonby Community Centre - ECPv6.15.20//NONSGML v1.0//EN
CALSCALE:GREGORIAN
METHOD:PUBLISH
X-WR-CALNAME:Ponsonby Community Centre
X-ORIGINAL-URL:https://ponsonbycommunity.org.nz
X-WR-CALDESC:Events for Ponsonby Community Centre
REFRESH-INTERVAL;VALUE=DURATION:PT1H
X-Robots-Tag:noindex
X-PUBLISHED-TTL:PT1H
BEGIN:VTIMEZONE
TZID:Pacific/Auckland
BEGIN:STANDARD
TZOFFSETFROM:+1300
TZOFFSETTO:+1200
TZNAME:NZST
DTSTART:20240406T140000
END:STANDARD
BEGIN:DAYLIGHT
TZOFFSETFROM:+1200
TZOFFSETTO:+1300
TZNAME:NZDT
DTSTART:20240928T140000
END:DAYLIGHT
BEGIN:STANDARD
TZOFFSETFROM:+1300
TZOFFSETTO:+1200
TZNAME:NZST
DTSTART:20250405T140000
END:STANDARD
BEGIN:DAYLIGHT
TZOFFSETFROM:+1200
TZOFFSETTO:+1300
TZNAME:NZDT
DTSTART:20250927T140000
END:DAYLIGHT
BEGIN:STANDARD
TZOFFSETFROM:+1300
TZOFFSETTO:+1200
TZNAME:NZST
DTSTART:20260404T140000
END:STANDARD
BEGIN:DAYLIGHT
TZOFFSETFROM:+1200
TZOFFSETTO:+1300
TZNAME:NZDT
DTSTART:20260926T140000
END:DAYLIGHT
END:VTIMEZONE
BEGIN:VEVENT
DTSTART;TZID=Pacific/Auckland:20250505T110000
DTEND;TZID=Pacific/Auckland:20250505T120000
DTSTAMP:20260421T070329
CREATED:20190313T004743Z
LAST-MODIFIED:20190313T004743Z
UID:16029-1746442800-1746446400@ponsonbycommunity.org.nz
SUMMARY:FREE Seniors Yoga
DESCRIPTION:Ponsonby Community Centre\, the Waitemata Local Board and Four Winds Yoga have joined forces to provide a free yoga class for local seniors. Taught by Iyengar certified Francesca Hopkins from Four Winds Yoga\, the class will focus on strength and balance\, with an individual based approach for those who need help in particular areas.\nNo registration is required to begin with – just turn up! \nWe are now an accrediated Strength and Balance programme through Live Stronger for Longer!
URL:https://ponsonbycommunity.org.nz/event/free-seniors-yoga/2025-05-05/
LOCATION:Freda Stark Hall\, 20 Ponsonby Terrace\, Auckland\, 1011\, New Zealand
ORGANIZER;CN="Ponsonby Community Centre":MAILTO:info@ponsonbycommunity.org.nz
GEO:-36.8502225;174.7421481
X-APPLE-STRUCTURED-LOCATION;VALUE=URI;X-ADDRESS=Freda Stark Hall 20 Ponsonby Terrace Auckland 1011 New Zealand;X-APPLE-RADIUS=500;X-TITLE=20 Ponsonby Terrace:geo:174.7421481,-36.8502225
END:VEVENT
BEGIN:VEVENT
DTSTART;TZID=Pacific/Auckland:20250504T090000
DTEND;TZID=Pacific/Auckland:20250504T103000
DTSTAMP:20260421T070329
CREATED:20190306T224458Z
LAST-MODIFIED:20190306T224458Z
UID:16775-1746349200-1746354600@ponsonbycommunity.org.nz
SUMMARY:Four Winds Yoga
DESCRIPTION:
URL:https://ponsonbycommunity.org.nz/event/four-winds-yoga-beginners-class/2025-05-04/
LOCATION:Freda Stark Hall\, 20 Ponsonby Terrace\, Auckland\, 1011\, New Zealand
ORGANIZER;CN="Suzi Carson":MAILTO:suzi@yoga.net.nz
GEO:-36.8502225;174.7421481
X-APPLE-STRUCTURED-LOCATION;VALUE=URI;X-ADDRESS=Freda Stark Hall 20 Ponsonby Terrace Auckland 1011 New Zealand;X-APPLE-RADIUS=500;X-TITLE=20 Ponsonby Terrace:geo:174.7421481,-36.8502225
END:VEVENT
BEGIN:VEVENT
DTSTART;TZID=Pacific/Auckland:20250503T093000
DTEND;TZID=Pacific/Auckland:20250503T110000
DTSTAMP:20260421T070329
CREATED:20190306T224458Z
LAST-MODIFIED:20190306T224458Z
UID:16774-1746264600-1746270000@ponsonbycommunity.org.nz
SUMMARY:Four Winds Yoga
DESCRIPTION:
URL:https://ponsonbycommunity.org.nz/event/four-winds-yoga-beginners-class/2025-05-03/10/
LOCATION:Freda Stark Hall\, 20 Ponsonby Terrace\, Auckland\, 1011\, New Zealand
ORGANIZER;CN="Suzi Carson":MAILTO:suzi@yoga.net.nz
GEO:-36.8502225;174.7421481
X-APPLE-STRUCTURED-LOCATION;VALUE=URI;X-ADDRESS=Freda Stark Hall 20 Ponsonby Terrace Auckland 1011 New Zealand;X-APPLE-RADIUS=500;X-TITLE=20 Ponsonby Terrace:geo:174.7421481,-36.8502225
END:VEVENT
BEGIN:VEVENT
DTSTART;TZID=Pacific/Auckland:20250503T070000
DTEND;TZID=Pacific/Auckland:20250503T083000
DTSTAMP:20260421T070329
CREATED:20190306T224458Z
LAST-MODIFIED:20190306T224458Z
UID:16773-1746255600-1746261000@ponsonbycommunity.org.nz
SUMMARY:Four Winds Yoga
DESCRIPTION:
URL:https://ponsonbycommunity.org.nz/event/four-winds-yoga-beginners-class/2025-05-03/
LOCATION:Freda Stark Hall\, 20 Ponsonby Terrace\, Auckland\, 1011\, New Zealand
ORGANIZER;CN="Suzi Carson":MAILTO:suzi@yoga.net.nz
GEO:-36.8502225;174.7421481
X-APPLE-STRUCTURED-LOCATION;VALUE=URI;X-ADDRESS=Freda Stark Hall 20 Ponsonby Terrace Auckland 1011 New Zealand;X-APPLE-RADIUS=500;X-TITLE=20 Ponsonby Terrace:geo:174.7421481,-36.8502225
END:VEVENT
BEGIN:VEVENT
DTSTART;TZID=Pacific/Auckland:20250502T110000
DTEND;TZID=Pacific/Auckland:20250502T120000
DTSTAMP:20260421T070329
CREATED:20190313T004743Z
LAST-MODIFIED:20190313T004743Z
UID:16983-1746183600-1746187200@ponsonbycommunity.org.nz
SUMMARY:FREE Seniors Yoga
DESCRIPTION:Ponsonby Community Centre\, the Waitemata Local Board and Four Winds Yoga have joined forces to provide a free yoga class for local seniors. Taught by Iyengar certified Francesca Hopkins from Four Winds Yoga\, the class will focus on strength and balance\, with an individual based approach for those who need help in particular areas.\nNo registration is required to begin with – just turn up! \nWe are now an accrediated Strength and Balance programme through Live Stronger for Longer!
URL:https://ponsonbycommunity.org.nz/event/free-seniors-yoga/2025-05-02/
LOCATION:Freda Stark Hall\, 20 Ponsonby Terrace\, Auckland\, 1011\, New Zealand
ORGANIZER;CN="Ponsonby Community Centre":MAILTO:info@ponsonbycommunity.org.nz
GEO:-36.8502225;174.7421481
X-APPLE-STRUCTURED-LOCATION;VALUE=URI;X-ADDRESS=Freda Stark Hall 20 Ponsonby Terrace Auckland 1011 New Zealand;X-APPLE-RADIUS=500;X-TITLE=20 Ponsonby Terrace:geo:174.7421481,-36.8502225
END:VEVENT
BEGIN:VEVENT
DTSTART;TZID=Pacific/Auckland:20250501T180000
DTEND;TZID=Pacific/Auckland:20250501T193000
DTSTAMP:20260421T070329
CREATED:20190306T224458Z
LAST-MODIFIED:20190306T224458Z
UID:16772-1746122400-1746127800@ponsonbycommunity.org.nz
SUMMARY:Four Winds Yoga
DESCRIPTION:
URL:https://ponsonbycommunity.org.nz/event/four-winds-yoga-beginners-class/2025-05-01/
LOCATION:Freda Stark Hall\, 20 Ponsonby Terrace\, Auckland\, 1011\, New Zealand
ORGANIZER;CN="Suzi Carson":MAILTO:suzi@yoga.net.nz
GEO:-36.8502225;174.7421481
X-APPLE-STRUCTURED-LOCATION;VALUE=URI;X-ADDRESS=Freda Stark Hall 20 Ponsonby Terrace Auckland 1011 New Zealand;X-APPLE-RADIUS=500;X-TITLE=20 Ponsonby Terrace:geo:174.7421481,-36.8502225
END:VEVENT
BEGIN:VEVENT
DTSTART;TZID=Pacific/Auckland:20250430T180000
DTEND;TZID=Pacific/Auckland:20250430T190000
DTSTAMP:20260421T070329
CREATED:20190318T003346Z
LAST-MODIFIED:20250407T004751Z
UID:16023-1746036000-1746039600@ponsonbycommunity.org.nz
SUMMARY:Expect Miracles - AA Meditation
DESCRIPTION:Ponsonby Community Centre
URL:https://ponsonbycommunity.org.nz/event/aa-meditation/2025-04-30/
LOCATION:Freda Stark Hall\, 20 Ponsonby Terrace\, Auckland\, 1011\, New Zealand
GEO:-36.8502225;174.7421481
X-APPLE-STRUCTURED-LOCATION;VALUE=URI;X-ADDRESS=Freda Stark Hall 20 Ponsonby Terrace Auckland 1011 New Zealand;X-APPLE-RADIUS=500;X-TITLE=20 Ponsonby Terrace:geo:174.7421481,-36.8502225
END:VEVENT
BEGIN:VEVENT
DTSTART;TZID=Pacific/Auckland:20250430T110000
DTEND;TZID=Pacific/Auckland:20250430T120000
DTSTAMP:20260421T070329
CREATED:20190313T004743Z
LAST-MODIFIED:20190313T004743Z
UID:16022-1746010800-1746014400@ponsonbycommunity.org.nz
SUMMARY:FREE Seniors Yoga
DESCRIPTION:Ponsonby Community Centre\, the Waitemata Local Board and Four Winds Yoga have joined forces to provide a free yoga class for local seniors. Taught by Iyengar certified Francesca Hopkins from Four Winds Yoga\, the class will focus on strength and balance\, with an individual based approach for those who need help in particular areas.\nNo registration is required to begin with – just turn up! \nWe are now an accrediated Strength and Balance programme through Live Stronger for Longer!
URL:https://ponsonbycommunity.org.nz/event/free-seniors-yoga/2025-04-30/
LOCATION:Freda Stark Hall\, 20 Ponsonby Terrace\, Auckland\, 1011\, New Zealand
ORGANIZER;CN="Ponsonby Community Centre":MAILTO:info@ponsonbycommunity.org.nz
GEO:-36.8502225;174.7421481
X-APPLE-STRUCTURED-LOCATION;VALUE=URI;X-ADDRESS=Freda Stark Hall 20 Ponsonby Terrace Auckland 1011 New Zealand;X-APPLE-RADIUS=500;X-TITLE=20 Ponsonby Terrace:geo:174.7421481,-36.8502225
END:VEVENT
BEGIN:VEVENT
DTSTART;TZID=Pacific/Auckland:20250430T093000
DTEND;TZID=Pacific/Auckland:20250430T110000
DTSTAMP:20260421T070329
CREATED:20190306T224458Z
LAST-MODIFIED:20190306T224458Z
UID:16771-1746005400-1746010800@ponsonbycommunity.org.nz
SUMMARY:Four Winds Yoga
DESCRIPTION:
URL:https://ponsonbycommunity.org.nz/event/four-winds-yoga-beginners-class/2025-04-30/
LOCATION:Freda Stark Hall\, 20 Ponsonby Terrace\, Auckland\, 1011\, New Zealand
ORGANIZER;CN="Suzi Carson":MAILTO:suzi@yoga.net.nz
GEO:-36.8502225;174.7421481
X-APPLE-STRUCTURED-LOCATION;VALUE=URI;X-ADDRESS=Freda Stark Hall 20 Ponsonby Terrace Auckland 1011 New Zealand;X-APPLE-RADIUS=500;X-TITLE=20 Ponsonby Terrace:geo:174.7421481,-36.8502225
END:VEVENT
BEGIN:VEVENT
DTSTART;TZID=Pacific/Auckland:20250429T093000
DTEND;TZID=Pacific/Auckland:20250429T120000
DTSTAMP:20260421T070329
CREATED:20190314T030207Z
LAST-MODIFIED:20250407T003431Z
UID:17250-1745919000-1745928000@ponsonbycommunity.org.nz
SUMMARY:Ponsonby Playgroup
DESCRIPTION:Ponsonby Playgroup provides a relaxed and friendly meeting place for parents/caregivers and a safe environment for free play for preschool children. Playgroup is led by the Coordinator Genevieve Bassett\, who creates different fun activities for the children every week. \nPlaygroup is in the Freda Stark and Johnny Mitchell halls every Tuesday during the school terms – 9am-12pm. \nWe request a donation of $4 per child or $5 for a family. This covers materials for creating and play as well as out Music Man\, Antonio who entertains the children every week. \nPlaygroup does not run during the school holidays
URL:https://ponsonbycommunity.org.nz/event/ponsonby-playgroup-2/2025-04-29/
LOCATION:Freda Stark Hall\, 20 Ponsonby Terrace\, Auckland\, 1011\, New Zealand
ORGANIZER;CN="Ponsonby Community Centre":MAILTO:info@ponsonbycommunity.org.nz
GEO:-36.8502225;174.7421481
X-APPLE-STRUCTURED-LOCATION;VALUE=URI;X-ADDRESS=Freda Stark Hall 20 Ponsonby Terrace Auckland 1011 New Zealand;X-APPLE-RADIUS=500;X-TITLE=20 Ponsonby Terrace:geo:174.7421481,-36.8502225
END:VEVENT
BEGIN:VEVENT
DTSTART;TZID=Pacific/Auckland:20250428T180000
DTEND;TZID=Pacific/Auckland:20250428T193000
DTSTAMP:20260421T070329
CREATED:20190306T224458Z
LAST-MODIFIED:20190306T224458Z
UID:16770-1745863200-1745868600@ponsonbycommunity.org.nz
SUMMARY:Four Winds Yoga
DESCRIPTION:
URL:https://ponsonbycommunity.org.nz/event/four-winds-yoga-beginners-class/2025-04-28/
LOCATION:Freda Stark Hall\, 20 Ponsonby Terrace\, Auckland\, 1011\, New Zealand
ORGANIZER;CN="Suzi Carson":MAILTO:suzi@yoga.net.nz
GEO:-36.8502225;174.7421481
X-APPLE-STRUCTURED-LOCATION;VALUE=URI;X-ADDRESS=Freda Stark Hall 20 Ponsonby Terrace Auckland 1011 New Zealand;X-APPLE-RADIUS=500;X-TITLE=20 Ponsonby Terrace:geo:174.7421481,-36.8502225
END:VEVENT
BEGIN:VEVENT
DTSTART;TZID=Pacific/Auckland:20250428T110000
DTEND;TZID=Pacific/Auckland:20250428T120000
DTSTAMP:20260421T070329
CREATED:20190313T004743Z
LAST-MODIFIED:20190313T004743Z
UID:16008-1745838000-1745841600@ponsonbycommunity.org.nz
SUMMARY:FREE Seniors Yoga
DESCRIPTION:Ponsonby Community Centre\, the Waitemata Local Board and Four Winds Yoga have joined forces to provide a free yoga class for local seniors. Taught by Iyengar certified Francesca Hopkins from Four Winds Yoga\, the class will focus on strength and balance\, with an individual based approach for those who need help in particular areas.\nNo registration is required to begin with – just turn up! \nWe are now an accrediated Strength and Balance programme through Live Stronger for Longer!
URL:https://ponsonbycommunity.org.nz/event/free-seniors-yoga/2025-04-28/
LOCATION:Freda Stark Hall\, 20 Ponsonby Terrace\, Auckland\, 1011\, New Zealand
ORGANIZER;CN="Ponsonby Community Centre":MAILTO:info@ponsonbycommunity.org.nz
GEO:-36.8502225;174.7421481
X-APPLE-STRUCTURED-LOCATION;VALUE=URI;X-ADDRESS=Freda Stark Hall 20 Ponsonby Terrace Auckland 1011 New Zealand;X-APPLE-RADIUS=500;X-TITLE=20 Ponsonby Terrace:geo:174.7421481,-36.8502225
END:VEVENT
BEGIN:VEVENT
DTSTART;TZID=Pacific/Auckland:20250427T090000
DTEND;TZID=Pacific/Auckland:20250427T103000
DTSTAMP:20260421T070329
CREATED:20190306T224458Z
LAST-MODIFIED:20190306T224458Z
UID:16769-1745744400-1745749800@ponsonbycommunity.org.nz
SUMMARY:Four Winds Yoga
DESCRIPTION:
URL:https://ponsonbycommunity.org.nz/event/four-winds-yoga-beginners-class/2025-04-27/
LOCATION:Freda Stark Hall\, 20 Ponsonby Terrace\, Auckland\, 1011\, New Zealand
ORGANIZER;CN="Suzi Carson":MAILTO:suzi@yoga.net.nz
GEO:-36.8502225;174.7421481
X-APPLE-STRUCTURED-LOCATION;VALUE=URI;X-ADDRESS=Freda Stark Hall 20 Ponsonby Terrace Auckland 1011 New Zealand;X-APPLE-RADIUS=500;X-TITLE=20 Ponsonby Terrace:geo:174.7421481,-36.8502225
END:VEVENT
BEGIN:VEVENT
DTSTART;TZID=Pacific/Auckland:20250426T093000
DTEND;TZID=Pacific/Auckland:20250426T110000
DTSTAMP:20260421T070329
CREATED:20190306T224458Z
LAST-MODIFIED:20190306T224458Z
UID:16768-1745659800-1745665200@ponsonbycommunity.org.nz
SUMMARY:Four Winds Yoga
DESCRIPTION:
URL:https://ponsonbycommunity.org.nz/event/four-winds-yoga-beginners-class/2025-04-26/9/
LOCATION:Freda Stark Hall\, 20 Ponsonby Terrace\, Auckland\, 1011\, New Zealand
ORGANIZER;CN="Suzi Carson":MAILTO:suzi@yoga.net.nz
GEO:-36.8502225;174.7421481
X-APPLE-STRUCTURED-LOCATION;VALUE=URI;X-ADDRESS=Freda Stark Hall 20 Ponsonby Terrace Auckland 1011 New Zealand;X-APPLE-RADIUS=500;X-TITLE=20 Ponsonby Terrace:geo:174.7421481,-36.8502225
END:VEVENT
BEGIN:VEVENT
DTSTART;TZID=Pacific/Auckland:20250426T070000
DTEND;TZID=Pacific/Auckland:20250426T083000
DTSTAMP:20260421T070329
CREATED:20190306T224458Z
LAST-MODIFIED:20190306T224458Z
UID:16767-1745650800-1745656200@ponsonbycommunity.org.nz
SUMMARY:Four Winds Yoga
DESCRIPTION:
URL:https://ponsonbycommunity.org.nz/event/four-winds-yoga-beginners-class/2025-04-26/
LOCATION:Freda Stark Hall\, 20 Ponsonby Terrace\, Auckland\, 1011\, New Zealand
ORGANIZER;CN="Suzi Carson":MAILTO:suzi@yoga.net.nz
GEO:-36.8502225;174.7421481
X-APPLE-STRUCTURED-LOCATION;VALUE=URI;X-ADDRESS=Freda Stark Hall 20 Ponsonby Terrace Auckland 1011 New Zealand;X-APPLE-RADIUS=500;X-TITLE=20 Ponsonby Terrace:geo:174.7421481,-36.8502225
END:VEVENT
BEGIN:VEVENT
DTSTART;TZID=Pacific/Auckland:20250425T110000
DTEND;TZID=Pacific/Auckland:20250425T120000
DTSTAMP:20260421T070329
CREATED:20190313T004743Z
LAST-MODIFIED:20190313T004743Z
UID:16982-1745578800-1745582400@ponsonbycommunity.org.nz
SUMMARY:FREE Seniors Yoga
DESCRIPTION:Ponsonby Community Centre\, the Waitemata Local Board and Four Winds Yoga have joined forces to provide a free yoga class for local seniors. Taught by Iyengar certified Francesca Hopkins from Four Winds Yoga\, the class will focus on strength and balance\, with an individual based approach for those who need help in particular areas.\nNo registration is required to begin with – just turn up! \nWe are now an accrediated Strength and Balance programme through Live Stronger for Longer!
URL:https://ponsonbycommunity.org.nz/event/free-seniors-yoga/2025-04-25/
LOCATION:Freda Stark Hall\, 20 Ponsonby Terrace\, Auckland\, 1011\, New Zealand
ORGANIZER;CN="Ponsonby Community Centre":MAILTO:info@ponsonbycommunity.org.nz
GEO:-36.8502225;174.7421481
X-APPLE-STRUCTURED-LOCATION;VALUE=URI;X-ADDRESS=Freda Stark Hall 20 Ponsonby Terrace Auckland 1011 New Zealand;X-APPLE-RADIUS=500;X-TITLE=20 Ponsonby Terrace:geo:174.7421481,-36.8502225
END:VEVENT
BEGIN:VEVENT
DTSTART;TZID=Pacific/Auckland:20250424T180000
DTEND;TZID=Pacific/Auckland:20250424T193000
DTSTAMP:20260421T070329
CREATED:20190306T224458Z
LAST-MODIFIED:20190306T224458Z
UID:16766-1745517600-1745523000@ponsonbycommunity.org.nz
SUMMARY:Four Winds Yoga
DESCRIPTION:
URL:https://ponsonbycommunity.org.nz/event/four-winds-yoga-beginners-class/2025-04-24/
LOCATION:Freda Stark Hall\, 20 Ponsonby Terrace\, Auckland\, 1011\, New Zealand
ORGANIZER;CN="Suzi Carson":MAILTO:suzi@yoga.net.nz
GEO:-36.8502225;174.7421481
X-APPLE-STRUCTURED-LOCATION;VALUE=URI;X-ADDRESS=Freda Stark Hall 20 Ponsonby Terrace Auckland 1011 New Zealand;X-APPLE-RADIUS=500;X-TITLE=20 Ponsonby Terrace:geo:174.7421481,-36.8502225
END:VEVENT
BEGIN:VEVENT
DTSTART;TZID=Pacific/Auckland:20250423T180000
DTEND;TZID=Pacific/Auckland:20250423T190000
DTSTAMP:20260421T070329
CREATED:20190318T003346Z
LAST-MODIFIED:20250407T004751Z
UID:16001-1745431200-1745434800@ponsonbycommunity.org.nz
SUMMARY:Expect Miracles - AA Meditation
DESCRIPTION:Ponsonby Community Centre
URL:https://ponsonbycommunity.org.nz/event/aa-meditation/2025-04-23/
LOCATION:Freda Stark Hall\, 20 Ponsonby Terrace\, Auckland\, 1011\, New Zealand
GEO:-36.8502225;174.7421481
X-APPLE-STRUCTURED-LOCATION;VALUE=URI;X-ADDRESS=Freda Stark Hall 20 Ponsonby Terrace Auckland 1011 New Zealand;X-APPLE-RADIUS=500;X-TITLE=20 Ponsonby Terrace:geo:174.7421481,-36.8502225
END:VEVENT
BEGIN:VEVENT
DTSTART;TZID=Pacific/Auckland:20250423T110000
DTEND;TZID=Pacific/Auckland:20250423T120000
DTSTAMP:20260421T070329
CREATED:20190313T004743Z
LAST-MODIFIED:20190313T004743Z
UID:16000-1745406000-1745409600@ponsonbycommunity.org.nz
SUMMARY:FREE Seniors Yoga
DESCRIPTION:Ponsonby Community Centre\, the Waitemata Local Board and Four Winds Yoga have joined forces to provide a free yoga class for local seniors. Taught by Iyengar certified Francesca Hopkins from Four Winds Yoga\, the class will focus on strength and balance\, with an individual based approach for those who need help in particular areas.\nNo registration is required to begin with – just turn up! \nWe are now an accrediated Strength and Balance programme through Live Stronger for Longer!
URL:https://ponsonbycommunity.org.nz/event/free-seniors-yoga/2025-04-23/
LOCATION:Freda Stark Hall\, 20 Ponsonby Terrace\, Auckland\, 1011\, New Zealand
ORGANIZER;CN="Ponsonby Community Centre":MAILTO:info@ponsonbycommunity.org.nz
GEO:-36.8502225;174.7421481
X-APPLE-STRUCTURED-LOCATION;VALUE=URI;X-ADDRESS=Freda Stark Hall 20 Ponsonby Terrace Auckland 1011 New Zealand;X-APPLE-RADIUS=500;X-TITLE=20 Ponsonby Terrace:geo:174.7421481,-36.8502225
END:VEVENT
BEGIN:VEVENT
DTSTART;TZID=Pacific/Auckland:20250423T093000
DTEND;TZID=Pacific/Auckland:20250423T110000
DTSTAMP:20260421T070329
CREATED:20190306T224458Z
LAST-MODIFIED:20190306T224458Z
UID:16765-1745400600-1745406000@ponsonbycommunity.org.nz
SUMMARY:Four Winds Yoga
DESCRIPTION:
URL:https://ponsonbycommunity.org.nz/event/four-winds-yoga-beginners-class/2025-04-23/
LOCATION:Freda Stark Hall\, 20 Ponsonby Terrace\, Auckland\, 1011\, New Zealand
ORGANIZER;CN="Suzi Carson":MAILTO:suzi@yoga.net.nz
GEO:-36.8502225;174.7421481
X-APPLE-STRUCTURED-LOCATION;VALUE=URI;X-ADDRESS=Freda Stark Hall 20 Ponsonby Terrace Auckland 1011 New Zealand;X-APPLE-RADIUS=500;X-TITLE=20 Ponsonby Terrace:geo:174.7421481,-36.8502225
END:VEVENT
BEGIN:VEVENT
DTSTART;TZID=Pacific/Auckland:20250422T093000
DTEND;TZID=Pacific/Auckland:20250422T120000
DTSTAMP:20260421T070329
CREATED:20190314T030207Z
LAST-MODIFIED:20250407T003431Z
UID:17249-1745314200-1745323200@ponsonbycommunity.org.nz
SUMMARY:Ponsonby Playgroup
DESCRIPTION:Ponsonby Playgroup provides a relaxed and friendly meeting place for parents/caregivers and a safe environment for free play for preschool children. Playgroup is led by the Coordinator Genevieve Bassett\, who creates different fun activities for the children every week. \nPlaygroup is in the Freda Stark and Johnny Mitchell halls every Tuesday during the school terms – 9am-12pm. \nWe request a donation of $4 per child or $5 for a family. This covers materials for creating and play as well as out Music Man\, Antonio who entertains the children every week. \nPlaygroup does not run during the school holidays
URL:https://ponsonbycommunity.org.nz/event/ponsonby-playgroup-2/2025-04-22/
LOCATION:Freda Stark Hall\, 20 Ponsonby Terrace\, Auckland\, 1011\, New Zealand
ORGANIZER;CN="Ponsonby Community Centre":MAILTO:info@ponsonbycommunity.org.nz
GEO:-36.8502225;174.7421481
X-APPLE-STRUCTURED-LOCATION;VALUE=URI;X-ADDRESS=Freda Stark Hall 20 Ponsonby Terrace Auckland 1011 New Zealand;X-APPLE-RADIUS=500;X-TITLE=20 Ponsonby Terrace:geo:174.7421481,-36.8502225
END:VEVENT
BEGIN:VEVENT
DTSTART;TZID=Pacific/Auckland:20250421T180000
DTEND;TZID=Pacific/Auckland:20250421T193000
DTSTAMP:20260421T070329
CREATED:20190306T224458Z
LAST-MODIFIED:20190306T224458Z
UID:16764-1745258400-1745263800@ponsonbycommunity.org.nz
SUMMARY:Four Winds Yoga
DESCRIPTION:
URL:https://ponsonbycommunity.org.nz/event/four-winds-yoga-beginners-class/2025-04-21/
LOCATION:Freda Stark Hall\, 20 Ponsonby Terrace\, Auckland\, 1011\, New Zealand
ORGANIZER;CN="Suzi Carson":MAILTO:suzi@yoga.net.nz
GEO:-36.8502225;174.7421481
X-APPLE-STRUCTURED-LOCATION;VALUE=URI;X-ADDRESS=Freda Stark Hall 20 Ponsonby Terrace Auckland 1011 New Zealand;X-APPLE-RADIUS=500;X-TITLE=20 Ponsonby Terrace:geo:174.7421481,-36.8502225
END:VEVENT
BEGIN:VEVENT
DTSTART;TZID=Pacific/Auckland:20250421T110000
DTEND;TZID=Pacific/Auckland:20250421T120000
DTSTAMP:20260421T070329
CREATED:20190313T004743Z
LAST-MODIFIED:20190313T004743Z
UID:15997-1745233200-1745236800@ponsonbycommunity.org.nz
SUMMARY:FREE Seniors Yoga
DESCRIPTION:Ponsonby Community Centre\, the Waitemata Local Board and Four Winds Yoga have joined forces to provide a free yoga class for local seniors. Taught by Iyengar certified Francesca Hopkins from Four Winds Yoga\, the class will focus on strength and balance\, with an individual based approach for those who need help in particular areas.\nNo registration is required to begin with – just turn up! \nWe are now an accrediated Strength and Balance programme through Live Stronger for Longer!
URL:https://ponsonbycommunity.org.nz/event/free-seniors-yoga/2025-04-21/
LOCATION:Freda Stark Hall\, 20 Ponsonby Terrace\, Auckland\, 1011\, New Zealand
ORGANIZER;CN="Ponsonby Community Centre":MAILTO:info@ponsonbycommunity.org.nz
GEO:-36.8502225;174.7421481
X-APPLE-STRUCTURED-LOCATION;VALUE=URI;X-ADDRESS=Freda Stark Hall 20 Ponsonby Terrace Auckland 1011 New Zealand;X-APPLE-RADIUS=500;X-TITLE=20 Ponsonby Terrace:geo:174.7421481,-36.8502225
END:VEVENT
BEGIN:VEVENT
DTSTART;TZID=Pacific/Auckland:20250420T090000
DTEND;TZID=Pacific/Auckland:20250420T103000
DTSTAMP:20260421T070329
CREATED:20190306T224458Z
LAST-MODIFIED:20190306T224458Z
UID:16763-1745139600-1745145000@ponsonbycommunity.org.nz
SUMMARY:Four Winds Yoga
DESCRIPTION:
URL:https://ponsonbycommunity.org.nz/event/four-winds-yoga-beginners-class/2025-04-20/
LOCATION:Freda Stark Hall\, 20 Ponsonby Terrace\, Auckland\, 1011\, New Zealand
ORGANIZER;CN="Suzi Carson":MAILTO:suzi@yoga.net.nz
GEO:-36.8502225;174.7421481
X-APPLE-STRUCTURED-LOCATION;VALUE=URI;X-ADDRESS=Freda Stark Hall 20 Ponsonby Terrace Auckland 1011 New Zealand;X-APPLE-RADIUS=500;X-TITLE=20 Ponsonby Terrace:geo:174.7421481,-36.8502225
END:VEVENT
BEGIN:VEVENT
DTSTART;TZID=Pacific/Auckland:20250419T093000
DTEND;TZID=Pacific/Auckland:20250419T110000
DTSTAMP:20260421T070329
CREATED:20190306T224458Z
LAST-MODIFIED:20190306T224458Z
UID:16762-1745055000-1745060400@ponsonbycommunity.org.nz
SUMMARY:Four Winds Yoga
DESCRIPTION:
URL:https://ponsonbycommunity.org.nz/event/four-winds-yoga-beginners-class/2025-04-19/8/
LOCATION:Freda Stark Hall\, 20 Ponsonby Terrace\, Auckland\, 1011\, New Zealand
ORGANIZER;CN="Suzi Carson":MAILTO:suzi@yoga.net.nz
GEO:-36.8502225;174.7421481
X-APPLE-STRUCTURED-LOCATION;VALUE=URI;X-ADDRESS=Freda Stark Hall 20 Ponsonby Terrace Auckland 1011 New Zealand;X-APPLE-RADIUS=500;X-TITLE=20 Ponsonby Terrace:geo:174.7421481,-36.8502225
END:VEVENT
BEGIN:VEVENT
DTSTART;TZID=Pacific/Auckland:20250419T070000
DTEND;TZID=Pacific/Auckland:20250419T083000
DTSTAMP:20260421T070329
CREATED:20190306T224458Z
LAST-MODIFIED:20190306T224458Z
UID:16761-1745046000-1745051400@ponsonbycommunity.org.nz
SUMMARY:Four Winds Yoga
DESCRIPTION:
URL:https://ponsonbycommunity.org.nz/event/four-winds-yoga-beginners-class/2025-04-19/
LOCATION:Freda Stark Hall\, 20 Ponsonby Terrace\, Auckland\, 1011\, New Zealand
ORGANIZER;CN="Suzi Carson":MAILTO:suzi@yoga.net.nz
GEO:-36.8502225;174.7421481
X-APPLE-STRUCTURED-LOCATION;VALUE=URI;X-ADDRESS=Freda Stark Hall 20 Ponsonby Terrace Auckland 1011 New Zealand;X-APPLE-RADIUS=500;X-TITLE=20 Ponsonby Terrace:geo:174.7421481,-36.8502225
END:VEVENT
BEGIN:VEVENT
DTSTART;TZID=Pacific/Auckland:20250418T110000
DTEND;TZID=Pacific/Auckland:20250418T120000
DTSTAMP:20260421T070329
CREATED:20190313T004743Z
LAST-MODIFIED:20190313T004743Z
UID:16981-1744974000-1744977600@ponsonbycommunity.org.nz
SUMMARY:FREE Seniors Yoga
DESCRIPTION:Ponsonby Community Centre\, the Waitemata Local Board and Four Winds Yoga have joined forces to provide a free yoga class for local seniors. Taught by Iyengar certified Francesca Hopkins from Four Winds Yoga\, the class will focus on strength and balance\, with an individual based approach for those who need help in particular areas.\nNo registration is required to begin with – just turn up! \nWe are now an accrediated Strength and Balance programme through Live Stronger for Longer!
URL:https://ponsonbycommunity.org.nz/event/free-seniors-yoga/2025-04-18/
LOCATION:Freda Stark Hall\, 20 Ponsonby Terrace\, Auckland\, 1011\, New Zealand
ORGANIZER;CN="Ponsonby Community Centre":MAILTO:info@ponsonbycommunity.org.nz
GEO:-36.8502225;174.7421481
X-APPLE-STRUCTURED-LOCATION;VALUE=URI;X-ADDRESS=Freda Stark Hall 20 Ponsonby Terrace Auckland 1011 New Zealand;X-APPLE-RADIUS=500;X-TITLE=20 Ponsonby Terrace:geo:174.7421481,-36.8502225
END:VEVENT
BEGIN:VEVENT
DTSTART;TZID=Pacific/Auckland:20250417T180000
DTEND;TZID=Pacific/Auckland:20250417T193000
DTSTAMP:20260421T070329
CREATED:20190306T224458Z
LAST-MODIFIED:20190306T224458Z
UID:16760-1744912800-1744918200@ponsonbycommunity.org.nz
SUMMARY:Four Winds Yoga
DESCRIPTION:
URL:https://ponsonbycommunity.org.nz/event/four-winds-yoga-beginners-class/2025-04-17/
LOCATION:Freda Stark Hall\, 20 Ponsonby Terrace\, Auckland\, 1011\, New Zealand
ORGANIZER;CN="Suzi Carson":MAILTO:suzi@yoga.net.nz
GEO:-36.8502225;174.7421481
X-APPLE-STRUCTURED-LOCATION;VALUE=URI;X-ADDRESS=Freda Stark Hall 20 Ponsonby Terrace Auckland 1011 New Zealand;X-APPLE-RADIUS=500;X-TITLE=20 Ponsonby Terrace:geo:174.7421481,-36.8502225
END:VEVENT
BEGIN:VEVENT
DTSTART;TZID=Pacific/Auckland:20250416T180000
DTEND;TZID=Pacific/Auckland:20250416T190000
DTSTAMP:20260421T070329
CREATED:20190318T003346Z
LAST-MODIFIED:20250407T004750Z
UID:15982-1744826400-1744830000@ponsonbycommunity.org.nz
SUMMARY:Expect Miracles - AA Meditation
DESCRIPTION:Ponsonby Community Centre
URL:https://ponsonbycommunity.org.nz/event/aa-meditation/2025-04-16/
LOCATION:Freda Stark Hall\, 20 Ponsonby Terrace\, Auckland\, 1011\, New Zealand
GEO:-36.8502225;174.7421481
X-APPLE-STRUCTURED-LOCATION;VALUE=URI;X-ADDRESS=Freda Stark Hall 20 Ponsonby Terrace Auckland 1011 New Zealand;X-APPLE-RADIUS=500;X-TITLE=20 Ponsonby Terrace:geo:174.7421481,-36.8502225
END:VEVENT
BEGIN:VEVENT
DTSTART;TZID=Pacific/Auckland:20250416T110000
DTEND;TZID=Pacific/Auckland:20250416T120000
DTSTAMP:20260421T070329
CREATED:20190313T004743Z
LAST-MODIFIED:20190313T004743Z
UID:15981-1744801200-1744804800@ponsonbycommunity.org.nz
SUMMARY:FREE Seniors Yoga
DESCRIPTION:Ponsonby Community Centre\, the Waitemata Local Board and Four Winds Yoga have joined forces to provide a free yoga class for local seniors. Taught by Iyengar certified Francesca Hopkins from Four Winds Yoga\, the class will focus on strength and balance\, with an individual based approach for those who need help in particular areas.\nNo registration is required to begin with – just turn up! \nWe are now an accrediated Strength and Balance programme through Live Stronger for Longer!
URL:https://ponsonbycommunity.org.nz/event/free-seniors-yoga/2025-04-16/
LOCATION:Freda Stark Hall\, 20 Ponsonby Terrace\, Auckland\, 1011\, New Zealand
ORGANIZER;CN="Ponsonby Community Centre":MAILTO:info@ponsonbycommunity.org.nz
GEO:-36.8502225;174.7421481
X-APPLE-STRUCTURED-LOCATION;VALUE=URI;X-ADDRESS=Freda Stark Hall 20 Ponsonby Terrace Auckland 1011 New Zealand;X-APPLE-RADIUS=500;X-TITLE=20 Ponsonby Terrace:geo:174.7421481,-36.8502225
END:VEVENT
END:VCALENDAR