BEGIN:VCALENDAR
VERSION:2.0
PRODID:-//Ponsonby Community Centre - ECPv6.15.20//NONSGML v1.0//EN
CALSCALE:GREGORIAN
METHOD:PUBLISH
X-WR-CALNAME:Ponsonby Community Centre
X-ORIGINAL-URL:https://ponsonbycommunity.org.nz
X-WR-CALDESC:Events for Ponsonby Community Centre
REFRESH-INTERVAL;VALUE=DURATION:PT1H
X-Robots-Tag:noindex
X-PUBLISHED-TTL:PT1H
BEGIN:VTIMEZONE
TZID:Pacific/Auckland
BEGIN:STANDARD
TZOFFSETFROM:+1300
TZOFFSETTO:+1200
TZNAME:NZST
DTSTART:20240406T140000
END:STANDARD
BEGIN:DAYLIGHT
TZOFFSETFROM:+1200
TZOFFSETTO:+1300
TZNAME:NZDT
DTSTART:20240928T140000
END:DAYLIGHT
BEGIN:STANDARD
TZOFFSETFROM:+1300
TZOFFSETTO:+1200
TZNAME:NZST
DTSTART:20250405T140000
END:STANDARD
BEGIN:DAYLIGHT
TZOFFSETFROM:+1200
TZOFFSETTO:+1300
TZNAME:NZDT
DTSTART:20250927T140000
END:DAYLIGHT
BEGIN:STANDARD
TZOFFSETFROM:+1300
TZOFFSETTO:+1200
TZNAME:NZST
DTSTART:20260404T140000
END:STANDARD
BEGIN:DAYLIGHT
TZOFFSETFROM:+1200
TZOFFSETTO:+1300
TZNAME:NZDT
DTSTART:20260926T140000
END:DAYLIGHT
END:VTIMEZONE
BEGIN:VEVENT
DTSTART;TZID=Pacific/Auckland:20250517T093000
DTEND;TZID=Pacific/Auckland:20250517T110000
DTSTAMP:20260421T052125
CREATED:20190306T224458Z
LAST-MODIFIED:20190306T224458Z
UID:16786-1747474200-1747479600@ponsonbycommunity.org.nz
SUMMARY:Four Winds Yoga
DESCRIPTION:
URL:https://ponsonbycommunity.org.nz/event/four-winds-yoga-beginners-class/2025-05-17/10/
LOCATION:Freda Stark Hall\, 20 Ponsonby Terrace\, Auckland\, 1011\, New Zealand
ORGANIZER;CN="Suzi Carson":MAILTO:suzi@yoga.net.nz
GEO:-36.8502225;174.7421481
X-APPLE-STRUCTURED-LOCATION;VALUE=URI;X-ADDRESS=Freda Stark Hall 20 Ponsonby Terrace Auckland 1011 New Zealand;X-APPLE-RADIUS=500;X-TITLE=20 Ponsonby Terrace:geo:174.7421481,-36.8502225
END:VEVENT
BEGIN:VEVENT
DTSTART;TZID=Pacific/Auckland:20250517T070000
DTEND;TZID=Pacific/Auckland:20250517T083000
DTSTAMP:20260421T052125
CREATED:20190306T224458Z
LAST-MODIFIED:20190306T224458Z
UID:16785-1747465200-1747470600@ponsonbycommunity.org.nz
SUMMARY:Four Winds Yoga
DESCRIPTION:
URL:https://ponsonbycommunity.org.nz/event/four-winds-yoga-beginners-class/2025-05-17/
LOCATION:Freda Stark Hall\, 20 Ponsonby Terrace\, Auckland\, 1011\, New Zealand
ORGANIZER;CN="Suzi Carson":MAILTO:suzi@yoga.net.nz
GEO:-36.8502225;174.7421481
X-APPLE-STRUCTURED-LOCATION;VALUE=URI;X-ADDRESS=Freda Stark Hall 20 Ponsonby Terrace Auckland 1011 New Zealand;X-APPLE-RADIUS=500;X-TITLE=20 Ponsonby Terrace:geo:174.7421481,-36.8502225
END:VEVENT
BEGIN:VEVENT
DTSTART;TZID=Pacific/Auckland:20250516T110000
DTEND;TZID=Pacific/Auckland:20250516T120000
DTSTAMP:20260421T052125
CREATED:20190313T004743Z
LAST-MODIFIED:20190313T004743Z
UID:16985-1747393200-1747396800@ponsonbycommunity.org.nz
SUMMARY:FREE Seniors Yoga
DESCRIPTION:Ponsonby Community Centre\, the Waitemata Local Board and Four Winds Yoga have joined forces to provide a free yoga class for local seniors. Taught by Iyengar certified Francesca Hopkins from Four Winds Yoga\, the class will focus on strength and balance\, with an individual based approach for those who need help in particular areas.\nNo registration is required to begin with – just turn up! \nWe are now an accrediated Strength and Balance programme through Live Stronger for Longer!
URL:https://ponsonbycommunity.org.nz/event/free-seniors-yoga/2025-05-16/
LOCATION:Freda Stark Hall\, 20 Ponsonby Terrace\, Auckland\, 1011\, New Zealand
ORGANIZER;CN="Ponsonby Community Centre":MAILTO:info@ponsonbycommunity.org.nz
GEO:-36.8502225;174.7421481
X-APPLE-STRUCTURED-LOCATION;VALUE=URI;X-ADDRESS=Freda Stark Hall 20 Ponsonby Terrace Auckland 1011 New Zealand;X-APPLE-RADIUS=500;X-TITLE=20 Ponsonby Terrace:geo:174.7421481,-36.8502225
END:VEVENT
BEGIN:VEVENT
DTSTART;TZID=Pacific/Auckland:20250515T180000
DTEND;TZID=Pacific/Auckland:20250515T193000
DTSTAMP:20260421T052125
CREATED:20190306T224458Z
LAST-MODIFIED:20190306T224458Z
UID:16784-1747332000-1747337400@ponsonbycommunity.org.nz
SUMMARY:Four Winds Yoga
DESCRIPTION:
URL:https://ponsonbycommunity.org.nz/event/four-winds-yoga-beginners-class/2025-05-15/
LOCATION:Freda Stark Hall\, 20 Ponsonby Terrace\, Auckland\, 1011\, New Zealand
ORGANIZER;CN="Suzi Carson":MAILTO:suzi@yoga.net.nz
GEO:-36.8502225;174.7421481
X-APPLE-STRUCTURED-LOCATION;VALUE=URI;X-ADDRESS=Freda Stark Hall 20 Ponsonby Terrace Auckland 1011 New Zealand;X-APPLE-RADIUS=500;X-TITLE=20 Ponsonby Terrace:geo:174.7421481,-36.8502225
END:VEVENT
BEGIN:VEVENT
DTSTART;TZID=Pacific/Auckland:20250514T180000
DTEND;TZID=Pacific/Auckland:20250514T190000
DTSTAMP:20260421T052125
CREATED:20190318T003346Z
LAST-MODIFIED:20250407T004751Z
UID:16048-1747245600-1747249200@ponsonbycommunity.org.nz
SUMMARY:Expect Miracles - AA Meditation
DESCRIPTION:Ponsonby Community Centre
URL:https://ponsonbycommunity.org.nz/event/aa-meditation/2025-05-14/
LOCATION:Freda Stark Hall\, 20 Ponsonby Terrace\, Auckland\, 1011\, New Zealand
GEO:-36.8502225;174.7421481
X-APPLE-STRUCTURED-LOCATION;VALUE=URI;X-ADDRESS=Freda Stark Hall 20 Ponsonby Terrace Auckland 1011 New Zealand;X-APPLE-RADIUS=500;X-TITLE=20 Ponsonby Terrace:geo:174.7421481,-36.8502225
END:VEVENT
BEGIN:VEVENT
DTSTART;TZID=Pacific/Auckland:20250514T110000
DTEND;TZID=Pacific/Auckland:20250514T120000
DTSTAMP:20260421T052125
CREATED:20190313T004743Z
LAST-MODIFIED:20190313T004743Z
UID:16047-1747220400-1747224000@ponsonbycommunity.org.nz
SUMMARY:FREE Seniors Yoga
DESCRIPTION:Ponsonby Community Centre\, the Waitemata Local Board and Four Winds Yoga have joined forces to provide a free yoga class for local seniors. Taught by Iyengar certified Francesca Hopkins from Four Winds Yoga\, the class will focus on strength and balance\, with an individual based approach for those who need help in particular areas.\nNo registration is required to begin with – just turn up! \nWe are now an accrediated Strength and Balance programme through Live Stronger for Longer!
URL:https://ponsonbycommunity.org.nz/event/free-seniors-yoga/2025-05-14/
LOCATION:Freda Stark Hall\, 20 Ponsonby Terrace\, Auckland\, 1011\, New Zealand
ORGANIZER;CN="Ponsonby Community Centre":MAILTO:info@ponsonbycommunity.org.nz
GEO:-36.8502225;174.7421481
X-APPLE-STRUCTURED-LOCATION;VALUE=URI;X-ADDRESS=Freda Stark Hall 20 Ponsonby Terrace Auckland 1011 New Zealand;X-APPLE-RADIUS=500;X-TITLE=20 Ponsonby Terrace:geo:174.7421481,-36.8502225
END:VEVENT
BEGIN:VEVENT
DTSTART;TZID=Pacific/Auckland:20250514T093000
DTEND;TZID=Pacific/Auckland:20250514T110000
DTSTAMP:20260421T052125
CREATED:20190306T224458Z
LAST-MODIFIED:20190306T224458Z
UID:16783-1747215000-1747220400@ponsonbycommunity.org.nz
SUMMARY:Four Winds Yoga
DESCRIPTION:
URL:https://ponsonbycommunity.org.nz/event/four-winds-yoga-beginners-class/2025-05-14/
LOCATION:Freda Stark Hall\, 20 Ponsonby Terrace\, Auckland\, 1011\, New Zealand
ORGANIZER;CN="Suzi Carson":MAILTO:suzi@yoga.net.nz
GEO:-36.8502225;174.7421481
X-APPLE-STRUCTURED-LOCATION;VALUE=URI;X-ADDRESS=Freda Stark Hall 20 Ponsonby Terrace Auckland 1011 New Zealand;X-APPLE-RADIUS=500;X-TITLE=20 Ponsonby Terrace:geo:174.7421481,-36.8502225
END:VEVENT
BEGIN:VEVENT
DTSTART;TZID=Pacific/Auckland:20250513T093000
DTEND;TZID=Pacific/Auckland:20250513T120000
DTSTAMP:20260421T052125
CREATED:20190314T030207Z
LAST-MODIFIED:20250407T003431Z
UID:17252-1747128600-1747137600@ponsonbycommunity.org.nz
SUMMARY:Ponsonby Playgroup
DESCRIPTION:Ponsonby Playgroup provides a relaxed and friendly meeting place for parents/caregivers and a safe environment for free play for preschool children. Playgroup is led by the Coordinator Genevieve Bassett\, who creates different fun activities for the children every week. \nPlaygroup is in the Freda Stark and Johnny Mitchell halls every Tuesday during the school terms – 9am-12pm. \nWe request a donation of $4 per child or $5 for a family. This covers materials for creating and play as well as out Music Man\, Antonio who entertains the children every week. \nPlaygroup does not run during the school holidays
URL:https://ponsonbycommunity.org.nz/event/ponsonby-playgroup-2/2025-05-13/
LOCATION:Freda Stark Hall\, 20 Ponsonby Terrace\, Auckland\, 1011\, New Zealand
ORGANIZER;CN="Ponsonby Community Centre":MAILTO:info@ponsonbycommunity.org.nz
GEO:-36.8502225;174.7421481
X-APPLE-STRUCTURED-LOCATION;VALUE=URI;X-ADDRESS=Freda Stark Hall 20 Ponsonby Terrace Auckland 1011 New Zealand;X-APPLE-RADIUS=500;X-TITLE=20 Ponsonby Terrace:geo:174.7421481,-36.8502225
END:VEVENT
BEGIN:VEVENT
DTSTART;TZID=Pacific/Auckland:20250512T180000
DTEND;TZID=Pacific/Auckland:20250512T193000
DTSTAMP:20260421T052125
CREATED:20190306T224458Z
LAST-MODIFIED:20190306T224458Z
UID:16782-1747072800-1747078200@ponsonbycommunity.org.nz
SUMMARY:Four Winds Yoga
DESCRIPTION:
URL:https://ponsonbycommunity.org.nz/event/four-winds-yoga-beginners-class/2025-05-12/
LOCATION:Freda Stark Hall\, 20 Ponsonby Terrace\, Auckland\, 1011\, New Zealand
ORGANIZER;CN="Suzi Carson":MAILTO:suzi@yoga.net.nz
GEO:-36.8502225;174.7421481
X-APPLE-STRUCTURED-LOCATION;VALUE=URI;X-ADDRESS=Freda Stark Hall 20 Ponsonby Terrace Auckland 1011 New Zealand;X-APPLE-RADIUS=500;X-TITLE=20 Ponsonby Terrace:geo:174.7421481,-36.8502225
END:VEVENT
BEGIN:VEVENT
DTSTART;TZID=Pacific/Auckland:20250512T110000
DTEND;TZID=Pacific/Auckland:20250512T120000
DTSTAMP:20260421T052125
CREATED:20190313T004743Z
LAST-MODIFIED:20190313T004743Z
UID:16044-1747047600-1747051200@ponsonbycommunity.org.nz
SUMMARY:FREE Seniors Yoga
DESCRIPTION:Ponsonby Community Centre\, the Waitemata Local Board and Four Winds Yoga have joined forces to provide a free yoga class for local seniors. Taught by Iyengar certified Francesca Hopkins from Four Winds Yoga\, the class will focus on strength and balance\, with an individual based approach for those who need help in particular areas.\nNo registration is required to begin with – just turn up! \nWe are now an accrediated Strength and Balance programme through Live Stronger for Longer!
URL:https://ponsonbycommunity.org.nz/event/free-seniors-yoga/2025-05-12/
LOCATION:Freda Stark Hall\, 20 Ponsonby Terrace\, Auckland\, 1011\, New Zealand
ORGANIZER;CN="Ponsonby Community Centre":MAILTO:info@ponsonbycommunity.org.nz
GEO:-36.8502225;174.7421481
X-APPLE-STRUCTURED-LOCATION;VALUE=URI;X-ADDRESS=Freda Stark Hall 20 Ponsonby Terrace Auckland 1011 New Zealand;X-APPLE-RADIUS=500;X-TITLE=20 Ponsonby Terrace:geo:174.7421481,-36.8502225
END:VEVENT
BEGIN:VEVENT
DTSTART;TZID=Pacific/Auckland:20250511T090000
DTEND;TZID=Pacific/Auckland:20250511T103000
DTSTAMP:20260421T052125
CREATED:20190306T224458Z
LAST-MODIFIED:20190306T224458Z
UID:16781-1746954000-1746959400@ponsonbycommunity.org.nz
SUMMARY:Four Winds Yoga
DESCRIPTION:
URL:https://ponsonbycommunity.org.nz/event/four-winds-yoga-beginners-class/2025-05-11/
LOCATION:Freda Stark Hall\, 20 Ponsonby Terrace\, Auckland\, 1011\, New Zealand
ORGANIZER;CN="Suzi Carson":MAILTO:suzi@yoga.net.nz
GEO:-36.8502225;174.7421481
X-APPLE-STRUCTURED-LOCATION;VALUE=URI;X-ADDRESS=Freda Stark Hall 20 Ponsonby Terrace Auckland 1011 New Zealand;X-APPLE-RADIUS=500;X-TITLE=20 Ponsonby Terrace:geo:174.7421481,-36.8502225
END:VEVENT
BEGIN:VEVENT
DTSTART;TZID=Pacific/Auckland:20250510T093000
DTEND;TZID=Pacific/Auckland:20250510T110000
DTSTAMP:20260421T052125
CREATED:20190306T224458Z
LAST-MODIFIED:20190306T224458Z
UID:16780-1746869400-1746874800@ponsonbycommunity.org.nz
SUMMARY:Four Winds Yoga
DESCRIPTION:
URL:https://ponsonbycommunity.org.nz/event/four-winds-yoga-beginners-class/2025-05-10/10/
LOCATION:Freda Stark Hall\, 20 Ponsonby Terrace\, Auckland\, 1011\, New Zealand
ORGANIZER;CN="Suzi Carson":MAILTO:suzi@yoga.net.nz
GEO:-36.8502225;174.7421481
X-APPLE-STRUCTURED-LOCATION;VALUE=URI;X-ADDRESS=Freda Stark Hall 20 Ponsonby Terrace Auckland 1011 New Zealand;X-APPLE-RADIUS=500;X-TITLE=20 Ponsonby Terrace:geo:174.7421481,-36.8502225
END:VEVENT
BEGIN:VEVENT
DTSTART;TZID=Pacific/Auckland:20250510T070000
DTEND;TZID=Pacific/Auckland:20250510T083000
DTSTAMP:20260421T052125
CREATED:20190306T224458Z
LAST-MODIFIED:20190306T224458Z
UID:16779-1746860400-1746865800@ponsonbycommunity.org.nz
SUMMARY:Four Winds Yoga
DESCRIPTION:
URL:https://ponsonbycommunity.org.nz/event/four-winds-yoga-beginners-class/2025-05-10/
LOCATION:Freda Stark Hall\, 20 Ponsonby Terrace\, Auckland\, 1011\, New Zealand
ORGANIZER;CN="Suzi Carson":MAILTO:suzi@yoga.net.nz
GEO:-36.8502225;174.7421481
X-APPLE-STRUCTURED-LOCATION;VALUE=URI;X-ADDRESS=Freda Stark Hall 20 Ponsonby Terrace Auckland 1011 New Zealand;X-APPLE-RADIUS=500;X-TITLE=20 Ponsonby Terrace:geo:174.7421481,-36.8502225
END:VEVENT
BEGIN:VEVENT
DTSTART;TZID=Pacific/Auckland:20250509T110000
DTEND;TZID=Pacific/Auckland:20250509T120000
DTSTAMP:20260421T052125
CREATED:20190313T004743Z
LAST-MODIFIED:20190313T004743Z
UID:16984-1746788400-1746792000@ponsonbycommunity.org.nz
SUMMARY:FREE Seniors Yoga
DESCRIPTION:Ponsonby Community Centre\, the Waitemata Local Board and Four Winds Yoga have joined forces to provide a free yoga class for local seniors. Taught by Iyengar certified Francesca Hopkins from Four Winds Yoga\, the class will focus on strength and balance\, with an individual based approach for those who need help in particular areas.\nNo registration is required to begin with – just turn up! \nWe are now an accrediated Strength and Balance programme through Live Stronger for Longer!
URL:https://ponsonbycommunity.org.nz/event/free-seniors-yoga/2025-05-09/
LOCATION:Freda Stark Hall\, 20 Ponsonby Terrace\, Auckland\, 1011\, New Zealand
ORGANIZER;CN="Ponsonby Community Centre":MAILTO:info@ponsonbycommunity.org.nz
GEO:-36.8502225;174.7421481
X-APPLE-STRUCTURED-LOCATION;VALUE=URI;X-ADDRESS=Freda Stark Hall 20 Ponsonby Terrace Auckland 1011 New Zealand;X-APPLE-RADIUS=500;X-TITLE=20 Ponsonby Terrace:geo:174.7421481,-36.8502225
END:VEVENT
BEGIN:VEVENT
DTSTART;TZID=Pacific/Auckland:20250508T180000
DTEND;TZID=Pacific/Auckland:20250508T193000
DTSTAMP:20260421T052125
CREATED:20190306T224458Z
LAST-MODIFIED:20190306T224458Z
UID:16778-1746727200-1746732600@ponsonbycommunity.org.nz
SUMMARY:Four Winds Yoga
DESCRIPTION:
URL:https://ponsonbycommunity.org.nz/event/four-winds-yoga-beginners-class/2025-05-08/
LOCATION:Freda Stark Hall\, 20 Ponsonby Terrace\, Auckland\, 1011\, New Zealand
ORGANIZER;CN="Suzi Carson":MAILTO:suzi@yoga.net.nz
GEO:-36.8502225;174.7421481
X-APPLE-STRUCTURED-LOCATION;VALUE=URI;X-ADDRESS=Freda Stark Hall 20 Ponsonby Terrace Auckland 1011 New Zealand;X-APPLE-RADIUS=500;X-TITLE=20 Ponsonby Terrace:geo:174.7421481,-36.8502225
END:VEVENT
BEGIN:VEVENT
DTSTART;TZID=Pacific/Auckland:20250507T180000
DTEND;TZID=Pacific/Auckland:20250507T190000
DTSTAMP:20260421T052125
CREATED:20190318T003346Z
LAST-MODIFIED:20250407T004751Z
UID:16035-1746640800-1746644400@ponsonbycommunity.org.nz
SUMMARY:Expect Miracles - AA Meditation
DESCRIPTION:Ponsonby Community Centre
URL:https://ponsonbycommunity.org.nz/event/aa-meditation/2025-05-07/
LOCATION:Freda Stark Hall\, 20 Ponsonby Terrace\, Auckland\, 1011\, New Zealand
GEO:-36.8502225;174.7421481
X-APPLE-STRUCTURED-LOCATION;VALUE=URI;X-ADDRESS=Freda Stark Hall 20 Ponsonby Terrace Auckland 1011 New Zealand;X-APPLE-RADIUS=500;X-TITLE=20 Ponsonby Terrace:geo:174.7421481,-36.8502225
END:VEVENT
BEGIN:VEVENT
DTSTART;TZID=Pacific/Auckland:20250507T110000
DTEND;TZID=Pacific/Auckland:20250507T120000
DTSTAMP:20260421T052125
CREATED:20190313T004743Z
LAST-MODIFIED:20190313T004743Z
UID:16034-1746615600-1746619200@ponsonbycommunity.org.nz
SUMMARY:FREE Seniors Yoga
DESCRIPTION:Ponsonby Community Centre\, the Waitemata Local Board and Four Winds Yoga have joined forces to provide a free yoga class for local seniors. Taught by Iyengar certified Francesca Hopkins from Four Winds Yoga\, the class will focus on strength and balance\, with an individual based approach for those who need help in particular areas.\nNo registration is required to begin with – just turn up! \nWe are now an accrediated Strength and Balance programme through Live Stronger for Longer!
URL:https://ponsonbycommunity.org.nz/event/free-seniors-yoga/2025-05-07/
LOCATION:Freda Stark Hall\, 20 Ponsonby Terrace\, Auckland\, 1011\, New Zealand
ORGANIZER;CN="Ponsonby Community Centre":MAILTO:info@ponsonbycommunity.org.nz
GEO:-36.8502225;174.7421481
X-APPLE-STRUCTURED-LOCATION;VALUE=URI;X-ADDRESS=Freda Stark Hall 20 Ponsonby Terrace Auckland 1011 New Zealand;X-APPLE-RADIUS=500;X-TITLE=20 Ponsonby Terrace:geo:174.7421481,-36.8502225
END:VEVENT
BEGIN:VEVENT
DTSTART;TZID=Pacific/Auckland:20250507T093000
DTEND;TZID=Pacific/Auckland:20250507T110000
DTSTAMP:20260421T052125
CREATED:20190306T224458Z
LAST-MODIFIED:20190306T224458Z
UID:16777-1746610200-1746615600@ponsonbycommunity.org.nz
SUMMARY:Four Winds Yoga
DESCRIPTION:
URL:https://ponsonbycommunity.org.nz/event/four-winds-yoga-beginners-class/2025-05-07/
LOCATION:Freda Stark Hall\, 20 Ponsonby Terrace\, Auckland\, 1011\, New Zealand
ORGANIZER;CN="Suzi Carson":MAILTO:suzi@yoga.net.nz
GEO:-36.8502225;174.7421481
X-APPLE-STRUCTURED-LOCATION;VALUE=URI;X-ADDRESS=Freda Stark Hall 20 Ponsonby Terrace Auckland 1011 New Zealand;X-APPLE-RADIUS=500;X-TITLE=20 Ponsonby Terrace:geo:174.7421481,-36.8502225
END:VEVENT
BEGIN:VEVENT
DTSTART;TZID=Pacific/Auckland:20250506T093000
DTEND;TZID=Pacific/Auckland:20250506T120000
DTSTAMP:20260421T052125
CREATED:20190314T030207Z
LAST-MODIFIED:20250407T003431Z
UID:17251-1746523800-1746532800@ponsonbycommunity.org.nz
SUMMARY:Ponsonby Playgroup
DESCRIPTION:Ponsonby Playgroup provides a relaxed and friendly meeting place for parents/caregivers and a safe environment for free play for preschool children. Playgroup is led by the Coordinator Genevieve Bassett\, who creates different fun activities for the children every week. \nPlaygroup is in the Freda Stark and Johnny Mitchell halls every Tuesday during the school terms – 9am-12pm. \nWe request a donation of $4 per child or $5 for a family. This covers materials for creating and play as well as out Music Man\, Antonio who entertains the children every week. \nPlaygroup does not run during the school holidays
URL:https://ponsonbycommunity.org.nz/event/ponsonby-playgroup-2/2025-05-06/
LOCATION:Freda Stark Hall\, 20 Ponsonby Terrace\, Auckland\, 1011\, New Zealand
ORGANIZER;CN="Ponsonby Community Centre":MAILTO:info@ponsonbycommunity.org.nz
GEO:-36.8502225;174.7421481
X-APPLE-STRUCTURED-LOCATION;VALUE=URI;X-ADDRESS=Freda Stark Hall 20 Ponsonby Terrace Auckland 1011 New Zealand;X-APPLE-RADIUS=500;X-TITLE=20 Ponsonby Terrace:geo:174.7421481,-36.8502225
END:VEVENT
BEGIN:VEVENT
DTSTART;TZID=Pacific/Auckland:20250505T180000
DTEND;TZID=Pacific/Auckland:20250505T193000
DTSTAMP:20260421T052125
CREATED:20190306T224458Z
LAST-MODIFIED:20190306T224458Z
UID:16776-1746468000-1746473400@ponsonbycommunity.org.nz
SUMMARY:Four Winds Yoga
DESCRIPTION:
URL:https://ponsonbycommunity.org.nz/event/four-winds-yoga-beginners-class/2025-05-05/
LOCATION:Freda Stark Hall\, 20 Ponsonby Terrace\, Auckland\, 1011\, New Zealand
ORGANIZER;CN="Suzi Carson":MAILTO:suzi@yoga.net.nz
GEO:-36.8502225;174.7421481
X-APPLE-STRUCTURED-LOCATION;VALUE=URI;X-ADDRESS=Freda Stark Hall 20 Ponsonby Terrace Auckland 1011 New Zealand;X-APPLE-RADIUS=500;X-TITLE=20 Ponsonby Terrace:geo:174.7421481,-36.8502225
END:VEVENT
BEGIN:VEVENT
DTSTART;TZID=Pacific/Auckland:20250505T110000
DTEND;TZID=Pacific/Auckland:20250505T120000
DTSTAMP:20260421T052125
CREATED:20190313T004743Z
LAST-MODIFIED:20190313T004743Z
UID:16029-1746442800-1746446400@ponsonbycommunity.org.nz
SUMMARY:FREE Seniors Yoga
DESCRIPTION:Ponsonby Community Centre\, the Waitemata Local Board and Four Winds Yoga have joined forces to provide a free yoga class for local seniors. Taught by Iyengar certified Francesca Hopkins from Four Winds Yoga\, the class will focus on strength and balance\, with an individual based approach for those who need help in particular areas.\nNo registration is required to begin with – just turn up! \nWe are now an accrediated Strength and Balance programme through Live Stronger for Longer!
URL:https://ponsonbycommunity.org.nz/event/free-seniors-yoga/2025-05-05/
LOCATION:Freda Stark Hall\, 20 Ponsonby Terrace\, Auckland\, 1011\, New Zealand
ORGANIZER;CN="Ponsonby Community Centre":MAILTO:info@ponsonbycommunity.org.nz
GEO:-36.8502225;174.7421481
X-APPLE-STRUCTURED-LOCATION;VALUE=URI;X-ADDRESS=Freda Stark Hall 20 Ponsonby Terrace Auckland 1011 New Zealand;X-APPLE-RADIUS=500;X-TITLE=20 Ponsonby Terrace:geo:174.7421481,-36.8502225
END:VEVENT
BEGIN:VEVENT
DTSTART;TZID=Pacific/Auckland:20250504T090000
DTEND;TZID=Pacific/Auckland:20250504T103000
DTSTAMP:20260421T052125
CREATED:20190306T224458Z
LAST-MODIFIED:20190306T224458Z
UID:16775-1746349200-1746354600@ponsonbycommunity.org.nz
SUMMARY:Four Winds Yoga
DESCRIPTION:
URL:https://ponsonbycommunity.org.nz/event/four-winds-yoga-beginners-class/2025-05-04/
LOCATION:Freda Stark Hall\, 20 Ponsonby Terrace\, Auckland\, 1011\, New Zealand
ORGANIZER;CN="Suzi Carson":MAILTO:suzi@yoga.net.nz
GEO:-36.8502225;174.7421481
X-APPLE-STRUCTURED-LOCATION;VALUE=URI;X-ADDRESS=Freda Stark Hall 20 Ponsonby Terrace Auckland 1011 New Zealand;X-APPLE-RADIUS=500;X-TITLE=20 Ponsonby Terrace:geo:174.7421481,-36.8502225
END:VEVENT
BEGIN:VEVENT
DTSTART;TZID=Pacific/Auckland:20250503T093000
DTEND;TZID=Pacific/Auckland:20250503T110000
DTSTAMP:20260421T052125
CREATED:20190306T224458Z
LAST-MODIFIED:20190306T224458Z
UID:16774-1746264600-1746270000@ponsonbycommunity.org.nz
SUMMARY:Four Winds Yoga
DESCRIPTION:
URL:https://ponsonbycommunity.org.nz/event/four-winds-yoga-beginners-class/2025-05-03/10/
LOCATION:Freda Stark Hall\, 20 Ponsonby Terrace\, Auckland\, 1011\, New Zealand
ORGANIZER;CN="Suzi Carson":MAILTO:suzi@yoga.net.nz
GEO:-36.8502225;174.7421481
X-APPLE-STRUCTURED-LOCATION;VALUE=URI;X-ADDRESS=Freda Stark Hall 20 Ponsonby Terrace Auckland 1011 New Zealand;X-APPLE-RADIUS=500;X-TITLE=20 Ponsonby Terrace:geo:174.7421481,-36.8502225
END:VEVENT
BEGIN:VEVENT
DTSTART;TZID=Pacific/Auckland:20250503T070000
DTEND;TZID=Pacific/Auckland:20250503T083000
DTSTAMP:20260421T052125
CREATED:20190306T224458Z
LAST-MODIFIED:20190306T224458Z
UID:16773-1746255600-1746261000@ponsonbycommunity.org.nz
SUMMARY:Four Winds Yoga
DESCRIPTION:
URL:https://ponsonbycommunity.org.nz/event/four-winds-yoga-beginners-class/2025-05-03/
LOCATION:Freda Stark Hall\, 20 Ponsonby Terrace\, Auckland\, 1011\, New Zealand
ORGANIZER;CN="Suzi Carson":MAILTO:suzi@yoga.net.nz
GEO:-36.8502225;174.7421481
X-APPLE-STRUCTURED-LOCATION;VALUE=URI;X-ADDRESS=Freda Stark Hall 20 Ponsonby Terrace Auckland 1011 New Zealand;X-APPLE-RADIUS=500;X-TITLE=20 Ponsonby Terrace:geo:174.7421481,-36.8502225
END:VEVENT
BEGIN:VEVENT
DTSTART;TZID=Pacific/Auckland:20250502T110000
DTEND;TZID=Pacific/Auckland:20250502T120000
DTSTAMP:20260421T052125
CREATED:20190313T004743Z
LAST-MODIFIED:20190313T004743Z
UID:16983-1746183600-1746187200@ponsonbycommunity.org.nz
SUMMARY:FREE Seniors Yoga
DESCRIPTION:Ponsonby Community Centre\, the Waitemata Local Board and Four Winds Yoga have joined forces to provide a free yoga class for local seniors. Taught by Iyengar certified Francesca Hopkins from Four Winds Yoga\, the class will focus on strength and balance\, with an individual based approach for those who need help in particular areas.\nNo registration is required to begin with – just turn up! \nWe are now an accrediated Strength and Balance programme through Live Stronger for Longer!
URL:https://ponsonbycommunity.org.nz/event/free-seniors-yoga/2025-05-02/
LOCATION:Freda Stark Hall\, 20 Ponsonby Terrace\, Auckland\, 1011\, New Zealand
ORGANIZER;CN="Ponsonby Community Centre":MAILTO:info@ponsonbycommunity.org.nz
GEO:-36.8502225;174.7421481
X-APPLE-STRUCTURED-LOCATION;VALUE=URI;X-ADDRESS=Freda Stark Hall 20 Ponsonby Terrace Auckland 1011 New Zealand;X-APPLE-RADIUS=500;X-TITLE=20 Ponsonby Terrace:geo:174.7421481,-36.8502225
END:VEVENT
BEGIN:VEVENT
DTSTART;TZID=Pacific/Auckland:20250501T180000
DTEND;TZID=Pacific/Auckland:20250501T193000
DTSTAMP:20260421T052125
CREATED:20190306T224458Z
LAST-MODIFIED:20190306T224458Z
UID:16772-1746122400-1746127800@ponsonbycommunity.org.nz
SUMMARY:Four Winds Yoga
DESCRIPTION:
URL:https://ponsonbycommunity.org.nz/event/four-winds-yoga-beginners-class/2025-05-01/
LOCATION:Freda Stark Hall\, 20 Ponsonby Terrace\, Auckland\, 1011\, New Zealand
ORGANIZER;CN="Suzi Carson":MAILTO:suzi@yoga.net.nz
GEO:-36.8502225;174.7421481
X-APPLE-STRUCTURED-LOCATION;VALUE=URI;X-ADDRESS=Freda Stark Hall 20 Ponsonby Terrace Auckland 1011 New Zealand;X-APPLE-RADIUS=500;X-TITLE=20 Ponsonby Terrace:geo:174.7421481,-36.8502225
END:VEVENT
BEGIN:VEVENT
DTSTART;TZID=Pacific/Auckland:20250430T180000
DTEND;TZID=Pacific/Auckland:20250430T190000
DTSTAMP:20260421T052125
CREATED:20190318T003346Z
LAST-MODIFIED:20250407T004751Z
UID:16023-1746036000-1746039600@ponsonbycommunity.org.nz
SUMMARY:Expect Miracles - AA Meditation
DESCRIPTION:Ponsonby Community Centre
URL:https://ponsonbycommunity.org.nz/event/aa-meditation/2025-04-30/
LOCATION:Freda Stark Hall\, 20 Ponsonby Terrace\, Auckland\, 1011\, New Zealand
GEO:-36.8502225;174.7421481
X-APPLE-STRUCTURED-LOCATION;VALUE=URI;X-ADDRESS=Freda Stark Hall 20 Ponsonby Terrace Auckland 1011 New Zealand;X-APPLE-RADIUS=500;X-TITLE=20 Ponsonby Terrace:geo:174.7421481,-36.8502225
END:VEVENT
BEGIN:VEVENT
DTSTART;TZID=Pacific/Auckland:20250430T110000
DTEND;TZID=Pacific/Auckland:20250430T120000
DTSTAMP:20260421T052125
CREATED:20190313T004743Z
LAST-MODIFIED:20190313T004743Z
UID:16022-1746010800-1746014400@ponsonbycommunity.org.nz
SUMMARY:FREE Seniors Yoga
DESCRIPTION:Ponsonby Community Centre\, the Waitemata Local Board and Four Winds Yoga have joined forces to provide a free yoga class for local seniors. Taught by Iyengar certified Francesca Hopkins from Four Winds Yoga\, the class will focus on strength and balance\, with an individual based approach for those who need help in particular areas.\nNo registration is required to begin with – just turn up! \nWe are now an accrediated Strength and Balance programme through Live Stronger for Longer!
URL:https://ponsonbycommunity.org.nz/event/free-seniors-yoga/2025-04-30/
LOCATION:Freda Stark Hall\, 20 Ponsonby Terrace\, Auckland\, 1011\, New Zealand
ORGANIZER;CN="Ponsonby Community Centre":MAILTO:info@ponsonbycommunity.org.nz
GEO:-36.8502225;174.7421481
X-APPLE-STRUCTURED-LOCATION;VALUE=URI;X-ADDRESS=Freda Stark Hall 20 Ponsonby Terrace Auckland 1011 New Zealand;X-APPLE-RADIUS=500;X-TITLE=20 Ponsonby Terrace:geo:174.7421481,-36.8502225
END:VEVENT
BEGIN:VEVENT
DTSTART;TZID=Pacific/Auckland:20250430T093000
DTEND;TZID=Pacific/Auckland:20250430T110000
DTSTAMP:20260421T052125
CREATED:20190306T224458Z
LAST-MODIFIED:20190306T224458Z
UID:16771-1746005400-1746010800@ponsonbycommunity.org.nz
SUMMARY:Four Winds Yoga
DESCRIPTION:
URL:https://ponsonbycommunity.org.nz/event/four-winds-yoga-beginners-class/2025-04-30/
LOCATION:Freda Stark Hall\, 20 Ponsonby Terrace\, Auckland\, 1011\, New Zealand
ORGANIZER;CN="Suzi Carson":MAILTO:suzi@yoga.net.nz
GEO:-36.8502225;174.7421481
X-APPLE-STRUCTURED-LOCATION;VALUE=URI;X-ADDRESS=Freda Stark Hall 20 Ponsonby Terrace Auckland 1011 New Zealand;X-APPLE-RADIUS=500;X-TITLE=20 Ponsonby Terrace:geo:174.7421481,-36.8502225
END:VEVENT
BEGIN:VEVENT
DTSTART;TZID=Pacific/Auckland:20250429T093000
DTEND;TZID=Pacific/Auckland:20250429T120000
DTSTAMP:20260421T052125
CREATED:20190314T030207Z
LAST-MODIFIED:20250407T003431Z
UID:17250-1745919000-1745928000@ponsonbycommunity.org.nz
SUMMARY:Ponsonby Playgroup
DESCRIPTION:Ponsonby Playgroup provides a relaxed and friendly meeting place for parents/caregivers and a safe environment for free play for preschool children. Playgroup is led by the Coordinator Genevieve Bassett\, who creates different fun activities for the children every week. \nPlaygroup is in the Freda Stark and Johnny Mitchell halls every Tuesday during the school terms – 9am-12pm. \nWe request a donation of $4 per child or $5 for a family. This covers materials for creating and play as well as out Music Man\, Antonio who entertains the children every week. \nPlaygroup does not run during the school holidays
URL:https://ponsonbycommunity.org.nz/event/ponsonby-playgroup-2/2025-04-29/
LOCATION:Freda Stark Hall\, 20 Ponsonby Terrace\, Auckland\, 1011\, New Zealand
ORGANIZER;CN="Ponsonby Community Centre":MAILTO:info@ponsonbycommunity.org.nz
GEO:-36.8502225;174.7421481
X-APPLE-STRUCTURED-LOCATION;VALUE=URI;X-ADDRESS=Freda Stark Hall 20 Ponsonby Terrace Auckland 1011 New Zealand;X-APPLE-RADIUS=500;X-TITLE=20 Ponsonby Terrace:geo:174.7421481,-36.8502225
END:VEVENT
END:VCALENDAR