BEGIN:VCALENDAR
VERSION:2.0
PRODID:-//Ponsonby Community Centre - ECPv6.15.20//NONSGML v1.0//EN
CALSCALE:GREGORIAN
METHOD:PUBLISH
X-WR-CALNAME:Ponsonby Community Centre
X-ORIGINAL-URL:https://ponsonbycommunity.org.nz
X-WR-CALDESC:Events for Ponsonby Community Centre
REFRESH-INTERVAL;VALUE=DURATION:PT1H
X-Robots-Tag:noindex
X-PUBLISHED-TTL:PT1H
BEGIN:VTIMEZONE
TZID:Pacific/Auckland
BEGIN:STANDARD
TZOFFSETFROM:+1300
TZOFFSETTO:+1200
TZNAME:NZST
DTSTART:20240406T140000
END:STANDARD
BEGIN:DAYLIGHT
TZOFFSETFROM:+1200
TZOFFSETTO:+1300
TZNAME:NZDT
DTSTART:20240928T140000
END:DAYLIGHT
BEGIN:STANDARD
TZOFFSETFROM:+1300
TZOFFSETTO:+1200
TZNAME:NZST
DTSTART:20250405T140000
END:STANDARD
BEGIN:DAYLIGHT
TZOFFSETFROM:+1200
TZOFFSETTO:+1300
TZNAME:NZDT
DTSTART:20250927T140000
END:DAYLIGHT
BEGIN:STANDARD
TZOFFSETFROM:+1300
TZOFFSETTO:+1200
TZNAME:NZST
DTSTART:20260404T140000
END:STANDARD
BEGIN:DAYLIGHT
TZOFFSETFROM:+1200
TZOFFSETTO:+1300
TZNAME:NZDT
DTSTART:20260926T140000
END:DAYLIGHT
END:VTIMEZONE
BEGIN:VEVENT
DTSTART;TZID=Pacific/Auckland:20250530T110000
DTEND;TZID=Pacific/Auckland:20250530T120000
DTSTAMP:20260421T034843
CREATED:20190313T004743Z
LAST-MODIFIED:20190313T004743Z
UID:16987-1748602800-1748606400@ponsonbycommunity.org.nz
SUMMARY:FREE Seniors Yoga
DESCRIPTION:Ponsonby Community Centre\, the Waitemata Local Board and Four Winds Yoga have joined forces to provide a free yoga class for local seniors. Taught by Iyengar certified Francesca Hopkins from Four Winds Yoga\, the class will focus on strength and balance\, with an individual based approach for those who need help in particular areas.\nNo registration is required to begin with – just turn up! \nWe are now an accrediated Strength and Balance programme through Live Stronger for Longer!
URL:https://ponsonbycommunity.org.nz/event/free-seniors-yoga/2025-05-30/
LOCATION:Freda Stark Hall\, 20 Ponsonby Terrace\, Auckland\, 1011\, New Zealand
ORGANIZER;CN="Ponsonby Community Centre":MAILTO:info@ponsonbycommunity.org.nz
GEO:-36.8502225;174.7421481
X-APPLE-STRUCTURED-LOCATION;VALUE=URI;X-ADDRESS=Freda Stark Hall 20 Ponsonby Terrace Auckland 1011 New Zealand;X-APPLE-RADIUS=500;X-TITLE=20 Ponsonby Terrace:geo:174.7421481,-36.8502225
END:VEVENT
BEGIN:VEVENT
DTSTART;TZID=Pacific/Auckland:20250529T180000
DTEND;TZID=Pacific/Auckland:20250529T193000
DTSTAMP:20260421T034843
CREATED:20190306T224458Z
LAST-MODIFIED:20190306T224458Z
UID:16796-1748541600-1748547000@ponsonbycommunity.org.nz
SUMMARY:Four Winds Yoga
DESCRIPTION:
URL:https://ponsonbycommunity.org.nz/event/four-winds-yoga-beginners-class/2025-05-29/
LOCATION:Freda Stark Hall\, 20 Ponsonby Terrace\, Auckland\, 1011\, New Zealand
ORGANIZER;CN="Suzi Carson":MAILTO:suzi@yoga.net.nz
GEO:-36.8502225;174.7421481
X-APPLE-STRUCTURED-LOCATION;VALUE=URI;X-ADDRESS=Freda Stark Hall 20 Ponsonby Terrace Auckland 1011 New Zealand;X-APPLE-RADIUS=500;X-TITLE=20 Ponsonby Terrace:geo:174.7421481,-36.8502225
END:VEVENT
BEGIN:VEVENT
DTSTART;TZID=Pacific/Auckland:20250528T180000
DTEND;TZID=Pacific/Auckland:20250528T190000
DTSTAMP:20260421T034843
CREATED:20190318T003346Z
LAST-MODIFIED:20250407T004751Z
UID:16083-1748455200-1748458800@ponsonbycommunity.org.nz
SUMMARY:Expect Miracles - AA Meditation
DESCRIPTION:Ponsonby Community Centre
URL:https://ponsonbycommunity.org.nz/event/aa-meditation/2025-05-28/
LOCATION:Freda Stark Hall\, 20 Ponsonby Terrace\, Auckland\, 1011\, New Zealand
GEO:-36.8502225;174.7421481
X-APPLE-STRUCTURED-LOCATION;VALUE=URI;X-ADDRESS=Freda Stark Hall 20 Ponsonby Terrace Auckland 1011 New Zealand;X-APPLE-RADIUS=500;X-TITLE=20 Ponsonby Terrace:geo:174.7421481,-36.8502225
END:VEVENT
BEGIN:VEVENT
DTSTART;TZID=Pacific/Auckland:20250528T110000
DTEND;TZID=Pacific/Auckland:20250528T120000
DTSTAMP:20260421T034843
CREATED:20190313T004743Z
LAST-MODIFIED:20190313T004743Z
UID:16082-1748430000-1748433600@ponsonbycommunity.org.nz
SUMMARY:FREE Seniors Yoga
DESCRIPTION:Ponsonby Community Centre\, the Waitemata Local Board and Four Winds Yoga have joined forces to provide a free yoga class for local seniors. Taught by Iyengar certified Francesca Hopkins from Four Winds Yoga\, the class will focus on strength and balance\, with an individual based approach for those who need help in particular areas.\nNo registration is required to begin with – just turn up! \nWe are now an accrediated Strength and Balance programme through Live Stronger for Longer!
URL:https://ponsonbycommunity.org.nz/event/free-seniors-yoga/2025-05-28/
LOCATION:Freda Stark Hall\, 20 Ponsonby Terrace\, Auckland\, 1011\, New Zealand
ORGANIZER;CN="Ponsonby Community Centre":MAILTO:info@ponsonbycommunity.org.nz
GEO:-36.8502225;174.7421481
X-APPLE-STRUCTURED-LOCATION;VALUE=URI;X-ADDRESS=Freda Stark Hall 20 Ponsonby Terrace Auckland 1011 New Zealand;X-APPLE-RADIUS=500;X-TITLE=20 Ponsonby Terrace:geo:174.7421481,-36.8502225
END:VEVENT
BEGIN:VEVENT
DTSTART;TZID=Pacific/Auckland:20250528T093000
DTEND;TZID=Pacific/Auckland:20250528T110000
DTSTAMP:20260421T034843
CREATED:20190306T224458Z
LAST-MODIFIED:20190306T224458Z
UID:16795-1748424600-1748430000@ponsonbycommunity.org.nz
SUMMARY:Four Winds Yoga
DESCRIPTION:
URL:https://ponsonbycommunity.org.nz/event/four-winds-yoga-beginners-class/2025-05-28/
LOCATION:Freda Stark Hall\, 20 Ponsonby Terrace\, Auckland\, 1011\, New Zealand
ORGANIZER;CN="Suzi Carson":MAILTO:suzi@yoga.net.nz
GEO:-36.8502225;174.7421481
X-APPLE-STRUCTURED-LOCATION;VALUE=URI;X-ADDRESS=Freda Stark Hall 20 Ponsonby Terrace Auckland 1011 New Zealand;X-APPLE-RADIUS=500;X-TITLE=20 Ponsonby Terrace:geo:174.7421481,-36.8502225
END:VEVENT
BEGIN:VEVENT
DTSTART;TZID=Pacific/Auckland:20250527T093000
DTEND;TZID=Pacific/Auckland:20250527T120000
DTSTAMP:20260421T034843
CREATED:20190314T030207Z
LAST-MODIFIED:20250407T003431Z
UID:17254-1748338200-1748347200@ponsonbycommunity.org.nz
SUMMARY:Ponsonby Playgroup
DESCRIPTION:Ponsonby Playgroup provides a relaxed and friendly meeting place for parents/caregivers and a safe environment for free play for preschool children. Playgroup is led by the Coordinator Genevieve Bassett\, who creates different fun activities for the children every week. \nPlaygroup is in the Freda Stark and Johnny Mitchell halls every Tuesday during the school terms – 9am-12pm. \nWe request a donation of $4 per child or $5 for a family. This covers materials for creating and play as well as out Music Man\, Antonio who entertains the children every week. \nPlaygroup does not run during the school holidays
URL:https://ponsonbycommunity.org.nz/event/ponsonby-playgroup-2/2025-05-27/
LOCATION:Freda Stark Hall\, 20 Ponsonby Terrace\, Auckland\, 1011\, New Zealand
ORGANIZER;CN="Ponsonby Community Centre":MAILTO:info@ponsonbycommunity.org.nz
GEO:-36.8502225;174.7421481
X-APPLE-STRUCTURED-LOCATION;VALUE=URI;X-ADDRESS=Freda Stark Hall 20 Ponsonby Terrace Auckland 1011 New Zealand;X-APPLE-RADIUS=500;X-TITLE=20 Ponsonby Terrace:geo:174.7421481,-36.8502225
END:VEVENT
BEGIN:VEVENT
DTSTART;TZID=Pacific/Auckland:20250526T180000
DTEND;TZID=Pacific/Auckland:20250526T193000
DTSTAMP:20260421T034843
CREATED:20190306T224458Z
LAST-MODIFIED:20190306T224458Z
UID:16794-1748282400-1748287800@ponsonbycommunity.org.nz
SUMMARY:Four Winds Yoga
DESCRIPTION:
URL:https://ponsonbycommunity.org.nz/event/four-winds-yoga-beginners-class/2025-05-26/
LOCATION:Freda Stark Hall\, 20 Ponsonby Terrace\, Auckland\, 1011\, New Zealand
ORGANIZER;CN="Suzi Carson":MAILTO:suzi@yoga.net.nz
GEO:-36.8502225;174.7421481
X-APPLE-STRUCTURED-LOCATION;VALUE=URI;X-ADDRESS=Freda Stark Hall 20 Ponsonby Terrace Auckland 1011 New Zealand;X-APPLE-RADIUS=500;X-TITLE=20 Ponsonby Terrace:geo:174.7421481,-36.8502225
END:VEVENT
BEGIN:VEVENT
DTSTART;TZID=Pacific/Auckland:20250526T110000
DTEND;TZID=Pacific/Auckland:20250526T120000
DTSTAMP:20260421T034843
CREATED:20190313T004743Z
LAST-MODIFIED:20190313T004743Z
UID:16062-1748257200-1748260800@ponsonbycommunity.org.nz
SUMMARY:FREE Seniors Yoga
DESCRIPTION:Ponsonby Community Centre\, the Waitemata Local Board and Four Winds Yoga have joined forces to provide a free yoga class for local seniors. Taught by Iyengar certified Francesca Hopkins from Four Winds Yoga\, the class will focus on strength and balance\, with an individual based approach for those who need help in particular areas.\nNo registration is required to begin with – just turn up! \nWe are now an accrediated Strength and Balance programme through Live Stronger for Longer!
URL:https://ponsonbycommunity.org.nz/event/free-seniors-yoga/2025-05-26/
LOCATION:Freda Stark Hall\, 20 Ponsonby Terrace\, Auckland\, 1011\, New Zealand
ORGANIZER;CN="Ponsonby Community Centre":MAILTO:info@ponsonbycommunity.org.nz
GEO:-36.8502225;174.7421481
X-APPLE-STRUCTURED-LOCATION;VALUE=URI;X-ADDRESS=Freda Stark Hall 20 Ponsonby Terrace Auckland 1011 New Zealand;X-APPLE-RADIUS=500;X-TITLE=20 Ponsonby Terrace:geo:174.7421481,-36.8502225
END:VEVENT
BEGIN:VEVENT
DTSTART;TZID=Pacific/Auckland:20250525T090000
DTEND;TZID=Pacific/Auckland:20250525T103000
DTSTAMP:20260421T034843
CREATED:20190306T224458Z
LAST-MODIFIED:20190306T224458Z
UID:16793-1748163600-1748169000@ponsonbycommunity.org.nz
SUMMARY:Four Winds Yoga
DESCRIPTION:
URL:https://ponsonbycommunity.org.nz/event/four-winds-yoga-beginners-class/2025-05-25/
LOCATION:Freda Stark Hall\, 20 Ponsonby Terrace\, Auckland\, 1011\, New Zealand
ORGANIZER;CN="Suzi Carson":MAILTO:suzi@yoga.net.nz
GEO:-36.8502225;174.7421481
X-APPLE-STRUCTURED-LOCATION;VALUE=URI;X-ADDRESS=Freda Stark Hall 20 Ponsonby Terrace Auckland 1011 New Zealand;X-APPLE-RADIUS=500;X-TITLE=20 Ponsonby Terrace:geo:174.7421481,-36.8502225
END:VEVENT
BEGIN:VEVENT
DTSTART;TZID=Pacific/Auckland:20250524T093000
DTEND;TZID=Pacific/Auckland:20250524T110000
DTSTAMP:20260421T034843
CREATED:20190306T224458Z
LAST-MODIFIED:20190306T224458Z
UID:16792-1748079000-1748084400@ponsonbycommunity.org.nz
SUMMARY:Four Winds Yoga
DESCRIPTION:
URL:https://ponsonbycommunity.org.nz/event/four-winds-yoga-beginners-class/2025-05-24/10/
LOCATION:Freda Stark Hall\, 20 Ponsonby Terrace\, Auckland\, 1011\, New Zealand
ORGANIZER;CN="Suzi Carson":MAILTO:suzi@yoga.net.nz
GEO:-36.8502225;174.7421481
X-APPLE-STRUCTURED-LOCATION;VALUE=URI;X-ADDRESS=Freda Stark Hall 20 Ponsonby Terrace Auckland 1011 New Zealand;X-APPLE-RADIUS=500;X-TITLE=20 Ponsonby Terrace:geo:174.7421481,-36.8502225
END:VEVENT
BEGIN:VEVENT
DTSTART;TZID=Pacific/Auckland:20250524T070000
DTEND;TZID=Pacific/Auckland:20250524T083000
DTSTAMP:20260421T034843
CREATED:20190306T224458Z
LAST-MODIFIED:20190306T224458Z
UID:16791-1748070000-1748075400@ponsonbycommunity.org.nz
SUMMARY:Four Winds Yoga
DESCRIPTION:
URL:https://ponsonbycommunity.org.nz/event/four-winds-yoga-beginners-class/2025-05-24/
LOCATION:Freda Stark Hall\, 20 Ponsonby Terrace\, Auckland\, 1011\, New Zealand
ORGANIZER;CN="Suzi Carson":MAILTO:suzi@yoga.net.nz
GEO:-36.8502225;174.7421481
X-APPLE-STRUCTURED-LOCATION;VALUE=URI;X-ADDRESS=Freda Stark Hall 20 Ponsonby Terrace Auckland 1011 New Zealand;X-APPLE-RADIUS=500;X-TITLE=20 Ponsonby Terrace:geo:174.7421481,-36.8502225
END:VEVENT
BEGIN:VEVENT
DTSTART;TZID=Pacific/Auckland:20250523T110000
DTEND;TZID=Pacific/Auckland:20250523T120000
DTSTAMP:20260421T034843
CREATED:20190313T004743Z
LAST-MODIFIED:20190313T004743Z
UID:16986-1747998000-1748001600@ponsonbycommunity.org.nz
SUMMARY:FREE Seniors Yoga
DESCRIPTION:Ponsonby Community Centre\, the Waitemata Local Board and Four Winds Yoga have joined forces to provide a free yoga class for local seniors. Taught by Iyengar certified Francesca Hopkins from Four Winds Yoga\, the class will focus on strength and balance\, with an individual based approach for those who need help in particular areas.\nNo registration is required to begin with – just turn up! \nWe are now an accrediated Strength and Balance programme through Live Stronger for Longer!
URL:https://ponsonbycommunity.org.nz/event/free-seniors-yoga/2025-05-23/
LOCATION:Freda Stark Hall\, 20 Ponsonby Terrace\, Auckland\, 1011\, New Zealand
ORGANIZER;CN="Ponsonby Community Centre":MAILTO:info@ponsonbycommunity.org.nz
GEO:-36.8502225;174.7421481
X-APPLE-STRUCTURED-LOCATION;VALUE=URI;X-ADDRESS=Freda Stark Hall 20 Ponsonby Terrace Auckland 1011 New Zealand;X-APPLE-RADIUS=500;X-TITLE=20 Ponsonby Terrace:geo:174.7421481,-36.8502225
END:VEVENT
BEGIN:VEVENT
DTSTART;TZID=Pacific/Auckland:20250522T180000
DTEND;TZID=Pacific/Auckland:20250522T193000
DTSTAMP:20260421T034843
CREATED:20190306T224458Z
LAST-MODIFIED:20190306T224458Z
UID:16790-1747936800-1747942200@ponsonbycommunity.org.nz
SUMMARY:Four Winds Yoga
DESCRIPTION:
URL:https://ponsonbycommunity.org.nz/event/four-winds-yoga-beginners-class/2025-05-22/
LOCATION:Freda Stark Hall\, 20 Ponsonby Terrace\, Auckland\, 1011\, New Zealand
ORGANIZER;CN="Suzi Carson":MAILTO:suzi@yoga.net.nz
GEO:-36.8502225;174.7421481
X-APPLE-STRUCTURED-LOCATION;VALUE=URI;X-ADDRESS=Freda Stark Hall 20 Ponsonby Terrace Auckland 1011 New Zealand;X-APPLE-RADIUS=500;X-TITLE=20 Ponsonby Terrace:geo:174.7421481,-36.8502225
END:VEVENT
BEGIN:VEVENT
DTSTART;TZID=Pacific/Auckland:20250521T180000
DTEND;TZID=Pacific/Auckland:20250521T190000
DTSTAMP:20260421T034843
CREATED:20190318T003346Z
LAST-MODIFIED:20250407T004751Z
UID:16057-1747850400-1747854000@ponsonbycommunity.org.nz
SUMMARY:Expect Miracles - AA Meditation
DESCRIPTION:Ponsonby Community Centre
URL:https://ponsonbycommunity.org.nz/event/aa-meditation/2025-05-21/
LOCATION:Freda Stark Hall\, 20 Ponsonby Terrace\, Auckland\, 1011\, New Zealand
GEO:-36.8502225;174.7421481
X-APPLE-STRUCTURED-LOCATION;VALUE=URI;X-ADDRESS=Freda Stark Hall 20 Ponsonby Terrace Auckland 1011 New Zealand;X-APPLE-RADIUS=500;X-TITLE=20 Ponsonby Terrace:geo:174.7421481,-36.8502225
END:VEVENT
BEGIN:VEVENT
DTSTART;TZID=Pacific/Auckland:20250521T110000
DTEND;TZID=Pacific/Auckland:20250521T120000
DTSTAMP:20260421T034843
CREATED:20190313T004743Z
LAST-MODIFIED:20190313T004743Z
UID:16056-1747825200-1747828800@ponsonbycommunity.org.nz
SUMMARY:FREE Seniors Yoga
DESCRIPTION:Ponsonby Community Centre\, the Waitemata Local Board and Four Winds Yoga have joined forces to provide a free yoga class for local seniors. Taught by Iyengar certified Francesca Hopkins from Four Winds Yoga\, the class will focus on strength and balance\, with an individual based approach for those who need help in particular areas.\nNo registration is required to begin with – just turn up! \nWe are now an accrediated Strength and Balance programme through Live Stronger for Longer!
URL:https://ponsonbycommunity.org.nz/event/free-seniors-yoga/2025-05-21/
LOCATION:Freda Stark Hall\, 20 Ponsonby Terrace\, Auckland\, 1011\, New Zealand
ORGANIZER;CN="Ponsonby Community Centre":MAILTO:info@ponsonbycommunity.org.nz
GEO:-36.8502225;174.7421481
X-APPLE-STRUCTURED-LOCATION;VALUE=URI;X-ADDRESS=Freda Stark Hall 20 Ponsonby Terrace Auckland 1011 New Zealand;X-APPLE-RADIUS=500;X-TITLE=20 Ponsonby Terrace:geo:174.7421481,-36.8502225
END:VEVENT
BEGIN:VEVENT
DTSTART;TZID=Pacific/Auckland:20250521T093000
DTEND;TZID=Pacific/Auckland:20250521T110000
DTSTAMP:20260421T034843
CREATED:20190306T224458Z
LAST-MODIFIED:20190306T224458Z
UID:16789-1747819800-1747825200@ponsonbycommunity.org.nz
SUMMARY:Four Winds Yoga
DESCRIPTION:
URL:https://ponsonbycommunity.org.nz/event/four-winds-yoga-beginners-class/2025-05-21/
LOCATION:Freda Stark Hall\, 20 Ponsonby Terrace\, Auckland\, 1011\, New Zealand
ORGANIZER;CN="Suzi Carson":MAILTO:suzi@yoga.net.nz
GEO:-36.8502225;174.7421481
X-APPLE-STRUCTURED-LOCATION;VALUE=URI;X-ADDRESS=Freda Stark Hall 20 Ponsonby Terrace Auckland 1011 New Zealand;X-APPLE-RADIUS=500;X-TITLE=20 Ponsonby Terrace:geo:174.7421481,-36.8502225
END:VEVENT
BEGIN:VEVENT
DTSTART;TZID=Pacific/Auckland:20250520T093000
DTEND;TZID=Pacific/Auckland:20250520T120000
DTSTAMP:20260421T034843
CREATED:20190314T030207Z
LAST-MODIFIED:20250407T003431Z
UID:17253-1747733400-1747742400@ponsonbycommunity.org.nz
SUMMARY:Ponsonby Playgroup
DESCRIPTION:Ponsonby Playgroup provides a relaxed and friendly meeting place for parents/caregivers and a safe environment for free play for preschool children. Playgroup is led by the Coordinator Genevieve Bassett\, who creates different fun activities for the children every week. \nPlaygroup is in the Freda Stark and Johnny Mitchell halls every Tuesday during the school terms – 9am-12pm. \nWe request a donation of $4 per child or $5 for a family. This covers materials for creating and play as well as out Music Man\, Antonio who entertains the children every week. \nPlaygroup does not run during the school holidays
URL:https://ponsonbycommunity.org.nz/event/ponsonby-playgroup-2/2025-05-20/
LOCATION:Freda Stark Hall\, 20 Ponsonby Terrace\, Auckland\, 1011\, New Zealand
ORGANIZER;CN="Ponsonby Community Centre":MAILTO:info@ponsonbycommunity.org.nz
GEO:-36.8502225;174.7421481
X-APPLE-STRUCTURED-LOCATION;VALUE=URI;X-ADDRESS=Freda Stark Hall 20 Ponsonby Terrace Auckland 1011 New Zealand;X-APPLE-RADIUS=500;X-TITLE=20 Ponsonby Terrace:geo:174.7421481,-36.8502225
END:VEVENT
BEGIN:VEVENT
DTSTART;TZID=Pacific/Auckland:20250519T180000
DTEND;TZID=Pacific/Auckland:20250519T193000
DTSTAMP:20260421T034843
CREATED:20190306T224458Z
LAST-MODIFIED:20190306T224458Z
UID:16788-1747677600-1747683000@ponsonbycommunity.org.nz
SUMMARY:Four Winds Yoga
DESCRIPTION:
URL:https://ponsonbycommunity.org.nz/event/four-winds-yoga-beginners-class/2025-05-19/
LOCATION:Freda Stark Hall\, 20 Ponsonby Terrace\, Auckland\, 1011\, New Zealand
ORGANIZER;CN="Suzi Carson":MAILTO:suzi@yoga.net.nz
GEO:-36.8502225;174.7421481
X-APPLE-STRUCTURED-LOCATION;VALUE=URI;X-ADDRESS=Freda Stark Hall 20 Ponsonby Terrace Auckland 1011 New Zealand;X-APPLE-RADIUS=500;X-TITLE=20 Ponsonby Terrace:geo:174.7421481,-36.8502225
END:VEVENT
BEGIN:VEVENT
DTSTART;TZID=Pacific/Auckland:20250519T110000
DTEND;TZID=Pacific/Auckland:20250519T120000
DTSTAMP:20260421T034843
CREATED:20190313T004743Z
LAST-MODIFIED:20190313T004743Z
UID:16053-1747652400-1747656000@ponsonbycommunity.org.nz
SUMMARY:FREE Seniors Yoga
DESCRIPTION:Ponsonby Community Centre\, the Waitemata Local Board and Four Winds Yoga have joined forces to provide a free yoga class for local seniors. Taught by Iyengar certified Francesca Hopkins from Four Winds Yoga\, the class will focus on strength and balance\, with an individual based approach for those who need help in particular areas.\nNo registration is required to begin with – just turn up! \nWe are now an accrediated Strength and Balance programme through Live Stronger for Longer!
URL:https://ponsonbycommunity.org.nz/event/free-seniors-yoga/2025-05-19/
LOCATION:Freda Stark Hall\, 20 Ponsonby Terrace\, Auckland\, 1011\, New Zealand
ORGANIZER;CN="Ponsonby Community Centre":MAILTO:info@ponsonbycommunity.org.nz
GEO:-36.8502225;174.7421481
X-APPLE-STRUCTURED-LOCATION;VALUE=URI;X-ADDRESS=Freda Stark Hall 20 Ponsonby Terrace Auckland 1011 New Zealand;X-APPLE-RADIUS=500;X-TITLE=20 Ponsonby Terrace:geo:174.7421481,-36.8502225
END:VEVENT
BEGIN:VEVENT
DTSTART;TZID=Pacific/Auckland:20250518T090000
DTEND;TZID=Pacific/Auckland:20250518T103000
DTSTAMP:20260421T034843
CREATED:20190306T224458Z
LAST-MODIFIED:20190306T224458Z
UID:16787-1747558800-1747564200@ponsonbycommunity.org.nz
SUMMARY:Four Winds Yoga
DESCRIPTION:
URL:https://ponsonbycommunity.org.nz/event/four-winds-yoga-beginners-class/2025-05-18/
LOCATION:Freda Stark Hall\, 20 Ponsonby Terrace\, Auckland\, 1011\, New Zealand
ORGANIZER;CN="Suzi Carson":MAILTO:suzi@yoga.net.nz
GEO:-36.8502225;174.7421481
X-APPLE-STRUCTURED-LOCATION;VALUE=URI;X-ADDRESS=Freda Stark Hall 20 Ponsonby Terrace Auckland 1011 New Zealand;X-APPLE-RADIUS=500;X-TITLE=20 Ponsonby Terrace:geo:174.7421481,-36.8502225
END:VEVENT
BEGIN:VEVENT
DTSTART;TZID=Pacific/Auckland:20250517T093000
DTEND;TZID=Pacific/Auckland:20250517T110000
DTSTAMP:20260421T034843
CREATED:20190306T224458Z
LAST-MODIFIED:20190306T224458Z
UID:16786-1747474200-1747479600@ponsonbycommunity.org.nz
SUMMARY:Four Winds Yoga
DESCRIPTION:
URL:https://ponsonbycommunity.org.nz/event/four-winds-yoga-beginners-class/2025-05-17/10/
LOCATION:Freda Stark Hall\, 20 Ponsonby Terrace\, Auckland\, 1011\, New Zealand
ORGANIZER;CN="Suzi Carson":MAILTO:suzi@yoga.net.nz
GEO:-36.8502225;174.7421481
X-APPLE-STRUCTURED-LOCATION;VALUE=URI;X-ADDRESS=Freda Stark Hall 20 Ponsonby Terrace Auckland 1011 New Zealand;X-APPLE-RADIUS=500;X-TITLE=20 Ponsonby Terrace:geo:174.7421481,-36.8502225
END:VEVENT
BEGIN:VEVENT
DTSTART;TZID=Pacific/Auckland:20250517T070000
DTEND;TZID=Pacific/Auckland:20250517T083000
DTSTAMP:20260421T034843
CREATED:20190306T224458Z
LAST-MODIFIED:20190306T224458Z
UID:16785-1747465200-1747470600@ponsonbycommunity.org.nz
SUMMARY:Four Winds Yoga
DESCRIPTION:
URL:https://ponsonbycommunity.org.nz/event/four-winds-yoga-beginners-class/2025-05-17/
LOCATION:Freda Stark Hall\, 20 Ponsonby Terrace\, Auckland\, 1011\, New Zealand
ORGANIZER;CN="Suzi Carson":MAILTO:suzi@yoga.net.nz
GEO:-36.8502225;174.7421481
X-APPLE-STRUCTURED-LOCATION;VALUE=URI;X-ADDRESS=Freda Stark Hall 20 Ponsonby Terrace Auckland 1011 New Zealand;X-APPLE-RADIUS=500;X-TITLE=20 Ponsonby Terrace:geo:174.7421481,-36.8502225
END:VEVENT
BEGIN:VEVENT
DTSTART;TZID=Pacific/Auckland:20250516T110000
DTEND;TZID=Pacific/Auckland:20250516T120000
DTSTAMP:20260421T034843
CREATED:20190313T004743Z
LAST-MODIFIED:20190313T004743Z
UID:16985-1747393200-1747396800@ponsonbycommunity.org.nz
SUMMARY:FREE Seniors Yoga
DESCRIPTION:Ponsonby Community Centre\, the Waitemata Local Board and Four Winds Yoga have joined forces to provide a free yoga class for local seniors. Taught by Iyengar certified Francesca Hopkins from Four Winds Yoga\, the class will focus on strength and balance\, with an individual based approach for those who need help in particular areas.\nNo registration is required to begin with – just turn up! \nWe are now an accrediated Strength and Balance programme through Live Stronger for Longer!
URL:https://ponsonbycommunity.org.nz/event/free-seniors-yoga/2025-05-16/
LOCATION:Freda Stark Hall\, 20 Ponsonby Terrace\, Auckland\, 1011\, New Zealand
ORGANIZER;CN="Ponsonby Community Centre":MAILTO:info@ponsonbycommunity.org.nz
GEO:-36.8502225;174.7421481
X-APPLE-STRUCTURED-LOCATION;VALUE=URI;X-ADDRESS=Freda Stark Hall 20 Ponsonby Terrace Auckland 1011 New Zealand;X-APPLE-RADIUS=500;X-TITLE=20 Ponsonby Terrace:geo:174.7421481,-36.8502225
END:VEVENT
BEGIN:VEVENT
DTSTART;TZID=Pacific/Auckland:20250515T180000
DTEND;TZID=Pacific/Auckland:20250515T193000
DTSTAMP:20260421T034843
CREATED:20190306T224458Z
LAST-MODIFIED:20190306T224458Z
UID:16784-1747332000-1747337400@ponsonbycommunity.org.nz
SUMMARY:Four Winds Yoga
DESCRIPTION:
URL:https://ponsonbycommunity.org.nz/event/four-winds-yoga-beginners-class/2025-05-15/
LOCATION:Freda Stark Hall\, 20 Ponsonby Terrace\, Auckland\, 1011\, New Zealand
ORGANIZER;CN="Suzi Carson":MAILTO:suzi@yoga.net.nz
GEO:-36.8502225;174.7421481
X-APPLE-STRUCTURED-LOCATION;VALUE=URI;X-ADDRESS=Freda Stark Hall 20 Ponsonby Terrace Auckland 1011 New Zealand;X-APPLE-RADIUS=500;X-TITLE=20 Ponsonby Terrace:geo:174.7421481,-36.8502225
END:VEVENT
BEGIN:VEVENT
DTSTART;TZID=Pacific/Auckland:20250514T180000
DTEND;TZID=Pacific/Auckland:20250514T190000
DTSTAMP:20260421T034843
CREATED:20190318T003346Z
LAST-MODIFIED:20250407T004751Z
UID:16048-1747245600-1747249200@ponsonbycommunity.org.nz
SUMMARY:Expect Miracles - AA Meditation
DESCRIPTION:Ponsonby Community Centre
URL:https://ponsonbycommunity.org.nz/event/aa-meditation/2025-05-14/
LOCATION:Freda Stark Hall\, 20 Ponsonby Terrace\, Auckland\, 1011\, New Zealand
GEO:-36.8502225;174.7421481
X-APPLE-STRUCTURED-LOCATION;VALUE=URI;X-ADDRESS=Freda Stark Hall 20 Ponsonby Terrace Auckland 1011 New Zealand;X-APPLE-RADIUS=500;X-TITLE=20 Ponsonby Terrace:geo:174.7421481,-36.8502225
END:VEVENT
BEGIN:VEVENT
DTSTART;TZID=Pacific/Auckland:20250514T110000
DTEND;TZID=Pacific/Auckland:20250514T120000
DTSTAMP:20260421T034843
CREATED:20190313T004743Z
LAST-MODIFIED:20190313T004743Z
UID:16047-1747220400-1747224000@ponsonbycommunity.org.nz
SUMMARY:FREE Seniors Yoga
DESCRIPTION:Ponsonby Community Centre\, the Waitemata Local Board and Four Winds Yoga have joined forces to provide a free yoga class for local seniors. Taught by Iyengar certified Francesca Hopkins from Four Winds Yoga\, the class will focus on strength and balance\, with an individual based approach for those who need help in particular areas.\nNo registration is required to begin with – just turn up! \nWe are now an accrediated Strength and Balance programme through Live Stronger for Longer!
URL:https://ponsonbycommunity.org.nz/event/free-seniors-yoga/2025-05-14/
LOCATION:Freda Stark Hall\, 20 Ponsonby Terrace\, Auckland\, 1011\, New Zealand
ORGANIZER;CN="Ponsonby Community Centre":MAILTO:info@ponsonbycommunity.org.nz
GEO:-36.8502225;174.7421481
X-APPLE-STRUCTURED-LOCATION;VALUE=URI;X-ADDRESS=Freda Stark Hall 20 Ponsonby Terrace Auckland 1011 New Zealand;X-APPLE-RADIUS=500;X-TITLE=20 Ponsonby Terrace:geo:174.7421481,-36.8502225
END:VEVENT
BEGIN:VEVENT
DTSTART;TZID=Pacific/Auckland:20250514T093000
DTEND;TZID=Pacific/Auckland:20250514T110000
DTSTAMP:20260421T034843
CREATED:20190306T224458Z
LAST-MODIFIED:20190306T224458Z
UID:16783-1747215000-1747220400@ponsonbycommunity.org.nz
SUMMARY:Four Winds Yoga
DESCRIPTION:
URL:https://ponsonbycommunity.org.nz/event/four-winds-yoga-beginners-class/2025-05-14/
LOCATION:Freda Stark Hall\, 20 Ponsonby Terrace\, Auckland\, 1011\, New Zealand
ORGANIZER;CN="Suzi Carson":MAILTO:suzi@yoga.net.nz
GEO:-36.8502225;174.7421481
X-APPLE-STRUCTURED-LOCATION;VALUE=URI;X-ADDRESS=Freda Stark Hall 20 Ponsonby Terrace Auckland 1011 New Zealand;X-APPLE-RADIUS=500;X-TITLE=20 Ponsonby Terrace:geo:174.7421481,-36.8502225
END:VEVENT
BEGIN:VEVENT
DTSTART;TZID=Pacific/Auckland:20250513T093000
DTEND;TZID=Pacific/Auckland:20250513T120000
DTSTAMP:20260421T034843
CREATED:20190314T030207Z
LAST-MODIFIED:20250407T003431Z
UID:17252-1747128600-1747137600@ponsonbycommunity.org.nz
SUMMARY:Ponsonby Playgroup
DESCRIPTION:Ponsonby Playgroup provides a relaxed and friendly meeting place for parents/caregivers and a safe environment for free play for preschool children. Playgroup is led by the Coordinator Genevieve Bassett\, who creates different fun activities for the children every week. \nPlaygroup is in the Freda Stark and Johnny Mitchell halls every Tuesday during the school terms – 9am-12pm. \nWe request a donation of $4 per child or $5 for a family. This covers materials for creating and play as well as out Music Man\, Antonio who entertains the children every week. \nPlaygroup does not run during the school holidays
URL:https://ponsonbycommunity.org.nz/event/ponsonby-playgroup-2/2025-05-13/
LOCATION:Freda Stark Hall\, 20 Ponsonby Terrace\, Auckland\, 1011\, New Zealand
ORGANIZER;CN="Ponsonby Community Centre":MAILTO:info@ponsonbycommunity.org.nz
GEO:-36.8502225;174.7421481
X-APPLE-STRUCTURED-LOCATION;VALUE=URI;X-ADDRESS=Freda Stark Hall 20 Ponsonby Terrace Auckland 1011 New Zealand;X-APPLE-RADIUS=500;X-TITLE=20 Ponsonby Terrace:geo:174.7421481,-36.8502225
END:VEVENT
BEGIN:VEVENT
DTSTART;TZID=Pacific/Auckland:20250512T180000
DTEND;TZID=Pacific/Auckland:20250512T193000
DTSTAMP:20260421T034843
CREATED:20190306T224458Z
LAST-MODIFIED:20190306T224458Z
UID:16782-1747072800-1747078200@ponsonbycommunity.org.nz
SUMMARY:Four Winds Yoga
DESCRIPTION:
URL:https://ponsonbycommunity.org.nz/event/four-winds-yoga-beginners-class/2025-05-12/
LOCATION:Freda Stark Hall\, 20 Ponsonby Terrace\, Auckland\, 1011\, New Zealand
ORGANIZER;CN="Suzi Carson":MAILTO:suzi@yoga.net.nz
GEO:-36.8502225;174.7421481
X-APPLE-STRUCTURED-LOCATION;VALUE=URI;X-ADDRESS=Freda Stark Hall 20 Ponsonby Terrace Auckland 1011 New Zealand;X-APPLE-RADIUS=500;X-TITLE=20 Ponsonby Terrace:geo:174.7421481,-36.8502225
END:VEVENT
BEGIN:VEVENT
DTSTART;TZID=Pacific/Auckland:20250512T110000
DTEND;TZID=Pacific/Auckland:20250512T120000
DTSTAMP:20260421T034843
CREATED:20190313T004743Z
LAST-MODIFIED:20190313T004743Z
UID:16044-1747047600-1747051200@ponsonbycommunity.org.nz
SUMMARY:FREE Seniors Yoga
DESCRIPTION:Ponsonby Community Centre\, the Waitemata Local Board and Four Winds Yoga have joined forces to provide a free yoga class for local seniors. Taught by Iyengar certified Francesca Hopkins from Four Winds Yoga\, the class will focus on strength and balance\, with an individual based approach for those who need help in particular areas.\nNo registration is required to begin with – just turn up! \nWe are now an accrediated Strength and Balance programme through Live Stronger for Longer!
URL:https://ponsonbycommunity.org.nz/event/free-seniors-yoga/2025-05-12/
LOCATION:Freda Stark Hall\, 20 Ponsonby Terrace\, Auckland\, 1011\, New Zealand
ORGANIZER;CN="Ponsonby Community Centre":MAILTO:info@ponsonbycommunity.org.nz
GEO:-36.8502225;174.7421481
X-APPLE-STRUCTURED-LOCATION;VALUE=URI;X-ADDRESS=Freda Stark Hall 20 Ponsonby Terrace Auckland 1011 New Zealand;X-APPLE-RADIUS=500;X-TITLE=20 Ponsonby Terrace:geo:174.7421481,-36.8502225
END:VEVENT
END:VCALENDAR