BEGIN:VCALENDAR
VERSION:2.0
PRODID:-//Ponsonby Community Centre - ECPv6.15.20//NONSGML v1.0//EN
CALSCALE:GREGORIAN
METHOD:PUBLISH
X-ORIGINAL-URL:https://ponsonbycommunity.org.nz
X-WR-CALDESC:Events for Ponsonby Community Centre
REFRESH-INTERVAL;VALUE=DURATION:PT1H
X-Robots-Tag:noindex
X-PUBLISHED-TTL:PT1H
BEGIN:VTIMEZONE
TZID:Pacific/Auckland
BEGIN:STANDARD
TZOFFSETFROM:+1300
TZOFFSETTO:+1200
TZNAME:NZST
DTSTART:20250405T140000
END:STANDARD
BEGIN:DAYLIGHT
TZOFFSETFROM:+1200
TZOFFSETTO:+1300
TZNAME:NZDT
DTSTART:20250927T140000
END:DAYLIGHT
BEGIN:STANDARD
TZOFFSETFROM:+1300
TZOFFSETTO:+1200
TZNAME:NZST
DTSTART:20260404T140000
END:STANDARD
BEGIN:DAYLIGHT
TZOFFSETFROM:+1200
TZOFFSETTO:+1300
TZNAME:NZDT
DTSTART:20260926T140000
END:DAYLIGHT
BEGIN:STANDARD
TZOFFSETFROM:+1300
TZOFFSETTO:+1200
TZNAME:NZST
DTSTART:20270403T140000
END:STANDARD
BEGIN:DAYLIGHT
TZOFFSETFROM:+1200
TZOFFSETTO:+1300
TZNAME:NZDT
DTSTART:20270925T140000
END:DAYLIGHT
END:VTIMEZONE
BEGIN:VEVENT
DTSTART;TZID=Pacific/Auckland:20260907T180000
DTEND;TZID=Pacific/Auckland:20260907T193000
DTSTAMP:20260420T020020
CREATED:20190306T224458Z
LAST-MODIFIED:20190306T224458Z
UID:19323-1788804000-1788809400@ponsonbycommunity.org.nz
SUMMARY:Four Winds Yoga
DESCRIPTION:
URL:https://ponsonbycommunity.org.nz/event/four-winds-yoga-beginners-class/2026-09-07/
LOCATION:Freda Stark Hall\, 20 Ponsonby Terrace\, Auckland\, 1011\, New Zealand
ORGANIZER;CN="Suzi Carson":MAILTO:suzi@yoga.net.nz
GEO:-36.8502225;174.7421481
X-APPLE-STRUCTURED-LOCATION;VALUE=URI;X-ADDRESS=Freda Stark Hall 20 Ponsonby Terrace Auckland 1011 New Zealand;X-APPLE-RADIUS=500;X-TITLE=20 Ponsonby Terrace:geo:174.7421481,-36.8502225
END:VEVENT
BEGIN:VEVENT
DTSTART;TZID=Pacific/Auckland:20260910T180000
DTEND;TZID=Pacific/Auckland:20260910T193000
DTSTAMP:20260420T020020
CREATED:20190306T224458Z
LAST-MODIFIED:20190306T224458Z
UID:19333-1789063200-1789068600@ponsonbycommunity.org.nz
SUMMARY:Four Winds Yoga
DESCRIPTION:
URL:https://ponsonbycommunity.org.nz/event/four-winds-yoga-beginners-class/2026-09-10/
LOCATION:Freda Stark Hall\, 20 Ponsonby Terrace\, Auckland\, 1011\, New Zealand
ORGANIZER;CN="Suzi Carson":MAILTO:suzi@yoga.net.nz
GEO:-36.8502225;174.7421481
X-APPLE-STRUCTURED-LOCATION;VALUE=URI;X-ADDRESS=Freda Stark Hall 20 Ponsonby Terrace Auckland 1011 New Zealand;X-APPLE-RADIUS=500;X-TITLE=20 Ponsonby Terrace:geo:174.7421481,-36.8502225
END:VEVENT
BEGIN:VEVENT
DTSTART;TZID=Pacific/Auckland:20260914T180000
DTEND;TZID=Pacific/Auckland:20260914T193000
DTSTAMP:20260420T020020
CREATED:20190306T224458Z
LAST-MODIFIED:20190306T224458Z
UID:19339-1789408800-1789414200@ponsonbycommunity.org.nz
SUMMARY:Four Winds Yoga
DESCRIPTION:
URL:https://ponsonbycommunity.org.nz/event/four-winds-yoga-beginners-class/2026-09-14/
LOCATION:Freda Stark Hall\, 20 Ponsonby Terrace\, Auckland\, 1011\, New Zealand
ORGANIZER;CN="Suzi Carson":MAILTO:suzi@yoga.net.nz
GEO:-36.8502225;174.7421481
X-APPLE-STRUCTURED-LOCATION;VALUE=URI;X-ADDRESS=Freda Stark Hall 20 Ponsonby Terrace Auckland 1011 New Zealand;X-APPLE-RADIUS=500;X-TITLE=20 Ponsonby Terrace:geo:174.7421481,-36.8502225
END:VEVENT
BEGIN:VEVENT
DTSTART;TZID=Pacific/Auckland:20260917T180000
DTEND;TZID=Pacific/Auckland:20260917T193000
DTSTAMP:20260420T020020
CREATED:20190306T224458Z
LAST-MODIFIED:20190306T224458Z
UID:19353-1789668000-1789673400@ponsonbycommunity.org.nz
SUMMARY:Four Winds Yoga
DESCRIPTION:
URL:https://ponsonbycommunity.org.nz/event/four-winds-yoga-beginners-class/2026-09-17/
LOCATION:Freda Stark Hall\, 20 Ponsonby Terrace\, Auckland\, 1011\, New Zealand
ORGANIZER;CN="Suzi Carson":MAILTO:suzi@yoga.net.nz
GEO:-36.8502225;174.7421481
X-APPLE-STRUCTURED-LOCATION;VALUE=URI;X-ADDRESS=Freda Stark Hall 20 Ponsonby Terrace Auckland 1011 New Zealand;X-APPLE-RADIUS=500;X-TITLE=20 Ponsonby Terrace:geo:174.7421481,-36.8502225
END:VEVENT
BEGIN:VEVENT
DTSTART;TZID=Pacific/Auckland:20260919T070000
DTEND;TZID=Pacific/Auckland:20260919T083000
DTSTAMP:20260420T020020
CREATED:20190306T224458Z
LAST-MODIFIED:20190306T224458Z
UID:19364-1789801200-1789806600@ponsonbycommunity.org.nz
SUMMARY:Four Winds Yoga
DESCRIPTION:
URL:https://ponsonbycommunity.org.nz/event/four-winds-yoga-beginners-class/2026-09-19/
LOCATION:Freda Stark Hall\, 20 Ponsonby Terrace\, Auckland\, 1011\, New Zealand
ORGANIZER;CN="Suzi Carson":MAILTO:suzi@yoga.net.nz
GEO:-36.8502225;174.7421481
X-APPLE-STRUCTURED-LOCATION;VALUE=URI;X-ADDRESS=Freda Stark Hall 20 Ponsonby Terrace Auckland 1011 New Zealand;X-APPLE-RADIUS=500;X-TITLE=20 Ponsonby Terrace:geo:174.7421481,-36.8502225
END:VEVENT
BEGIN:VEVENT
DTSTART;TZID=Pacific/Auckland:20260919T093000
DTEND;TZID=Pacific/Auckland:20260919T110000
DTSTAMP:20260420T020020
CREATED:20190306T224458Z
LAST-MODIFIED:20190306T224458Z
UID:19359-1789810200-1789815600@ponsonbycommunity.org.nz
SUMMARY:Four Winds Yoga
DESCRIPTION:
URL:https://ponsonbycommunity.org.nz/event/four-winds-yoga-beginners-class/2026-09-19/
LOCATION:Freda Stark Hall\, 20 Ponsonby Terrace\, Auckland\, 1011\, New Zealand
ORGANIZER;CN="Suzi Carson":MAILTO:suzi@yoga.net.nz
GEO:-36.8502225;174.7421481
X-APPLE-STRUCTURED-LOCATION;VALUE=URI;X-ADDRESS=Freda Stark Hall 20 Ponsonby Terrace Auckland 1011 New Zealand;X-APPLE-RADIUS=500;X-TITLE=20 Ponsonby Terrace:geo:174.7421481,-36.8502225
END:VEVENT
BEGIN:VEVENT
DTSTART;TZID=Pacific/Auckland:20260920T090000
DTEND;TZID=Pacific/Auckland:20260920T103000
DTSTAMP:20260420T020020
CREATED:20190306T224458Z
LAST-MODIFIED:20190306T224458Z
UID:19367-1789894800-1789900200@ponsonbycommunity.org.nz
SUMMARY:Four Winds Yoga
DESCRIPTION:
URL:https://ponsonbycommunity.org.nz/event/four-winds-yoga-beginners-class/2026-09-20/
LOCATION:Freda Stark Hall\, 20 Ponsonby Terrace\, Auckland\, 1011\, New Zealand
ORGANIZER;CN="Suzi Carson":MAILTO:suzi@yoga.net.nz
GEO:-36.8502225;174.7421481
X-APPLE-STRUCTURED-LOCATION;VALUE=URI;X-ADDRESS=Freda Stark Hall 20 Ponsonby Terrace Auckland 1011 New Zealand;X-APPLE-RADIUS=500;X-TITLE=20 Ponsonby Terrace:geo:174.7421481,-36.8502225
END:VEVENT
BEGIN:VEVENT
DTSTART;TZID=Pacific/Auckland:20260921T180000
DTEND;TZID=Pacific/Auckland:20260921T193000
DTSTAMP:20260420T020020
CREATED:20190306T224458Z
LAST-MODIFIED:20190306T224458Z
UID:19354-1790013600-1790019000@ponsonbycommunity.org.nz
SUMMARY:Four Winds Yoga
DESCRIPTION:
URL:https://ponsonbycommunity.org.nz/event/four-winds-yoga-beginners-class/2026-09-21/
LOCATION:Freda Stark Hall\, 20 Ponsonby Terrace\, Auckland\, 1011\, New Zealand
ORGANIZER;CN="Suzi Carson":MAILTO:suzi@yoga.net.nz
GEO:-36.8502225;174.7421481
X-APPLE-STRUCTURED-LOCATION;VALUE=URI;X-ADDRESS=Freda Stark Hall 20 Ponsonby Terrace Auckland 1011 New Zealand;X-APPLE-RADIUS=500;X-TITLE=20 Ponsonby Terrace:geo:174.7421481,-36.8502225
END:VEVENT
BEGIN:VEVENT
DTSTART;TZID=Pacific/Auckland:20260923T093000
DTEND;TZID=Pacific/Auckland:20260923T110000
DTSTAMP:20260420T020020
CREATED:20190306T224458Z
LAST-MODIFIED:20190306T224458Z
UID:19360-1790155800-1790161200@ponsonbycommunity.org.nz
SUMMARY:Four Winds Yoga
DESCRIPTION:
URL:https://ponsonbycommunity.org.nz/event/four-winds-yoga-beginners-class/2026-09-23/
LOCATION:Freda Stark Hall\, 20 Ponsonby Terrace\, Auckland\, 1011\, New Zealand
ORGANIZER;CN="Suzi Carson":MAILTO:suzi@yoga.net.nz
GEO:-36.8502225;174.7421481
X-APPLE-STRUCTURED-LOCATION;VALUE=URI;X-ADDRESS=Freda Stark Hall 20 Ponsonby Terrace Auckland 1011 New Zealand;X-APPLE-RADIUS=500;X-TITLE=20 Ponsonby Terrace:geo:174.7421481,-36.8502225
END:VEVENT
BEGIN:VEVENT
DTSTART;TZID=Pacific/Auckland:20260924T180000
DTEND;TZID=Pacific/Auckland:20260924T193000
DTSTAMP:20260420T020020
CREATED:20190306T224458Z
LAST-MODIFIED:20190306T224458Z
UID:19355-1790272800-1790278200@ponsonbycommunity.org.nz
SUMMARY:Four Winds Yoga
DESCRIPTION:
URL:https://ponsonbycommunity.org.nz/event/four-winds-yoga-beginners-class/2026-09-24/
LOCATION:Freda Stark Hall\, 20 Ponsonby Terrace\, Auckland\, 1011\, New Zealand
ORGANIZER;CN="Suzi Carson":MAILTO:suzi@yoga.net.nz
GEO:-36.8502225;174.7421481
X-APPLE-STRUCTURED-LOCATION;VALUE=URI;X-ADDRESS=Freda Stark Hall 20 Ponsonby Terrace Auckland 1011 New Zealand;X-APPLE-RADIUS=500;X-TITLE=20 Ponsonby Terrace:geo:174.7421481,-36.8502225
END:VEVENT
BEGIN:VEVENT
DTSTART;TZID=Pacific/Auckland:20260926T070000
DTEND;TZID=Pacific/Auckland:20260926T083000
DTSTAMP:20260420T020020
CREATED:20190306T224458Z
LAST-MODIFIED:20190306T224458Z
UID:19365-1790406000-1790411400@ponsonbycommunity.org.nz
SUMMARY:Four Winds Yoga
DESCRIPTION:
URL:https://ponsonbycommunity.org.nz/event/four-winds-yoga-beginners-class/2026-09-26/
LOCATION:Freda Stark Hall\, 20 Ponsonby Terrace\, Auckland\, 1011\, New Zealand
ORGANIZER;CN="Suzi Carson":MAILTO:suzi@yoga.net.nz
GEO:-36.8502225;174.7421481
X-APPLE-STRUCTURED-LOCATION;VALUE=URI;X-ADDRESS=Freda Stark Hall 20 Ponsonby Terrace Auckland 1011 New Zealand;X-APPLE-RADIUS=500;X-TITLE=20 Ponsonby Terrace:geo:174.7421481,-36.8502225
END:VEVENT
BEGIN:VEVENT
DTSTART;TZID=Pacific/Auckland:20260926T093000
DTEND;TZID=Pacific/Auckland:20260926T110000
DTSTAMP:20260420T020020
CREATED:20190306T224458Z
LAST-MODIFIED:20190306T224458Z
UID:19361-1790415000-1790420400@ponsonbycommunity.org.nz
SUMMARY:Four Winds Yoga
DESCRIPTION:
URL:https://ponsonbycommunity.org.nz/event/four-winds-yoga-beginners-class/2026-09-26/
LOCATION:Freda Stark Hall\, 20 Ponsonby Terrace\, Auckland\, 1011\, New Zealand
ORGANIZER;CN="Suzi Carson":MAILTO:suzi@yoga.net.nz
GEO:-36.8502225;174.7421481
X-APPLE-STRUCTURED-LOCATION;VALUE=URI;X-ADDRESS=Freda Stark Hall 20 Ponsonby Terrace Auckland 1011 New Zealand;X-APPLE-RADIUS=500;X-TITLE=20 Ponsonby Terrace:geo:174.7421481,-36.8502225
END:VEVENT
BEGIN:VEVENT
DTSTART;TZID=Pacific/Auckland:20260927T090000
DTEND;TZID=Pacific/Auckland:20260927T103000
DTSTAMP:20260420T020020
CREATED:20190306T224458Z
LAST-MODIFIED:20190306T224458Z
UID:19368-1790499600-1790505000@ponsonbycommunity.org.nz
SUMMARY:Four Winds Yoga
DESCRIPTION:
URL:https://ponsonbycommunity.org.nz/event/four-winds-yoga-beginners-class/2026-09-27/
LOCATION:Freda Stark Hall\, 20 Ponsonby Terrace\, Auckland\, 1011\, New Zealand
ORGANIZER;CN="Suzi Carson":MAILTO:suzi@yoga.net.nz
GEO:-36.8502225;174.7421481
X-APPLE-STRUCTURED-LOCATION;VALUE=URI;X-ADDRESS=Freda Stark Hall 20 Ponsonby Terrace Auckland 1011 New Zealand;X-APPLE-RADIUS=500;X-TITLE=20 Ponsonby Terrace:geo:174.7421481,-36.8502225
END:VEVENT
BEGIN:VEVENT
DTSTART;TZID=Pacific/Auckland:20260928T180000
DTEND;TZID=Pacific/Auckland:20260928T193000
DTSTAMP:20260420T020020
CREATED:20190306T224458Z
LAST-MODIFIED:20190306T224458Z
UID:19356-1790618400-1790623800@ponsonbycommunity.org.nz
SUMMARY:Four Winds Yoga
DESCRIPTION:
URL:https://ponsonbycommunity.org.nz/event/four-winds-yoga-beginners-class/2026-09-28/
LOCATION:Freda Stark Hall\, 20 Ponsonby Terrace\, Auckland\, 1011\, New Zealand
ORGANIZER;CN="Suzi Carson":MAILTO:suzi@yoga.net.nz
GEO:-36.8502225;174.7421481
X-APPLE-STRUCTURED-LOCATION;VALUE=URI;X-ADDRESS=Freda Stark Hall 20 Ponsonby Terrace Auckland 1011 New Zealand;X-APPLE-RADIUS=500;X-TITLE=20 Ponsonby Terrace:geo:174.7421481,-36.8502225
END:VEVENT
BEGIN:VEVENT
DTSTART;TZID=Pacific/Auckland:20260930T093000
DTEND;TZID=Pacific/Auckland:20260930T110000
DTSTAMP:20260420T020020
CREATED:20190306T224458Z
LAST-MODIFIED:20190306T224458Z
UID:19362-1790760600-1790766000@ponsonbycommunity.org.nz
SUMMARY:Four Winds Yoga
DESCRIPTION:
URL:https://ponsonbycommunity.org.nz/event/four-winds-yoga-beginners-class/2026-09-30/
LOCATION:Freda Stark Hall\, 20 Ponsonby Terrace\, Auckland\, 1011\, New Zealand
ORGANIZER;CN="Suzi Carson":MAILTO:suzi@yoga.net.nz
GEO:-36.8502225;174.7421481
X-APPLE-STRUCTURED-LOCATION;VALUE=URI;X-ADDRESS=Freda Stark Hall 20 Ponsonby Terrace Auckland 1011 New Zealand;X-APPLE-RADIUS=500;X-TITLE=20 Ponsonby Terrace:geo:174.7421481,-36.8502225
END:VEVENT
BEGIN:VEVENT
DTSTART;TZID=Pacific/Auckland:20261001T180000
DTEND;TZID=Pacific/Auckland:20261001T193000
DTSTAMP:20260420T020020
CREATED:20190306T224458Z
LAST-MODIFIED:20190306T224458Z
UID:19357-1790877600-1790883000@ponsonbycommunity.org.nz
SUMMARY:Four Winds Yoga
DESCRIPTION:
URL:https://ponsonbycommunity.org.nz/event/four-winds-yoga-beginners-class/2026-10-01/
LOCATION:Freda Stark Hall\, 20 Ponsonby Terrace\, Auckland\, 1011\, New Zealand
ORGANIZER;CN="Suzi Carson":MAILTO:suzi@yoga.net.nz
GEO:-36.8502225;174.7421481
X-APPLE-STRUCTURED-LOCATION;VALUE=URI;X-ADDRESS=Freda Stark Hall 20 Ponsonby Terrace Auckland 1011 New Zealand;X-APPLE-RADIUS=500;X-TITLE=20 Ponsonby Terrace:geo:174.7421481,-36.8502225
END:VEVENT
BEGIN:VEVENT
DTSTART;TZID=Pacific/Auckland:20261003T070000
DTEND;TZID=Pacific/Auckland:20261003T083000
DTSTAMP:20260420T020020
CREATED:20190306T224458Z
LAST-MODIFIED:20190306T224458Z
UID:19366-1791010800-1791016200@ponsonbycommunity.org.nz
SUMMARY:Four Winds Yoga
DESCRIPTION:
URL:https://ponsonbycommunity.org.nz/event/four-winds-yoga-beginners-class/2026-10-03/
LOCATION:Freda Stark Hall\, 20 Ponsonby Terrace\, Auckland\, 1011\, New Zealand
ORGANIZER;CN="Suzi Carson":MAILTO:suzi@yoga.net.nz
GEO:-36.8502225;174.7421481
X-APPLE-STRUCTURED-LOCATION;VALUE=URI;X-ADDRESS=Freda Stark Hall 20 Ponsonby Terrace Auckland 1011 New Zealand;X-APPLE-RADIUS=500;X-TITLE=20 Ponsonby Terrace:geo:174.7421481,-36.8502225
END:VEVENT
BEGIN:VEVENT
DTSTART;TZID=Pacific/Auckland:20261003T093000
DTEND;TZID=Pacific/Auckland:20261003T110000
DTSTAMP:20260420T020020
CREATED:20190306T224458Z
LAST-MODIFIED:20190306T224458Z
UID:19363-1791019800-1791025200@ponsonbycommunity.org.nz
SUMMARY:Four Winds Yoga
DESCRIPTION:
URL:https://ponsonbycommunity.org.nz/event/four-winds-yoga-beginners-class/2026-10-03/
LOCATION:Freda Stark Hall\, 20 Ponsonby Terrace\, Auckland\, 1011\, New Zealand
ORGANIZER;CN="Suzi Carson":MAILTO:suzi@yoga.net.nz
GEO:-36.8502225;174.7421481
X-APPLE-STRUCTURED-LOCATION;VALUE=URI;X-ADDRESS=Freda Stark Hall 20 Ponsonby Terrace Auckland 1011 New Zealand;X-APPLE-RADIUS=500;X-TITLE=20 Ponsonby Terrace:geo:174.7421481,-36.8502225
END:VEVENT
BEGIN:VEVENT
DTSTART;TZID=Pacific/Auckland:20261004T090000
DTEND;TZID=Pacific/Auckland:20261004T103000
DTSTAMP:20260420T020020
CREATED:20190306T224458Z
LAST-MODIFIED:20190306T224458Z
UID:19369-1791104400-1791109800@ponsonbycommunity.org.nz
SUMMARY:Four Winds Yoga
DESCRIPTION:
URL:https://ponsonbycommunity.org.nz/event/four-winds-yoga-beginners-class/2026-10-04/
LOCATION:Freda Stark Hall\, 20 Ponsonby Terrace\, Auckland\, 1011\, New Zealand
ORGANIZER;CN="Suzi Carson":MAILTO:suzi@yoga.net.nz
GEO:-36.8502225;174.7421481
X-APPLE-STRUCTURED-LOCATION;VALUE=URI;X-ADDRESS=Freda Stark Hall 20 Ponsonby Terrace Auckland 1011 New Zealand;X-APPLE-RADIUS=500;X-TITLE=20 Ponsonby Terrace:geo:174.7421481,-36.8502225
END:VEVENT
BEGIN:VEVENT
DTSTART;TZID=Pacific/Auckland:20261005T180000
DTEND;TZID=Pacific/Auckland:20261005T193000
DTSTAMP:20260420T020020
CREATED:20190306T224458Z
LAST-MODIFIED:20190306T224458Z
UID:19358-1791223200-1791228600@ponsonbycommunity.org.nz
SUMMARY:Four Winds Yoga
DESCRIPTION:
URL:https://ponsonbycommunity.org.nz/event/four-winds-yoga-beginners-class/2026-10-05/
LOCATION:Freda Stark Hall\, 20 Ponsonby Terrace\, Auckland\, 1011\, New Zealand
ORGANIZER;CN="Suzi Carson":MAILTO:suzi@yoga.net.nz
GEO:-36.8502225;174.7421481
X-APPLE-STRUCTURED-LOCATION;VALUE=URI;X-ADDRESS=Freda Stark Hall 20 Ponsonby Terrace Auckland 1011 New Zealand;X-APPLE-RADIUS=500;X-TITLE=20 Ponsonby Terrace:geo:174.7421481,-36.8502225
END:VEVENT
BEGIN:VEVENT
DTSTART;TZID=Pacific/Auckland:20261012T180000
DTEND;TZID=Pacific/Auckland:20261012T193000
DTSTAMP:20260420T020020
CREATED:20190306T224458Z
LAST-MODIFIED:20190306T224458Z
UID:19421-1791828000-1791833400@ponsonbycommunity.org.nz
SUMMARY:Four Winds Yoga
DESCRIPTION:
URL:https://ponsonbycommunity.org.nz/event/four-winds-yoga-beginners-class/2026-10-12/
LOCATION:Freda Stark Hall\, 20 Ponsonby Terrace\, Auckland\, 1011\, New Zealand
ORGANIZER;CN="Suzi Carson":MAILTO:suzi@yoga.net.nz
GEO:-36.8502225;174.7421481
X-APPLE-STRUCTURED-LOCATION;VALUE=URI;X-ADDRESS=Freda Stark Hall 20 Ponsonby Terrace Auckland 1011 New Zealand;X-APPLE-RADIUS=500;X-TITLE=20 Ponsonby Terrace:geo:174.7421481,-36.8502225
END:VEVENT
BEGIN:VEVENT
DTSTART;TZID=Pacific/Auckland:20261015T180000
DTEND;TZID=Pacific/Auckland:20261015T193000
DTSTAMP:20260420T020020
CREATED:20190306T224458Z
LAST-MODIFIED:20190306T224458Z
UID:19433-1792087200-1792092600@ponsonbycommunity.org.nz
SUMMARY:Four Winds Yoga
DESCRIPTION:
URL:https://ponsonbycommunity.org.nz/event/four-winds-yoga-beginners-class/2026-10-15/
LOCATION:Freda Stark Hall\, 20 Ponsonby Terrace\, Auckland\, 1011\, New Zealand
ORGANIZER;CN="Suzi Carson":MAILTO:suzi@yoga.net.nz
GEO:-36.8502225;174.7421481
X-APPLE-STRUCTURED-LOCATION;VALUE=URI;X-ADDRESS=Freda Stark Hall 20 Ponsonby Terrace Auckland 1011 New Zealand;X-APPLE-RADIUS=500;X-TITLE=20 Ponsonby Terrace:geo:174.7421481,-36.8502225
END:VEVENT
BEGIN:VEVENT
DTSTART;TZID=Pacific/Auckland:20261019T180000
DTEND;TZID=Pacific/Auckland:20261019T193000
DTSTAMP:20260420T020020
CREATED:20190306T224458Z
LAST-MODIFIED:20190306T224458Z
UID:19447-1792432800-1792438200@ponsonbycommunity.org.nz
SUMMARY:Four Winds Yoga
DESCRIPTION:
URL:https://ponsonbycommunity.org.nz/event/four-winds-yoga-beginners-class/2026-10-19/
LOCATION:Freda Stark Hall\, 20 Ponsonby Terrace\, Auckland\, 1011\, New Zealand
ORGANIZER;CN="Suzi Carson":MAILTO:suzi@yoga.net.nz
GEO:-36.8502225;174.7421481
X-APPLE-STRUCTURED-LOCATION;VALUE=URI;X-ADDRESS=Freda Stark Hall 20 Ponsonby Terrace Auckland 1011 New Zealand;X-APPLE-RADIUS=500;X-TITLE=20 Ponsonby Terrace:geo:174.7421481,-36.8502225
END:VEVENT
BEGIN:VEVENT
DTSTART;TZID=Pacific/Auckland:20261022T180000
DTEND;TZID=Pacific/Auckland:20261022T193000
DTSTAMP:20260420T020020
CREATED:20190306T224458Z
LAST-MODIFIED:20190306T224458Z
UID:19457-1792692000-1792697400@ponsonbycommunity.org.nz
SUMMARY:Four Winds Yoga
DESCRIPTION:
URL:https://ponsonbycommunity.org.nz/event/four-winds-yoga-beginners-class/2026-10-22/
LOCATION:Freda Stark Hall\, 20 Ponsonby Terrace\, Auckland\, 1011\, New Zealand
ORGANIZER;CN="Suzi Carson":MAILTO:suzi@yoga.net.nz
GEO:-36.8502225;174.7421481
X-APPLE-STRUCTURED-LOCATION;VALUE=URI;X-ADDRESS=Freda Stark Hall 20 Ponsonby Terrace Auckland 1011 New Zealand;X-APPLE-RADIUS=500;X-TITLE=20 Ponsonby Terrace:geo:174.7421481,-36.8502225
END:VEVENT
BEGIN:VEVENT
DTSTART;TZID=Pacific/Auckland:20261026T180000
DTEND;TZID=Pacific/Auckland:20261026T193000
DTSTAMP:20260420T020020
CREATED:20190306T224458Z
LAST-MODIFIED:20190306T224458Z
UID:19463-1793037600-1793043000@ponsonbycommunity.org.nz
SUMMARY:Four Winds Yoga
DESCRIPTION:
URL:https://ponsonbycommunity.org.nz/event/four-winds-yoga-beginners-class/2026-10-26/
LOCATION:Freda Stark Hall\, 20 Ponsonby Terrace\, Auckland\, 1011\, New Zealand
ORGANIZER;CN="Suzi Carson":MAILTO:suzi@yoga.net.nz
GEO:-36.8502225;174.7421481
X-APPLE-STRUCTURED-LOCATION;VALUE=URI;X-ADDRESS=Freda Stark Hall 20 Ponsonby Terrace Auckland 1011 New Zealand;X-APPLE-RADIUS=500;X-TITLE=20 Ponsonby Terrace:geo:174.7421481,-36.8502225
END:VEVENT
BEGIN:VEVENT
DTSTART;TZID=Pacific/Auckland:20261029T180000
DTEND;TZID=Pacific/Auckland:20261029T193000
DTSTAMP:20260420T020020
CREATED:20190306T224458Z
LAST-MODIFIED:20190306T224458Z
UID:19848-1793296800-1793302200@ponsonbycommunity.org.nz
SUMMARY:Four Winds Yoga
DESCRIPTION:
URL:https://ponsonbycommunity.org.nz/event/four-winds-yoga-beginners-class/2026-10-29/
LOCATION:Freda Stark Hall\, 20 Ponsonby Terrace\, Auckland\, 1011\, New Zealand
ORGANIZER;CN="Suzi Carson":MAILTO:suzi@yoga.net.nz
GEO:-36.8502225;174.7421481
X-APPLE-STRUCTURED-LOCATION;VALUE=URI;X-ADDRESS=Freda Stark Hall 20 Ponsonby Terrace Auckland 1011 New Zealand;X-APPLE-RADIUS=500;X-TITLE=20 Ponsonby Terrace:geo:174.7421481,-36.8502225
END:VEVENT
BEGIN:VEVENT
DTSTART;TZID=Pacific/Auckland:20261102T180000
DTEND;TZID=Pacific/Auckland:20261102T193000
DTSTAMP:20260420T020020
CREATED:20190306T224458Z
LAST-MODIFIED:20190306T224458Z
UID:19860-1793642400-1793647800@ponsonbycommunity.org.nz
SUMMARY:Four Winds Yoga
DESCRIPTION:
URL:https://ponsonbycommunity.org.nz/event/four-winds-yoga-beginners-class/2026-11-02/
LOCATION:Freda Stark Hall\, 20 Ponsonby Terrace\, Auckland\, 1011\, New Zealand
ORGANIZER;CN="Suzi Carson":MAILTO:suzi@yoga.net.nz
GEO:-36.8502225;174.7421481
X-APPLE-STRUCTURED-LOCATION;VALUE=URI;X-ADDRESS=Freda Stark Hall 20 Ponsonby Terrace Auckland 1011 New Zealand;X-APPLE-RADIUS=500;X-TITLE=20 Ponsonby Terrace:geo:174.7421481,-36.8502225
END:VEVENT
BEGIN:VEVENT
DTSTART;TZID=Pacific/Auckland:20261105T180000
DTEND;TZID=Pacific/Auckland:20261105T193000
DTSTAMP:20260420T020020
CREATED:20190306T224458Z
LAST-MODIFIED:20190306T224458Z
UID:19870-1793901600-1793907000@ponsonbycommunity.org.nz
SUMMARY:Four Winds Yoga
DESCRIPTION:
URL:https://ponsonbycommunity.org.nz/event/four-winds-yoga-beginners-class/2026-11-05/
LOCATION:Freda Stark Hall\, 20 Ponsonby Terrace\, Auckland\, 1011\, New Zealand
ORGANIZER;CN="Suzi Carson":MAILTO:suzi@yoga.net.nz
GEO:-36.8502225;174.7421481
X-APPLE-STRUCTURED-LOCATION;VALUE=URI;X-ADDRESS=Freda Stark Hall 20 Ponsonby Terrace Auckland 1011 New Zealand;X-APPLE-RADIUS=500;X-TITLE=20 Ponsonby Terrace:geo:174.7421481,-36.8502225
END:VEVENT
BEGIN:VEVENT
DTSTART;TZID=Pacific/Auckland:20261109T180000
DTEND;TZID=Pacific/Auckland:20261109T193000
DTSTAMP:20260420T020020
CREATED:20190306T224458Z
LAST-MODIFIED:20190306T224458Z
UID:19879-1794247200-1794252600@ponsonbycommunity.org.nz
SUMMARY:Four Winds Yoga
DESCRIPTION:
URL:https://ponsonbycommunity.org.nz/event/four-winds-yoga-beginners-class/2026-11-09/
LOCATION:Freda Stark Hall\, 20 Ponsonby Terrace\, Auckland\, 1011\, New Zealand
ORGANIZER;CN="Suzi Carson":MAILTO:suzi@yoga.net.nz
GEO:-36.8502225;174.7421481
X-APPLE-STRUCTURED-LOCATION;VALUE=URI;X-ADDRESS=Freda Stark Hall 20 Ponsonby Terrace Auckland 1011 New Zealand;X-APPLE-RADIUS=500;X-TITLE=20 Ponsonby Terrace:geo:174.7421481,-36.8502225
END:VEVENT
BEGIN:VEVENT
DTSTART;TZID=Pacific/Auckland:20261112T180000
DTEND;TZID=Pacific/Auckland:20261112T193000
DTSTAMP:20260420T020020
CREATED:20190306T224458Z
LAST-MODIFIED:20190306T224458Z
UID:19890-1794506400-1794511800@ponsonbycommunity.org.nz
SUMMARY:Four Winds Yoga
DESCRIPTION:
URL:https://ponsonbycommunity.org.nz/event/four-winds-yoga-beginners-class/2026-11-12/
LOCATION:Freda Stark Hall\, 20 Ponsonby Terrace\, Auckland\, 1011\, New Zealand
ORGANIZER;CN="Suzi Carson":MAILTO:suzi@yoga.net.nz
GEO:-36.8502225;174.7421481
X-APPLE-STRUCTURED-LOCATION;VALUE=URI;X-ADDRESS=Freda Stark Hall 20 Ponsonby Terrace Auckland 1011 New Zealand;X-APPLE-RADIUS=500;X-TITLE=20 Ponsonby Terrace:geo:174.7421481,-36.8502225
END:VEVENT
END:VCALENDAR