BEGIN:VCALENDAR
VERSION:2.0
PRODID:-//Ponsonby Community Centre - ECPv6.15.20//NONSGML v1.0//EN
CALSCALE:GREGORIAN
METHOD:PUBLISH
X-WR-CALNAME:Ponsonby Community Centre
X-ORIGINAL-URL:https://ponsonbycommunity.org.nz
X-WR-CALDESC:Events for Ponsonby Community Centre
REFRESH-INTERVAL;VALUE=DURATION:PT1H
X-Robots-Tag:noindex
X-PUBLISHED-TTL:PT1H
BEGIN:VTIMEZONE
TZID:Pacific/Auckland
BEGIN:STANDARD
TZOFFSETFROM:+1300
TZOFFSETTO:+1200
TZNAME:NZST
DTSTART:20240406T140000
END:STANDARD
BEGIN:DAYLIGHT
TZOFFSETFROM:+1200
TZOFFSETTO:+1300
TZNAME:NZDT
DTSTART:20240928T140000
END:DAYLIGHT
BEGIN:STANDARD
TZOFFSETFROM:+1300
TZOFFSETTO:+1200
TZNAME:NZST
DTSTART:20250405T140000
END:STANDARD
BEGIN:DAYLIGHT
TZOFFSETFROM:+1200
TZOFFSETTO:+1300
TZNAME:NZDT
DTSTART:20250927T140000
END:DAYLIGHT
BEGIN:STANDARD
TZOFFSETFROM:+1300
TZOFFSETTO:+1200
TZNAME:NZST
DTSTART:20260404T140000
END:STANDARD
BEGIN:DAYLIGHT
TZOFFSETFROM:+1200
TZOFFSETTO:+1300
TZNAME:NZDT
DTSTART:20260926T140000
END:DAYLIGHT
END:VTIMEZONE
BEGIN:VEVENT
DTSTART;TZID=Pacific/Auckland:20250814T180000
DTEND;TZID=Pacific/Auckland:20250814T193000
DTSTAMP:20260420T034935
CREATED:20190306T224458Z
LAST-MODIFIED:20190306T224458Z
UID:16862-1755194400-1755199800@ponsonbycommunity.org.nz
SUMMARY:Four Winds Yoga
DESCRIPTION:
URL:https://ponsonbycommunity.org.nz/event/four-winds-yoga-beginners-class/2025-08-14/
LOCATION:Freda Stark Hall\, 20 Ponsonby Terrace\, Auckland\, 1011\, New Zealand
ORGANIZER;CN="Suzi Carson":MAILTO:suzi@yoga.net.nz
GEO:-36.8502225;174.7421481
X-APPLE-STRUCTURED-LOCATION;VALUE=URI;X-ADDRESS=Freda Stark Hall 20 Ponsonby Terrace Auckland 1011 New Zealand;X-APPLE-RADIUS=500;X-TITLE=20 Ponsonby Terrace:geo:174.7421481,-36.8502225
END:VEVENT
BEGIN:VEVENT
DTSTART;TZID=Pacific/Auckland:20250813T093000
DTEND;TZID=Pacific/Auckland:20250813T110000
DTSTAMP:20260420T034935
CREATED:20190306T224458Z
LAST-MODIFIED:20190306T224458Z
UID:16861-1755077400-1755082800@ponsonbycommunity.org.nz
SUMMARY:Four Winds Yoga
DESCRIPTION:
URL:https://ponsonbycommunity.org.nz/event/four-winds-yoga-beginners-class/2025-08-13/
LOCATION:Freda Stark Hall\, 20 Ponsonby Terrace\, Auckland\, 1011\, New Zealand
ORGANIZER;CN="Suzi Carson":MAILTO:suzi@yoga.net.nz
GEO:-36.8502225;174.7421481
X-APPLE-STRUCTURED-LOCATION;VALUE=URI;X-ADDRESS=Freda Stark Hall 20 Ponsonby Terrace Auckland 1011 New Zealand;X-APPLE-RADIUS=500;X-TITLE=20 Ponsonby Terrace:geo:174.7421481,-36.8502225
END:VEVENT
BEGIN:VEVENT
DTSTART;TZID=Pacific/Auckland:20250811T180000
DTEND;TZID=Pacific/Auckland:20250811T193000
DTSTAMP:20260420T034935
CREATED:20190306T224458Z
LAST-MODIFIED:20190306T224458Z
UID:16860-1754935200-1754940600@ponsonbycommunity.org.nz
SUMMARY:Four Winds Yoga
DESCRIPTION:
URL:https://ponsonbycommunity.org.nz/event/four-winds-yoga-beginners-class/2025-08-11/
LOCATION:Freda Stark Hall\, 20 Ponsonby Terrace\, Auckland\, 1011\, New Zealand
ORGANIZER;CN="Suzi Carson":MAILTO:suzi@yoga.net.nz
GEO:-36.8502225;174.7421481
X-APPLE-STRUCTURED-LOCATION;VALUE=URI;X-ADDRESS=Freda Stark Hall 20 Ponsonby Terrace Auckland 1011 New Zealand;X-APPLE-RADIUS=500;X-TITLE=20 Ponsonby Terrace:geo:174.7421481,-36.8502225
END:VEVENT
BEGIN:VEVENT
DTSTART;TZID=Pacific/Auckland:20250810T090000
DTEND;TZID=Pacific/Auckland:20250810T103000
DTSTAMP:20260420T034935
CREATED:20190306T224458Z
LAST-MODIFIED:20190306T224458Z
UID:16859-1754816400-1754821800@ponsonbycommunity.org.nz
SUMMARY:Four Winds Yoga
DESCRIPTION:
URL:https://ponsonbycommunity.org.nz/event/four-winds-yoga-beginners-class/2025-08-10/
LOCATION:Freda Stark Hall\, 20 Ponsonby Terrace\, Auckland\, 1011\, New Zealand
ORGANIZER;CN="Suzi Carson":MAILTO:suzi@yoga.net.nz
GEO:-36.8502225;174.7421481
X-APPLE-STRUCTURED-LOCATION;VALUE=URI;X-ADDRESS=Freda Stark Hall 20 Ponsonby Terrace Auckland 1011 New Zealand;X-APPLE-RADIUS=500;X-TITLE=20 Ponsonby Terrace:geo:174.7421481,-36.8502225
END:VEVENT
BEGIN:VEVENT
DTSTART;TZID=Pacific/Auckland:20250809T093000
DTEND;TZID=Pacific/Auckland:20250809T110000
DTSTAMP:20260420T034935
CREATED:20190306T224458Z
LAST-MODIFIED:20190306T224458Z
UID:16858-1754731800-1754737200@ponsonbycommunity.org.nz
SUMMARY:Four Winds Yoga
DESCRIPTION:
URL:https://ponsonbycommunity.org.nz/event/four-winds-yoga-beginners-class/2025-08-09/10/
LOCATION:Freda Stark Hall\, 20 Ponsonby Terrace\, Auckland\, 1011\, New Zealand
ORGANIZER;CN="Suzi Carson":MAILTO:suzi@yoga.net.nz
GEO:-36.8502225;174.7421481
X-APPLE-STRUCTURED-LOCATION;VALUE=URI;X-ADDRESS=Freda Stark Hall 20 Ponsonby Terrace Auckland 1011 New Zealand;X-APPLE-RADIUS=500;X-TITLE=20 Ponsonby Terrace:geo:174.7421481,-36.8502225
END:VEVENT
BEGIN:VEVENT
DTSTART;TZID=Pacific/Auckland:20250809T070000
DTEND;TZID=Pacific/Auckland:20250809T083000
DTSTAMP:20260420T034935
CREATED:20190306T224458Z
LAST-MODIFIED:20190306T224458Z
UID:16857-1754722800-1754728200@ponsonbycommunity.org.nz
SUMMARY:Four Winds Yoga
DESCRIPTION:
URL:https://ponsonbycommunity.org.nz/event/four-winds-yoga-beginners-class/2025-08-09/
LOCATION:Freda Stark Hall\, 20 Ponsonby Terrace\, Auckland\, 1011\, New Zealand
ORGANIZER;CN="Suzi Carson":MAILTO:suzi@yoga.net.nz
GEO:-36.8502225;174.7421481
X-APPLE-STRUCTURED-LOCATION;VALUE=URI;X-ADDRESS=Freda Stark Hall 20 Ponsonby Terrace Auckland 1011 New Zealand;X-APPLE-RADIUS=500;X-TITLE=20 Ponsonby Terrace:geo:174.7421481,-36.8502225
END:VEVENT
BEGIN:VEVENT
DTSTART;TZID=Pacific/Auckland:20250807T180000
DTEND;TZID=Pacific/Auckland:20250807T193000
DTSTAMP:20260420T034935
CREATED:20190306T224458Z
LAST-MODIFIED:20190306T224458Z
UID:16856-1754589600-1754595000@ponsonbycommunity.org.nz
SUMMARY:Four Winds Yoga
DESCRIPTION:
URL:https://ponsonbycommunity.org.nz/event/four-winds-yoga-beginners-class/2025-08-07/
LOCATION:Freda Stark Hall\, 20 Ponsonby Terrace\, Auckland\, 1011\, New Zealand
ORGANIZER;CN="Suzi Carson":MAILTO:suzi@yoga.net.nz
GEO:-36.8502225;174.7421481
X-APPLE-STRUCTURED-LOCATION;VALUE=URI;X-ADDRESS=Freda Stark Hall 20 Ponsonby Terrace Auckland 1011 New Zealand;X-APPLE-RADIUS=500;X-TITLE=20 Ponsonby Terrace:geo:174.7421481,-36.8502225
END:VEVENT
BEGIN:VEVENT
DTSTART;TZID=Pacific/Auckland:20250806T093000
DTEND;TZID=Pacific/Auckland:20250806T110000
DTSTAMP:20260420T034935
CREATED:20190306T224458Z
LAST-MODIFIED:20190306T224458Z
UID:16855-1754472600-1754478000@ponsonbycommunity.org.nz
SUMMARY:Four Winds Yoga
DESCRIPTION:
URL:https://ponsonbycommunity.org.nz/event/four-winds-yoga-beginners-class/2025-08-06/
LOCATION:Freda Stark Hall\, 20 Ponsonby Terrace\, Auckland\, 1011\, New Zealand
ORGANIZER;CN="Suzi Carson":MAILTO:suzi@yoga.net.nz
GEO:-36.8502225;174.7421481
X-APPLE-STRUCTURED-LOCATION;VALUE=URI;X-ADDRESS=Freda Stark Hall 20 Ponsonby Terrace Auckland 1011 New Zealand;X-APPLE-RADIUS=500;X-TITLE=20 Ponsonby Terrace:geo:174.7421481,-36.8502225
END:VEVENT
BEGIN:VEVENT
DTSTART;TZID=Pacific/Auckland:20250804T180000
DTEND;TZID=Pacific/Auckland:20250804T193000
DTSTAMP:20260420T034935
CREATED:20190306T224458Z
LAST-MODIFIED:20190306T224458Z
UID:16854-1754330400-1754335800@ponsonbycommunity.org.nz
SUMMARY:Four Winds Yoga
DESCRIPTION:
URL:https://ponsonbycommunity.org.nz/event/four-winds-yoga-beginners-class/2025-08-04/
LOCATION:Freda Stark Hall\, 20 Ponsonby Terrace\, Auckland\, 1011\, New Zealand
ORGANIZER;CN="Suzi Carson":MAILTO:suzi@yoga.net.nz
GEO:-36.8502225;174.7421481
X-APPLE-STRUCTURED-LOCATION;VALUE=URI;X-ADDRESS=Freda Stark Hall 20 Ponsonby Terrace Auckland 1011 New Zealand;X-APPLE-RADIUS=500;X-TITLE=20 Ponsonby Terrace:geo:174.7421481,-36.8502225
END:VEVENT
BEGIN:VEVENT
DTSTART;TZID=Pacific/Auckland:20250803T090000
DTEND;TZID=Pacific/Auckland:20250803T103000
DTSTAMP:20260420T034935
CREATED:20190306T224458Z
LAST-MODIFIED:20190306T224458Z
UID:16853-1754211600-1754217000@ponsonbycommunity.org.nz
SUMMARY:Four Winds Yoga
DESCRIPTION:
URL:https://ponsonbycommunity.org.nz/event/four-winds-yoga-beginners-class/2025-08-03/
LOCATION:Freda Stark Hall\, 20 Ponsonby Terrace\, Auckland\, 1011\, New Zealand
ORGANIZER;CN="Suzi Carson":MAILTO:suzi@yoga.net.nz
GEO:-36.8502225;174.7421481
X-APPLE-STRUCTURED-LOCATION;VALUE=URI;X-ADDRESS=Freda Stark Hall 20 Ponsonby Terrace Auckland 1011 New Zealand;X-APPLE-RADIUS=500;X-TITLE=20 Ponsonby Terrace:geo:174.7421481,-36.8502225
END:VEVENT
BEGIN:VEVENT
DTSTART;TZID=Pacific/Auckland:20250802T093000
DTEND;TZID=Pacific/Auckland:20250802T110000
DTSTAMP:20260420T034935
CREATED:20190306T224458Z
LAST-MODIFIED:20190306T224458Z
UID:16852-1754127000-1754132400@ponsonbycommunity.org.nz
SUMMARY:Four Winds Yoga
DESCRIPTION:
URL:https://ponsonbycommunity.org.nz/event/four-winds-yoga-beginners-class/2025-08-02/10/
LOCATION:Freda Stark Hall\, 20 Ponsonby Terrace\, Auckland\, 1011\, New Zealand
ORGANIZER;CN="Suzi Carson":MAILTO:suzi@yoga.net.nz
GEO:-36.8502225;174.7421481
X-APPLE-STRUCTURED-LOCATION;VALUE=URI;X-ADDRESS=Freda Stark Hall 20 Ponsonby Terrace Auckland 1011 New Zealand;X-APPLE-RADIUS=500;X-TITLE=20 Ponsonby Terrace:geo:174.7421481,-36.8502225
END:VEVENT
BEGIN:VEVENT
DTSTART;TZID=Pacific/Auckland:20250802T070000
DTEND;TZID=Pacific/Auckland:20250802T083000
DTSTAMP:20260420T034935
CREATED:20190306T224458Z
LAST-MODIFIED:20190306T224458Z
UID:16851-1754118000-1754123400@ponsonbycommunity.org.nz
SUMMARY:Four Winds Yoga
DESCRIPTION:
URL:https://ponsonbycommunity.org.nz/event/four-winds-yoga-beginners-class/2025-08-02/
LOCATION:Freda Stark Hall\, 20 Ponsonby Terrace\, Auckland\, 1011\, New Zealand
ORGANIZER;CN="Suzi Carson":MAILTO:suzi@yoga.net.nz
GEO:-36.8502225;174.7421481
X-APPLE-STRUCTURED-LOCATION;VALUE=URI;X-ADDRESS=Freda Stark Hall 20 Ponsonby Terrace Auckland 1011 New Zealand;X-APPLE-RADIUS=500;X-TITLE=20 Ponsonby Terrace:geo:174.7421481,-36.8502225
END:VEVENT
BEGIN:VEVENT
DTSTART;TZID=Pacific/Auckland:20250731T180000
DTEND;TZID=Pacific/Auckland:20250731T193000
DTSTAMP:20260420T034935
CREATED:20190306T224458Z
LAST-MODIFIED:20190306T224458Z
UID:16850-1753984800-1753990200@ponsonbycommunity.org.nz
SUMMARY:Four Winds Yoga
DESCRIPTION:
URL:https://ponsonbycommunity.org.nz/event/four-winds-yoga-beginners-class/2025-07-31/
LOCATION:Freda Stark Hall\, 20 Ponsonby Terrace\, Auckland\, 1011\, New Zealand
ORGANIZER;CN="Suzi Carson":MAILTO:suzi@yoga.net.nz
GEO:-36.8502225;174.7421481
X-APPLE-STRUCTURED-LOCATION;VALUE=URI;X-ADDRESS=Freda Stark Hall 20 Ponsonby Terrace Auckland 1011 New Zealand;X-APPLE-RADIUS=500;X-TITLE=20 Ponsonby Terrace:geo:174.7421481,-36.8502225
END:VEVENT
BEGIN:VEVENT
DTSTART;TZID=Pacific/Auckland:20250730T093000
DTEND;TZID=Pacific/Auckland:20250730T110000
DTSTAMP:20260420T034935
CREATED:20190306T224458Z
LAST-MODIFIED:20190306T224458Z
UID:16849-1753867800-1753873200@ponsonbycommunity.org.nz
SUMMARY:Four Winds Yoga
DESCRIPTION:
URL:https://ponsonbycommunity.org.nz/event/four-winds-yoga-beginners-class/2025-07-30/
LOCATION:Freda Stark Hall\, 20 Ponsonby Terrace\, Auckland\, 1011\, New Zealand
ORGANIZER;CN="Suzi Carson":MAILTO:suzi@yoga.net.nz
GEO:-36.8502225;174.7421481
X-APPLE-STRUCTURED-LOCATION;VALUE=URI;X-ADDRESS=Freda Stark Hall 20 Ponsonby Terrace Auckland 1011 New Zealand;X-APPLE-RADIUS=500;X-TITLE=20 Ponsonby Terrace:geo:174.7421481,-36.8502225
END:VEVENT
BEGIN:VEVENT
DTSTART;TZID=Pacific/Auckland:20250728T180000
DTEND;TZID=Pacific/Auckland:20250728T193000
DTSTAMP:20260420T034935
CREATED:20190306T224458Z
LAST-MODIFIED:20190306T224458Z
UID:16848-1753725600-1753731000@ponsonbycommunity.org.nz
SUMMARY:Four Winds Yoga
DESCRIPTION:
URL:https://ponsonbycommunity.org.nz/event/four-winds-yoga-beginners-class/2025-07-28/
LOCATION:Freda Stark Hall\, 20 Ponsonby Terrace\, Auckland\, 1011\, New Zealand
ORGANIZER;CN="Suzi Carson":MAILTO:suzi@yoga.net.nz
GEO:-36.8502225;174.7421481
X-APPLE-STRUCTURED-LOCATION;VALUE=URI;X-ADDRESS=Freda Stark Hall 20 Ponsonby Terrace Auckland 1011 New Zealand;X-APPLE-RADIUS=500;X-TITLE=20 Ponsonby Terrace:geo:174.7421481,-36.8502225
END:VEVENT
BEGIN:VEVENT
DTSTART;TZID=Pacific/Auckland:20250727T090000
DTEND;TZID=Pacific/Auckland:20250727T103000
DTSTAMP:20260420T034935
CREATED:20190306T224458Z
LAST-MODIFIED:20190306T224458Z
UID:16847-1753606800-1753612200@ponsonbycommunity.org.nz
SUMMARY:Four Winds Yoga
DESCRIPTION:
URL:https://ponsonbycommunity.org.nz/event/four-winds-yoga-beginners-class/2025-07-27/
LOCATION:Freda Stark Hall\, 20 Ponsonby Terrace\, Auckland\, 1011\, New Zealand
ORGANIZER;CN="Suzi Carson":MAILTO:suzi@yoga.net.nz
GEO:-36.8502225;174.7421481
X-APPLE-STRUCTURED-LOCATION;VALUE=URI;X-ADDRESS=Freda Stark Hall 20 Ponsonby Terrace Auckland 1011 New Zealand;X-APPLE-RADIUS=500;X-TITLE=20 Ponsonby Terrace:geo:174.7421481,-36.8502225
END:VEVENT
BEGIN:VEVENT
DTSTART;TZID=Pacific/Auckland:20250726T093000
DTEND;TZID=Pacific/Auckland:20250726T110000
DTSTAMP:20260420T034935
CREATED:20190306T224458Z
LAST-MODIFIED:20190306T224458Z
UID:16846-1753522200-1753527600@ponsonbycommunity.org.nz
SUMMARY:Four Winds Yoga
DESCRIPTION:
URL:https://ponsonbycommunity.org.nz/event/four-winds-yoga-beginners-class/2025-07-26/10/
LOCATION:Freda Stark Hall\, 20 Ponsonby Terrace\, Auckland\, 1011\, New Zealand
ORGANIZER;CN="Suzi Carson":MAILTO:suzi@yoga.net.nz
GEO:-36.8502225;174.7421481
X-APPLE-STRUCTURED-LOCATION;VALUE=URI;X-ADDRESS=Freda Stark Hall 20 Ponsonby Terrace Auckland 1011 New Zealand;X-APPLE-RADIUS=500;X-TITLE=20 Ponsonby Terrace:geo:174.7421481,-36.8502225
END:VEVENT
BEGIN:VEVENT
DTSTART;TZID=Pacific/Auckland:20250726T070000
DTEND;TZID=Pacific/Auckland:20250726T083000
DTSTAMP:20260420T034935
CREATED:20190306T224458Z
LAST-MODIFIED:20190306T224458Z
UID:16845-1753513200-1753518600@ponsonbycommunity.org.nz
SUMMARY:Four Winds Yoga
DESCRIPTION:
URL:https://ponsonbycommunity.org.nz/event/four-winds-yoga-beginners-class/2025-07-26/
LOCATION:Freda Stark Hall\, 20 Ponsonby Terrace\, Auckland\, 1011\, New Zealand
ORGANIZER;CN="Suzi Carson":MAILTO:suzi@yoga.net.nz
GEO:-36.8502225;174.7421481
X-APPLE-STRUCTURED-LOCATION;VALUE=URI;X-ADDRESS=Freda Stark Hall 20 Ponsonby Terrace Auckland 1011 New Zealand;X-APPLE-RADIUS=500;X-TITLE=20 Ponsonby Terrace:geo:174.7421481,-36.8502225
END:VEVENT
BEGIN:VEVENT
DTSTART;TZID=Pacific/Auckland:20250724T180000
DTEND;TZID=Pacific/Auckland:20250724T193000
DTSTAMP:20260420T034935
CREATED:20190306T224458Z
LAST-MODIFIED:20190306T224458Z
UID:16844-1753380000-1753385400@ponsonbycommunity.org.nz
SUMMARY:Four Winds Yoga
DESCRIPTION:
URL:https://ponsonbycommunity.org.nz/event/four-winds-yoga-beginners-class/2025-07-24/
LOCATION:Freda Stark Hall\, 20 Ponsonby Terrace\, Auckland\, 1011\, New Zealand
ORGANIZER;CN="Suzi Carson":MAILTO:suzi@yoga.net.nz
GEO:-36.8502225;174.7421481
X-APPLE-STRUCTURED-LOCATION;VALUE=URI;X-ADDRESS=Freda Stark Hall 20 Ponsonby Terrace Auckland 1011 New Zealand;X-APPLE-RADIUS=500;X-TITLE=20 Ponsonby Terrace:geo:174.7421481,-36.8502225
END:VEVENT
BEGIN:VEVENT
DTSTART;TZID=Pacific/Auckland:20250723T093000
DTEND;TZID=Pacific/Auckland:20250723T110000
DTSTAMP:20260420T034935
CREATED:20190306T224458Z
LAST-MODIFIED:20190306T224458Z
UID:16843-1753263000-1753268400@ponsonbycommunity.org.nz
SUMMARY:Four Winds Yoga
DESCRIPTION:
URL:https://ponsonbycommunity.org.nz/event/four-winds-yoga-beginners-class/2025-07-23/
LOCATION:Freda Stark Hall\, 20 Ponsonby Terrace\, Auckland\, 1011\, New Zealand
ORGANIZER;CN="Suzi Carson":MAILTO:suzi@yoga.net.nz
GEO:-36.8502225;174.7421481
X-APPLE-STRUCTURED-LOCATION;VALUE=URI;X-ADDRESS=Freda Stark Hall 20 Ponsonby Terrace Auckland 1011 New Zealand;X-APPLE-RADIUS=500;X-TITLE=20 Ponsonby Terrace:geo:174.7421481,-36.8502225
END:VEVENT
BEGIN:VEVENT
DTSTART;TZID=Pacific/Auckland:20250721T180000
DTEND;TZID=Pacific/Auckland:20250721T193000
DTSTAMP:20260420T034935
CREATED:20190306T224458Z
LAST-MODIFIED:20190306T224458Z
UID:16842-1753120800-1753126200@ponsonbycommunity.org.nz
SUMMARY:Four Winds Yoga
DESCRIPTION:
URL:https://ponsonbycommunity.org.nz/event/four-winds-yoga-beginners-class/2025-07-21/
LOCATION:Freda Stark Hall\, 20 Ponsonby Terrace\, Auckland\, 1011\, New Zealand
ORGANIZER;CN="Suzi Carson":MAILTO:suzi@yoga.net.nz
GEO:-36.8502225;174.7421481
X-APPLE-STRUCTURED-LOCATION;VALUE=URI;X-ADDRESS=Freda Stark Hall 20 Ponsonby Terrace Auckland 1011 New Zealand;X-APPLE-RADIUS=500;X-TITLE=20 Ponsonby Terrace:geo:174.7421481,-36.8502225
END:VEVENT
BEGIN:VEVENT
DTSTART;TZID=Pacific/Auckland:20250720T090000
DTEND;TZID=Pacific/Auckland:20250720T103000
DTSTAMP:20260420T034935
CREATED:20190306T224458Z
LAST-MODIFIED:20190306T224458Z
UID:16841-1753002000-1753007400@ponsonbycommunity.org.nz
SUMMARY:Four Winds Yoga
DESCRIPTION:
URL:https://ponsonbycommunity.org.nz/event/four-winds-yoga-beginners-class/2025-07-20/
LOCATION:Freda Stark Hall\, 20 Ponsonby Terrace\, Auckland\, 1011\, New Zealand
ORGANIZER;CN="Suzi Carson":MAILTO:suzi@yoga.net.nz
GEO:-36.8502225;174.7421481
X-APPLE-STRUCTURED-LOCATION;VALUE=URI;X-ADDRESS=Freda Stark Hall 20 Ponsonby Terrace Auckland 1011 New Zealand;X-APPLE-RADIUS=500;X-TITLE=20 Ponsonby Terrace:geo:174.7421481,-36.8502225
END:VEVENT
BEGIN:VEVENT
DTSTART;TZID=Pacific/Auckland:20250719T093000
DTEND;TZID=Pacific/Auckland:20250719T110000
DTSTAMP:20260420T034935
CREATED:20190306T224458Z
LAST-MODIFIED:20190306T224458Z
UID:16840-1752917400-1752922800@ponsonbycommunity.org.nz
SUMMARY:Four Winds Yoga
DESCRIPTION:
URL:https://ponsonbycommunity.org.nz/event/four-winds-yoga-beginners-class/2025-07-19/10/
LOCATION:Freda Stark Hall\, 20 Ponsonby Terrace\, Auckland\, 1011\, New Zealand
ORGANIZER;CN="Suzi Carson":MAILTO:suzi@yoga.net.nz
GEO:-36.8502225;174.7421481
X-APPLE-STRUCTURED-LOCATION;VALUE=URI;X-ADDRESS=Freda Stark Hall 20 Ponsonby Terrace Auckland 1011 New Zealand;X-APPLE-RADIUS=500;X-TITLE=20 Ponsonby Terrace:geo:174.7421481,-36.8502225
END:VEVENT
BEGIN:VEVENT
DTSTART;TZID=Pacific/Auckland:20250719T070000
DTEND;TZID=Pacific/Auckland:20250719T083000
DTSTAMP:20260420T034935
CREATED:20190306T224458Z
LAST-MODIFIED:20190306T224458Z
UID:16839-1752908400-1752913800@ponsonbycommunity.org.nz
SUMMARY:Four Winds Yoga
DESCRIPTION:
URL:https://ponsonbycommunity.org.nz/event/four-winds-yoga-beginners-class/2025-07-19/
LOCATION:Freda Stark Hall\, 20 Ponsonby Terrace\, Auckland\, 1011\, New Zealand
ORGANIZER;CN="Suzi Carson":MAILTO:suzi@yoga.net.nz
GEO:-36.8502225;174.7421481
X-APPLE-STRUCTURED-LOCATION;VALUE=URI;X-ADDRESS=Freda Stark Hall 20 Ponsonby Terrace Auckland 1011 New Zealand;X-APPLE-RADIUS=500;X-TITLE=20 Ponsonby Terrace:geo:174.7421481,-36.8502225
END:VEVENT
BEGIN:VEVENT
DTSTART;TZID=Pacific/Auckland:20250717T180000
DTEND;TZID=Pacific/Auckland:20250717T193000
DTSTAMP:20260420T034935
CREATED:20190306T224458Z
LAST-MODIFIED:20190306T224458Z
UID:16838-1752775200-1752780600@ponsonbycommunity.org.nz
SUMMARY:Four Winds Yoga
DESCRIPTION:
URL:https://ponsonbycommunity.org.nz/event/four-winds-yoga-beginners-class/2025-07-17/
LOCATION:Freda Stark Hall\, 20 Ponsonby Terrace\, Auckland\, 1011\, New Zealand
ORGANIZER;CN="Suzi Carson":MAILTO:suzi@yoga.net.nz
GEO:-36.8502225;174.7421481
X-APPLE-STRUCTURED-LOCATION;VALUE=URI;X-ADDRESS=Freda Stark Hall 20 Ponsonby Terrace Auckland 1011 New Zealand;X-APPLE-RADIUS=500;X-TITLE=20 Ponsonby Terrace:geo:174.7421481,-36.8502225
END:VEVENT
BEGIN:VEVENT
DTSTART;TZID=Pacific/Auckland:20250716T093000
DTEND;TZID=Pacific/Auckland:20250716T110000
DTSTAMP:20260420T034935
CREATED:20190306T224458Z
LAST-MODIFIED:20190306T224458Z
UID:16837-1752658200-1752663600@ponsonbycommunity.org.nz
SUMMARY:Four Winds Yoga
DESCRIPTION:
URL:https://ponsonbycommunity.org.nz/event/four-winds-yoga-beginners-class/2025-07-16/
LOCATION:Freda Stark Hall\, 20 Ponsonby Terrace\, Auckland\, 1011\, New Zealand
ORGANIZER;CN="Suzi Carson":MAILTO:suzi@yoga.net.nz
GEO:-36.8502225;174.7421481
X-APPLE-STRUCTURED-LOCATION;VALUE=URI;X-ADDRESS=Freda Stark Hall 20 Ponsonby Terrace Auckland 1011 New Zealand;X-APPLE-RADIUS=500;X-TITLE=20 Ponsonby Terrace:geo:174.7421481,-36.8502225
END:VEVENT
BEGIN:VEVENT
DTSTART;TZID=Pacific/Auckland:20250714T180000
DTEND;TZID=Pacific/Auckland:20250714T193000
DTSTAMP:20260420T034935
CREATED:20190306T224458Z
LAST-MODIFIED:20190306T224458Z
UID:16836-1752516000-1752521400@ponsonbycommunity.org.nz
SUMMARY:Four Winds Yoga
DESCRIPTION:
URL:https://ponsonbycommunity.org.nz/event/four-winds-yoga-beginners-class/2025-07-14/
LOCATION:Freda Stark Hall\, 20 Ponsonby Terrace\, Auckland\, 1011\, New Zealand
ORGANIZER;CN="Suzi Carson":MAILTO:suzi@yoga.net.nz
GEO:-36.8502225;174.7421481
X-APPLE-STRUCTURED-LOCATION;VALUE=URI;X-ADDRESS=Freda Stark Hall 20 Ponsonby Terrace Auckland 1011 New Zealand;X-APPLE-RADIUS=500;X-TITLE=20 Ponsonby Terrace:geo:174.7421481,-36.8502225
END:VEVENT
BEGIN:VEVENT
DTSTART;TZID=Pacific/Auckland:20250713T090000
DTEND;TZID=Pacific/Auckland:20250713T103000
DTSTAMP:20260420T034935
CREATED:20190306T224458Z
LAST-MODIFIED:20190306T224458Z
UID:16835-1752397200-1752402600@ponsonbycommunity.org.nz
SUMMARY:Four Winds Yoga
DESCRIPTION:
URL:https://ponsonbycommunity.org.nz/event/four-winds-yoga-beginners-class/2025-07-13/
LOCATION:Freda Stark Hall\, 20 Ponsonby Terrace\, Auckland\, 1011\, New Zealand
ORGANIZER;CN="Suzi Carson":MAILTO:suzi@yoga.net.nz
GEO:-36.8502225;174.7421481
X-APPLE-STRUCTURED-LOCATION;VALUE=URI;X-ADDRESS=Freda Stark Hall 20 Ponsonby Terrace Auckland 1011 New Zealand;X-APPLE-RADIUS=500;X-TITLE=20 Ponsonby Terrace:geo:174.7421481,-36.8502225
END:VEVENT
BEGIN:VEVENT
DTSTART;TZID=Pacific/Auckland:20250712T093000
DTEND;TZID=Pacific/Auckland:20250712T110000
DTSTAMP:20260420T034935
CREATED:20190306T224458Z
LAST-MODIFIED:20190306T224458Z
UID:16834-1752312600-1752318000@ponsonbycommunity.org.nz
SUMMARY:Four Winds Yoga
DESCRIPTION:
URL:https://ponsonbycommunity.org.nz/event/four-winds-yoga-beginners-class/2025-07-12/10/
LOCATION:Freda Stark Hall\, 20 Ponsonby Terrace\, Auckland\, 1011\, New Zealand
ORGANIZER;CN="Suzi Carson":MAILTO:suzi@yoga.net.nz
GEO:-36.8502225;174.7421481
X-APPLE-STRUCTURED-LOCATION;VALUE=URI;X-ADDRESS=Freda Stark Hall 20 Ponsonby Terrace Auckland 1011 New Zealand;X-APPLE-RADIUS=500;X-TITLE=20 Ponsonby Terrace:geo:174.7421481,-36.8502225
END:VEVENT
BEGIN:VEVENT
DTSTART;TZID=Pacific/Auckland:20250712T070000
DTEND;TZID=Pacific/Auckland:20250712T083000
DTSTAMP:20260420T034935
CREATED:20190306T224458Z
LAST-MODIFIED:20190306T224458Z
UID:16833-1752303600-1752309000@ponsonbycommunity.org.nz
SUMMARY:Four Winds Yoga
DESCRIPTION:
URL:https://ponsonbycommunity.org.nz/event/four-winds-yoga-beginners-class/2025-07-12/
LOCATION:Freda Stark Hall\, 20 Ponsonby Terrace\, Auckland\, 1011\, New Zealand
ORGANIZER;CN="Suzi Carson":MAILTO:suzi@yoga.net.nz
GEO:-36.8502225;174.7421481
X-APPLE-STRUCTURED-LOCATION;VALUE=URI;X-ADDRESS=Freda Stark Hall 20 Ponsonby Terrace Auckland 1011 New Zealand;X-APPLE-RADIUS=500;X-TITLE=20 Ponsonby Terrace:geo:174.7421481,-36.8502225
END:VEVENT
END:VCALENDAR