BEGIN:VCALENDAR
VERSION:2.0
PRODID:-//Ponsonby Community Centre - ECPv6.15.20//NONSGML v1.0//EN
CALSCALE:GREGORIAN
METHOD:PUBLISH
X-ORIGINAL-URL:https://ponsonbycommunity.org.nz
X-WR-CALDESC:Events for Ponsonby Community Centre
REFRESH-INTERVAL;VALUE=DURATION:PT1H
X-Robots-Tag:noindex
X-PUBLISHED-TTL:PT1H
BEGIN:VTIMEZONE
TZID:Pacific/Auckland
BEGIN:STANDARD
TZOFFSETFROM:+1300
TZOFFSETTO:+1200
TZNAME:NZST
DTSTART:20250405T140000
END:STANDARD
BEGIN:DAYLIGHT
TZOFFSETFROM:+1200
TZOFFSETTO:+1300
TZNAME:NZDT
DTSTART:20250927T140000
END:DAYLIGHT
BEGIN:STANDARD
TZOFFSETFROM:+1300
TZOFFSETTO:+1200
TZNAME:NZST
DTSTART:20260404T140000
END:STANDARD
BEGIN:DAYLIGHT
TZOFFSETFROM:+1200
TZOFFSETTO:+1300
TZNAME:NZDT
DTSTART:20260926T140000
END:DAYLIGHT
BEGIN:STANDARD
TZOFFSETFROM:+1300
TZOFFSETTO:+1200
TZNAME:NZST
DTSTART:20270403T140000
END:STANDARD
BEGIN:DAYLIGHT
TZOFFSETFROM:+1200
TZOFFSETTO:+1300
TZNAME:NZDT
DTSTART:20270925T140000
END:DAYLIGHT
END:VTIMEZONE
BEGIN:VEVENT
DTSTART;TZID=Pacific/Auckland:20260226T093000
DTEND;TZID=Pacific/Auckland:20260226T120000
DTSTAMP:20260420T131123
CREATED:20190318T004958Z
LAST-MODIFIED:20190318T004958Z
UID:18653-1772098200-1772107200@ponsonbycommunity.org.nz
SUMMARY:Life Drawing
DESCRIPTION:The Life Drawing classes do not run during the school holidays
URL:https://ponsonbycommunity.org.nz/event/life-drawing/2026-02-26/
LOCATION:Johnny Mitchell Hall\, 20 Ponsonby Terrace\, Auckland\, 1011\, New Zealand
ORGANIZER;CN="Elizabeth":MAILTO:elizand333@gmail.com
GEO:-36.8502225;174.7421481
X-APPLE-STRUCTURED-LOCATION;VALUE=URI;X-ADDRESS=Johnny Mitchell Hall 20 Ponsonby Terrace Auckland 1011 New Zealand;X-APPLE-RADIUS=500;X-TITLE=20 Ponsonby Terrace:geo:174.7421481,-36.8502225
END:VEVENT
BEGIN:VEVENT
DTSTART;TZID=Pacific/Auckland:20260226T130000
DTEND;TZID=Pacific/Auckland:20260226T140000
DTSTAMP:20260420T131123
CREATED:20250414T042527Z
LAST-MODIFIED:20260130T041015Z
UID:18726-1772110800-1772114400@ponsonbycommunity.org.nz
SUMMARY:Tai Chi for Health
DESCRIPTION:Tai Chi offers gentle\, low-impact movement that helps improve balance\, coordination\, and focus—all common challenges after a concussion or brain injury. The slow\, mindful pace supports neuroplasticity and calm regulation of the nervous system. Practising in a group creates a sense of connection and belonging\, helping reduce isolation and support emotional wellbeing. \nReferrals from Headway Trust only pay $5!! \n \n  \n  \n  \nTo register\, email info@ponsonbycommunity.org.nz \n Tai Chi for Health programs are accessible for just about anyone\, they are easy-to-learn; safe and effective for health. Dr Paul Lam and a team of tai chi and medical experts created these programs by combining authentic traditional tai chi\, up-to-date medical knowledge and teaching methods. The programs are designed to empower people to improve health and wellness. These programs are proven by medical studies to be safe and effective\, improve health\, and support the management of many chronic conditions. The CDC (Centre for Disease Control and Prevention) recommends Tai Chi for Arthritis\, Arthritis Foundations and many organizations around the world support TCH. A wide range of Instructional DVDs and other products are available. Worldwide over 15\,000 certified instructors are teaching the programs.” http://taichiforhealthinstitute.org/. \n(Qigong/Tai Chi for Health program information from: www.smilingdragon.co.nz) \nAbout your instructor: Pauline Wood \n \nI was introduced to Dr Paul Lam model of Tai Chi during my last OT practicum and found it’s designed to be accessible to anyone\, regardless of injury\, disability\, health\, etc. Early in my own recovery\, my balance and cognitive function was inhibited\, Tai Chi came to mind and I joined a class at Auckland Integrated Health\, Northcote\, Auckland in 2019. Being prone to falls\, I found Tai Chi also helped to re-program my autonomic system which has helped in preventing falls. I also found learning Tai Chi enjoyable and relaxing\, which was in concurrence with other group members. In 2020\, I started on my journey to become a Tai Chi instructor and started running a weekly class at Headway: Brain Injury Auckland\, in Epsom. \nCurrently as a registered Tai Chi Instructor\, I also run a fortnightly class via zoom with Concussion Management Strategies\, Toronto\, Canada; and weekly classes in person classes around Auckland. \n 
URL:https://ponsonbycommunity.org.nz/event/tai-chi-for-health/2026-02-26/
LOCATION:Freda Stark Hall\, 20 Ponsonby Terrace\, Auckland\, 1011\, New Zealand
ORGANIZER;CN="Ponsonby Community Centre":MAILTO:info@ponsonbycommunity.org.nz
GEO:-36.8502225;174.7421481
X-APPLE-STRUCTURED-LOCATION;VALUE=URI;X-ADDRESS=Freda Stark Hall 20 Ponsonby Terrace Auckland 1011 New Zealand;X-APPLE-RADIUS=500;X-TITLE=20 Ponsonby Terrace:geo:174.7421481,-36.8502225
END:VEVENT
BEGIN:VEVENT
DTSTART;TZID=Pacific/Auckland:20260226T170000
DTEND;TZID=Pacific/Auckland:20260226T180000
DTSTAMP:20260420T131123
CREATED:20250407T004931Z
LAST-MODIFIED:20250407T004931Z
UID:18671-1772125200-1772128800@ponsonbycommunity.org.nz
SUMMARY:AA Rush Hour
DESCRIPTION:Ponsonby Community Centre
URL:https://ponsonbycommunity.org.nz/event/aa-rush-hour/2026-02-26/
END:VEVENT
BEGIN:VEVENT
DTSTART;TZID=Pacific/Auckland:20260226T180000
DTEND;TZID=Pacific/Auckland:20260226T193000
DTSTAMP:20260420T131123
CREATED:20190306T224458Z
LAST-MODIFIED:20190306T224458Z
UID:18628-1772128800-1772134200@ponsonbycommunity.org.nz
SUMMARY:Four Winds Yoga
DESCRIPTION:
URL:https://ponsonbycommunity.org.nz/event/four-winds-yoga-beginners-class/2026-02-26/
LOCATION:Freda Stark Hall\, 20 Ponsonby Terrace\, Auckland\, 1011\, New Zealand
ORGANIZER;CN="Suzi Carson":MAILTO:suzi@yoga.net.nz
GEO:-36.8502225;174.7421481
X-APPLE-STRUCTURED-LOCATION;VALUE=URI;X-ADDRESS=Freda Stark Hall 20 Ponsonby Terrace Auckland 1011 New Zealand;X-APPLE-RADIUS=500;X-TITLE=20 Ponsonby Terrace:geo:174.7421481,-36.8502225
END:VEVENT
END:VCALENDAR