BEGIN:VCALENDAR
VERSION:2.0
PRODID:-//Ponsonby Community Centre - ECPv6.15.20//NONSGML v1.0//EN
CALSCALE:GREGORIAN
METHOD:PUBLISH
X-ORIGINAL-URL:https://ponsonbycommunity.org.nz
X-WR-CALDESC:Events for Ponsonby Community Centre
REFRESH-INTERVAL;VALUE=DURATION:PT1H
X-Robots-Tag:noindex
X-PUBLISHED-TTL:PT1H
BEGIN:VTIMEZONE
TZID:Pacific/Auckland
BEGIN:STANDARD
TZOFFSETFROM:+1300
TZOFFSETTO:+1200
TZNAME:NZST
DTSTART:20250405T140000
END:STANDARD
BEGIN:DAYLIGHT
TZOFFSETFROM:+1200
TZOFFSETTO:+1300
TZNAME:NZDT
DTSTART:20250927T140000
END:DAYLIGHT
BEGIN:STANDARD
TZOFFSETFROM:+1300
TZOFFSETTO:+1200
TZNAME:NZST
DTSTART:20260404T140000
END:STANDARD
BEGIN:DAYLIGHT
TZOFFSETFROM:+1200
TZOFFSETTO:+1300
TZNAME:NZDT
DTSTART:20260926T140000
END:DAYLIGHT
BEGIN:STANDARD
TZOFFSETFROM:+1300
TZOFFSETTO:+1200
TZNAME:NZST
DTSTART:20270403T140000
END:STANDARD
BEGIN:DAYLIGHT
TZOFFSETFROM:+1200
TZOFFSETTO:+1300
TZNAME:NZDT
DTSTART:20270925T140000
END:DAYLIGHT
END:VTIMEZONE
BEGIN:VEVENT
DTSTART;TZID=Pacific/Auckland:20260224T090000
DTEND;TZID=Pacific/Auckland:20260224T100000
DTSTAMP:20260420T131124
CREATED:20250407T005315Z
LAST-MODIFIED:20250407T005315Z
UID:18674-1771923600-1771927200@ponsonbycommunity.org.nz
SUMMARY:Niki Loe - Glow classes
DESCRIPTION:With great love\, I support humans who are\n✓ Stressed and overwhelmed!!  \n✓ Feeling lost\, wiped out and overwhelmed  \n✓ Feeling constantly busy but always behind.  \n✓ Struggling with hormonal health: Endometriosis\, PCOS\, peri-menopause\, menopause\, PMS\, PMT\, PMDD \n✓ Feeling confused about the overwhelming amount of information on health and nutrition but wanting to know what’s right for YOUR body \n✓ Feeling bloated\, struggling with digestive distress & unexplained discomfort – Let’s work on transforming your gut health together \n✓ Craving more joy in their lives \n✓ Experiencing physical pain and restrictions – You deserve to live a pain free life in a body that feels free! \nGlow is a 60 min movement class designed for you to love your body. Using the core and alignment principles of Pilates\, the strength and flexibility of yoga and the freedom of dance.\nTo book https://www.nikiloe.com/classes
URL:https://ponsonbycommunity.org.nz/event/niki-loe-glow-classes/2026-02-24/
END:VEVENT
BEGIN:VEVENT
DTSTART;TZID=Pacific/Auckland:20260224T093000
DTEND;TZID=Pacific/Auckland:20260224T120000
DTSTAMP:20260420T131124
CREATED:20190314T030207Z
LAST-MODIFIED:20190314T030207Z
UID:18658-1771925400-1771934400@ponsonbycommunity.org.nz
SUMMARY:Ponsonby Playgroup
DESCRIPTION:Ponsonby Playgroup provides a relaxed and friendly meeting place for parents/caregivers and a safe environment for free play for preschool children. Playgroup is led by the Coordinator Genevieve Bassett\, who creates different fun activities for the children every week. \nPlaygroup is in the Freda Stark and Johnny Mitchell halls every Tuesday during the school terms – 9am-12pm. \nWe request a donation of $4 per child or $5 for a family. This covers materials for creating and play as well as out Music Man\, Antonio who entertains the children every week. \nPlaygroup does not run during the school holidays
URL:https://ponsonbycommunity.org.nz/event/ponsonby-playgroup-2/2026-02-24/
LOCATION:Freda Stark Hall\, 20 Ponsonby Terrace\, Auckland\, 1011\, New Zealand
ORGANIZER;CN="Ponsonby Community Centre":MAILTO:info@ponsonbycommunity.org.nz
GEO:-36.8502225;174.7421481
X-APPLE-STRUCTURED-LOCATION;VALUE=URI;X-ADDRESS=Freda Stark Hall 20 Ponsonby Terrace Auckland 1011 New Zealand;X-APPLE-RADIUS=500;X-TITLE=20 Ponsonby Terrace:geo:174.7421481,-36.8502225
END:VEVENT
BEGIN:VEVENT
DTSTART;TZID=Pacific/Auckland:20260224T133000
DTEND;TZID=Pacific/Auckland:20260224T143000
DTSTAMP:20260420T131124
CREATED:20250414T042527Z
LAST-MODIFIED:20260130T041015Z
UID:19732-1771939800-1771943400@ponsonbycommunity.org.nz
SUMMARY:Tai Chi for Health
DESCRIPTION:Tai Chi offers gentle\, low-impact movement that helps improve balance\, coordination\, and focus—all common challenges after a concussion or brain injury. The slow\, mindful pace supports neuroplasticity and calm regulation of the nervous system. Practising in a group creates a sense of connection and belonging\, helping reduce isolation and support emotional wellbeing. \nReferrals from Headway Trust only pay $5!! \n \n  \n  \n  \nTo register\, email info@ponsonbycommunity.org.nz \n Tai Chi for Health programs are accessible for just about anyone\, they are easy-to-learn; safe and effective for health. Dr Paul Lam and a team of tai chi and medical experts created these programs by combining authentic traditional tai chi\, up-to-date medical knowledge and teaching methods. The programs are designed to empower people to improve health and wellness. These programs are proven by medical studies to be safe and effective\, improve health\, and support the management of many chronic conditions. The CDC (Centre for Disease Control and Prevention) recommends Tai Chi for Arthritis\, Arthritis Foundations and many organizations around the world support TCH. A wide range of Instructional DVDs and other products are available. Worldwide over 15\,000 certified instructors are teaching the programs.” http://taichiforhealthinstitute.org/. \n(Qigong/Tai Chi for Health program information from: www.smilingdragon.co.nz) \nAbout your instructor: Pauline Wood \n \nI was introduced to Dr Paul Lam model of Tai Chi during my last OT practicum and found it’s designed to be accessible to anyone\, regardless of injury\, disability\, health\, etc. Early in my own recovery\, my balance and cognitive function was inhibited\, Tai Chi came to mind and I joined a class at Auckland Integrated Health\, Northcote\, Auckland in 2019. Being prone to falls\, I found Tai Chi also helped to re-program my autonomic system which has helped in preventing falls. I also found learning Tai Chi enjoyable and relaxing\, which was in concurrence with other group members. In 2020\, I started on my journey to become a Tai Chi instructor and started running a weekly class at Headway: Brain Injury Auckland\, in Epsom. \nCurrently as a registered Tai Chi Instructor\, I also run a fortnightly class via zoom with Concussion Management Strategies\, Toronto\, Canada; and weekly classes in person classes around Auckland. \n 
URL:https://ponsonbycommunity.org.nz/event/tai-chi-for-health/2026-02-24/
LOCATION:Freda Stark Hall\, 20 Ponsonby Terrace\, Auckland\, 1011\, New Zealand
ORGANIZER;CN="Ponsonby Community Centre":MAILTO:info@ponsonbycommunity.org.nz
GEO:-36.8502225;174.7421481
X-APPLE-STRUCTURED-LOCATION;VALUE=URI;X-ADDRESS=Freda Stark Hall 20 Ponsonby Terrace Auckland 1011 New Zealand;X-APPLE-RADIUS=500;X-TITLE=20 Ponsonby Terrace:geo:174.7421481,-36.8502225
END:VEVENT
BEGIN:VEVENT
DTSTART;TZID=Pacific/Auckland:20260224T180000
DTEND;TZID=Pacific/Auckland:20260224T190000
DTSTAMP:20260420T131124
CREATED:20220329T034511Z
LAST-MODIFIED:20220329T034511Z
UID:18665-1771956000-1771959600@ponsonbycommunity.org.nz
SUMMARY:AA Rainbow
DESCRIPTION:Open meetings are available to anyone interested in Alcoholics Anonymous’ program of recovery from alcoholism. Nonalcoholics may attend open meetings as observers. \nLGBTQIA+ and friends Rainbow Reflections \nPonsonby Community Centre
URL:https://ponsonbycommunity.org.nz/event/rainbow-aa/2026-02-24/
END:VEVENT
END:VCALENDAR