BEGIN:VCALENDAR
VERSION:2.0
PRODID:-//Ponsonby Community Centre - ECPv6.15.20//NONSGML v1.0//EN
CALSCALE:GREGORIAN
METHOD:PUBLISH
X-WR-CALNAME:Ponsonby Community Centre
X-ORIGINAL-URL:https://ponsonbycommunity.org.nz
X-WR-CALDESC:Events for Ponsonby Community Centre
REFRESH-INTERVAL;VALUE=DURATION:PT1H
X-Robots-Tag:noindex
X-PUBLISHED-TTL:PT1H
BEGIN:VTIMEZONE
TZID:Pacific/Auckland
BEGIN:STANDARD
TZOFFSETFROM:+1300
TZOFFSETTO:+1200
TZNAME:NZST
DTSTART:20240406T140000
END:STANDARD
BEGIN:DAYLIGHT
TZOFFSETFROM:+1200
TZOFFSETTO:+1300
TZNAME:NZDT
DTSTART:20240928T140000
END:DAYLIGHT
BEGIN:STANDARD
TZOFFSETFROM:+1300
TZOFFSETTO:+1200
TZNAME:NZST
DTSTART:20250405T140000
END:STANDARD
BEGIN:DAYLIGHT
TZOFFSETFROM:+1200
TZOFFSETTO:+1300
TZNAME:NZDT
DTSTART:20250927T140000
END:DAYLIGHT
BEGIN:STANDARD
TZOFFSETFROM:+1300
TZOFFSETTO:+1200
TZNAME:NZST
DTSTART:20260404T140000
END:STANDARD
BEGIN:DAYLIGHT
TZOFFSETFROM:+1200
TZOFFSETTO:+1300
TZNAME:NZDT
DTSTART:20260926T140000
END:DAYLIGHT
END:VTIMEZONE
BEGIN:VEVENT
DTSTART;TZID=Pacific/Auckland:20251217T153000
DTEND;TZID=Pacific/Auckland:20251217T173000
DTSTAMP:20260426T162018
CREATED:20220329T035653Z
LAST-MODIFIED:20220329T035653Z
UID:17647-1765985400-1765992600@ponsonbycommunity.org.nz
SUMMARY:Pform - Dance\, Sing\, Act
DESCRIPTION:Ponsonby Timetable\nWednesday\, 3.30-4.30pmDance | Sing | ActJUNIOR: 5-8 years\nWednesday\, 4.30-5.30pmDance | Sing | ActSENIOR: 9+ years \nTo enrol and for more information visit\nhttps://www.pform.nz/auckland/class/dance-sing-act
URL:https://ponsonbycommunity.org.nz/event/pform-dance-sing-act/2025-12-17/
END:VEVENT
BEGIN:VEVENT
DTSTART;TZID=Pacific/Auckland:20251210T153000
DTEND;TZID=Pacific/Auckland:20251210T173000
DTSTAMP:20260426T162018
CREATED:20220329T035653Z
LAST-MODIFIED:20220329T035653Z
UID:17646-1765380600-1765387800@ponsonbycommunity.org.nz
SUMMARY:Pform - Dance\, Sing\, Act
DESCRIPTION:Ponsonby Timetable\nWednesday\, 3.30-4.30pmDance | Sing | ActJUNIOR: 5-8 years\nWednesday\, 4.30-5.30pmDance | Sing | ActSENIOR: 9+ years \nTo enrol and for more information visit\nhttps://www.pform.nz/auckland/class/dance-sing-act
URL:https://ponsonbycommunity.org.nz/event/pform-dance-sing-act/2025-12-10/
END:VEVENT
BEGIN:VEVENT
DTSTART;TZID=Pacific/Auckland:20251203T153000
DTEND;TZID=Pacific/Auckland:20251203T173000
DTSTAMP:20260426T162018
CREATED:20220329T035653Z
LAST-MODIFIED:20220329T035653Z
UID:17645-1764775800-1764783000@ponsonbycommunity.org.nz
SUMMARY:Pform - Dance\, Sing\, Act
DESCRIPTION:Ponsonby Timetable\nWednesday\, 3.30-4.30pmDance | Sing | ActJUNIOR: 5-8 years\nWednesday\, 4.30-5.30pmDance | Sing | ActSENIOR: 9+ years \nTo enrol and for more information visit\nhttps://www.pform.nz/auckland/class/dance-sing-act
URL:https://ponsonbycommunity.org.nz/event/pform-dance-sing-act/2025-12-03/
END:VEVENT
BEGIN:VEVENT
DTSTART;TZID=Pacific/Auckland:20251126T153000
DTEND;TZID=Pacific/Auckland:20251126T173000
DTSTAMP:20260426T162018
CREATED:20220329T035653Z
LAST-MODIFIED:20220329T035653Z
UID:17644-1764171000-1764178200@ponsonbycommunity.org.nz
SUMMARY:Pform - Dance\, Sing\, Act
DESCRIPTION:Ponsonby Timetable\nWednesday\, 3.30-4.30pmDance | Sing | ActJUNIOR: 5-8 years\nWednesday\, 4.30-5.30pmDance | Sing | ActSENIOR: 9+ years \nTo enrol and for more information visit\nhttps://www.pform.nz/auckland/class/dance-sing-act
URL:https://ponsonbycommunity.org.nz/event/pform-dance-sing-act/2025-11-26/
END:VEVENT
BEGIN:VEVENT
DTSTART;TZID=Pacific/Auckland:20251119T153000
DTEND;TZID=Pacific/Auckland:20251119T173000
DTSTAMP:20260426T162018
CREATED:20220329T035653Z
LAST-MODIFIED:20220329T035653Z
UID:17643-1763566200-1763573400@ponsonbycommunity.org.nz
SUMMARY:Pform - Dance\, Sing\, Act
DESCRIPTION:Ponsonby Timetable\nWednesday\, 3.30-4.30pmDance | Sing | ActJUNIOR: 5-8 years\nWednesday\, 4.30-5.30pmDance | Sing | ActSENIOR: 9+ years \nTo enrol and for more information visit\nhttps://www.pform.nz/auckland/class/dance-sing-act
URL:https://ponsonbycommunity.org.nz/event/pform-dance-sing-act/2025-11-19/
END:VEVENT
BEGIN:VEVENT
DTSTART;TZID=Pacific/Auckland:20251112T153000
DTEND;TZID=Pacific/Auckland:20251112T173000
DTSTAMP:20260426T162018
CREATED:20220329T035653Z
LAST-MODIFIED:20220329T035653Z
UID:17642-1762961400-1762968600@ponsonbycommunity.org.nz
SUMMARY:Pform - Dance\, Sing\, Act
DESCRIPTION:Ponsonby Timetable\nWednesday\, 3.30-4.30pmDance | Sing | ActJUNIOR: 5-8 years\nWednesday\, 4.30-5.30pmDance | Sing | ActSENIOR: 9+ years \nTo enrol and for more information visit\nhttps://www.pform.nz/auckland/class/dance-sing-act
URL:https://ponsonbycommunity.org.nz/event/pform-dance-sing-act/2025-11-12/
END:VEVENT
BEGIN:VEVENT
DTSTART;TZID=Pacific/Auckland:20251105T153000
DTEND;TZID=Pacific/Auckland:20251105T173000
DTSTAMP:20260426T162018
CREATED:20220329T035653Z
LAST-MODIFIED:20220329T035653Z
UID:17641-1762356600-1762363800@ponsonbycommunity.org.nz
SUMMARY:Pform - Dance\, Sing\, Act
DESCRIPTION:Ponsonby Timetable\nWednesday\, 3.30-4.30pmDance | Sing | ActJUNIOR: 5-8 years\nWednesday\, 4.30-5.30pmDance | Sing | ActSENIOR: 9+ years \nTo enrol and for more information visit\nhttps://www.pform.nz/auckland/class/dance-sing-act
URL:https://ponsonbycommunity.org.nz/event/pform-dance-sing-act/2025-11-05/
END:VEVENT
BEGIN:VEVENT
DTSTART;TZID=Pacific/Auckland:20251029T153000
DTEND;TZID=Pacific/Auckland:20251029T173000
DTSTAMP:20260426T162018
CREATED:20220329T035653Z
LAST-MODIFIED:20220329T035653Z
UID:17640-1761751800-1761759000@ponsonbycommunity.org.nz
SUMMARY:Pform - Dance\, Sing\, Act
DESCRIPTION:Ponsonby Timetable\nWednesday\, 3.30-4.30pmDance | Sing | ActJUNIOR: 5-8 years\nWednesday\, 4.30-5.30pmDance | Sing | ActSENIOR: 9+ years \nTo enrol and for more information visit\nhttps://www.pform.nz/auckland/class/dance-sing-act
URL:https://ponsonbycommunity.org.nz/event/pform-dance-sing-act/2025-10-29/
END:VEVENT
BEGIN:VEVENT
DTSTART;TZID=Pacific/Auckland:20251022T153000
DTEND;TZID=Pacific/Auckland:20251022T173000
DTSTAMP:20260426T162018
CREATED:20220329T035653Z
LAST-MODIFIED:20220329T035653Z
UID:17639-1761147000-1761154200@ponsonbycommunity.org.nz
SUMMARY:Pform - Dance\, Sing\, Act
DESCRIPTION:Ponsonby Timetable\nWednesday\, 3.30-4.30pmDance | Sing | ActJUNIOR: 5-8 years\nWednesday\, 4.30-5.30pmDance | Sing | ActSENIOR: 9+ years \nTo enrol and for more information visit\nhttps://www.pform.nz/auckland/class/dance-sing-act
URL:https://ponsonbycommunity.org.nz/event/pform-dance-sing-act/2025-10-22/
END:VEVENT
BEGIN:VEVENT
DTSTART;TZID=Pacific/Auckland:20251015T153000
DTEND;TZID=Pacific/Auckland:20251015T173000
DTSTAMP:20260426T162018
CREATED:20220329T035653Z
LAST-MODIFIED:20220329T035653Z
UID:17638-1760542200-1760549400@ponsonbycommunity.org.nz
SUMMARY:Pform - Dance\, Sing\, Act
DESCRIPTION:Ponsonby Timetable\nWednesday\, 3.30-4.30pmDance | Sing | ActJUNIOR: 5-8 years\nWednesday\, 4.30-5.30pmDance | Sing | ActSENIOR: 9+ years \nTo enrol and for more information visit\nhttps://www.pform.nz/auckland/class/dance-sing-act
URL:https://ponsonbycommunity.org.nz/event/pform-dance-sing-act/2025-10-15/
END:VEVENT
BEGIN:VEVENT
DTSTART;TZID=Pacific/Auckland:20251008T153000
DTEND;TZID=Pacific/Auckland:20251008T173000
DTSTAMP:20260426T162018
CREATED:20220329T035653Z
LAST-MODIFIED:20220329T035653Z
UID:17637-1759937400-1759944600@ponsonbycommunity.org.nz
SUMMARY:Pform - Dance\, Sing\, Act
DESCRIPTION:Ponsonby Timetable\nWednesday\, 3.30-4.30pmDance | Sing | ActJUNIOR: 5-8 years\nWednesday\, 4.30-5.30pmDance | Sing | ActSENIOR: 9+ years \nTo enrol and for more information visit\nhttps://www.pform.nz/auckland/class/dance-sing-act
URL:https://ponsonbycommunity.org.nz/event/pform-dance-sing-act/2025-10-08/
END:VEVENT
BEGIN:VEVENT
DTSTART;TZID=Pacific/Auckland:20251001T153000
DTEND;TZID=Pacific/Auckland:20251001T173000
DTSTAMP:20260426T162018
CREATED:20220329T035653Z
LAST-MODIFIED:20220329T035653Z
UID:17636-1759332600-1759339800@ponsonbycommunity.org.nz
SUMMARY:Pform - Dance\, Sing\, Act
DESCRIPTION:Ponsonby Timetable\nWednesday\, 3.30-4.30pmDance | Sing | ActJUNIOR: 5-8 years\nWednesday\, 4.30-5.30pmDance | Sing | ActSENIOR: 9+ years \nTo enrol and for more information visit\nhttps://www.pform.nz/auckland/class/dance-sing-act
URL:https://ponsonbycommunity.org.nz/event/pform-dance-sing-act/2025-10-01/
END:VEVENT
BEGIN:VEVENT
DTSTART;TZID=Pacific/Auckland:20250924T153000
DTEND;TZID=Pacific/Auckland:20250924T173000
DTSTAMP:20260426T162018
CREATED:20220329T035653Z
LAST-MODIFIED:20220329T035653Z
UID:17635-1758727800-1758735000@ponsonbycommunity.org.nz
SUMMARY:Pform - Dance\, Sing\, Act
DESCRIPTION:Ponsonby Timetable\nWednesday\, 3.30-4.30pmDance | Sing | ActJUNIOR: 5-8 years\nWednesday\, 4.30-5.30pmDance | Sing | ActSENIOR: 9+ years \nTo enrol and for more information visit\nhttps://www.pform.nz/auckland/class/dance-sing-act
URL:https://ponsonbycommunity.org.nz/event/pform-dance-sing-act/2025-09-24/
END:VEVENT
BEGIN:VEVENT
DTSTART;TZID=Pacific/Auckland:20250917T153000
DTEND;TZID=Pacific/Auckland:20250917T173000
DTSTAMP:20260426T162018
CREATED:20220329T035653Z
LAST-MODIFIED:20220329T035653Z
UID:17634-1758123000-1758130200@ponsonbycommunity.org.nz
SUMMARY:Pform - Dance\, Sing\, Act
DESCRIPTION:Ponsonby Timetable\nWednesday\, 3.30-4.30pmDance | Sing | ActJUNIOR: 5-8 years\nWednesday\, 4.30-5.30pmDance | Sing | ActSENIOR: 9+ years \nTo enrol and for more information visit\nhttps://www.pform.nz/auckland/class/dance-sing-act
URL:https://ponsonbycommunity.org.nz/event/pform-dance-sing-act/2025-09-17/
END:VEVENT
BEGIN:VEVENT
DTSTART;TZID=Pacific/Auckland:20250910T153000
DTEND;TZID=Pacific/Auckland:20250910T173000
DTSTAMP:20260426T162018
CREATED:20220329T035653Z
LAST-MODIFIED:20220329T035653Z
UID:17633-1757518200-1757525400@ponsonbycommunity.org.nz
SUMMARY:Pform - Dance\, Sing\, Act
DESCRIPTION:Ponsonby Timetable\nWednesday\, 3.30-4.30pmDance | Sing | ActJUNIOR: 5-8 years\nWednesday\, 4.30-5.30pmDance | Sing | ActSENIOR: 9+ years \nTo enrol and for more information visit\nhttps://www.pform.nz/auckland/class/dance-sing-act
URL:https://ponsonbycommunity.org.nz/event/pform-dance-sing-act/2025-09-10/
END:VEVENT
BEGIN:VEVENT
DTSTART;TZID=Pacific/Auckland:20250903T153000
DTEND;TZID=Pacific/Auckland:20250903T173000
DTSTAMP:20260426T162018
CREATED:20220329T035653Z
LAST-MODIFIED:20220329T035653Z
UID:17632-1756913400-1756920600@ponsonbycommunity.org.nz
SUMMARY:Pform - Dance\, Sing\, Act
DESCRIPTION:Ponsonby Timetable\nWednesday\, 3.30-4.30pmDance | Sing | ActJUNIOR: 5-8 years\nWednesday\, 4.30-5.30pmDance | Sing | ActSENIOR: 9+ years \nTo enrol and for more information visit\nhttps://www.pform.nz/auckland/class/dance-sing-act
URL:https://ponsonbycommunity.org.nz/event/pform-dance-sing-act/2025-09-03/
END:VEVENT
BEGIN:VEVENT
DTSTART;TZID=Pacific/Auckland:20250827T153000
DTEND;TZID=Pacific/Auckland:20250827T173000
DTSTAMP:20260426T162018
CREATED:20220329T035653Z
LAST-MODIFIED:20220329T035653Z
UID:17631-1756308600-1756315800@ponsonbycommunity.org.nz
SUMMARY:Pform - Dance\, Sing\, Act
DESCRIPTION:Ponsonby Timetable\nWednesday\, 3.30-4.30pmDance | Sing | ActJUNIOR: 5-8 years\nWednesday\, 4.30-5.30pmDance | Sing | ActSENIOR: 9+ years \nTo enrol and for more information visit\nhttps://www.pform.nz/auckland/class/dance-sing-act
URL:https://ponsonbycommunity.org.nz/event/pform-dance-sing-act/2025-08-27/
END:VEVENT
BEGIN:VEVENT
DTSTART;TZID=Pacific/Auckland:20250820T153000
DTEND;TZID=Pacific/Auckland:20250820T173000
DTSTAMP:20260426T162018
CREATED:20220329T035653Z
LAST-MODIFIED:20220329T035653Z
UID:17630-1755703800-1755711000@ponsonbycommunity.org.nz
SUMMARY:Pform - Dance\, Sing\, Act
DESCRIPTION:Ponsonby Timetable\nWednesday\, 3.30-4.30pmDance | Sing | ActJUNIOR: 5-8 years\nWednesday\, 4.30-5.30pmDance | Sing | ActSENIOR: 9+ years \nTo enrol and for more information visit\nhttps://www.pform.nz/auckland/class/dance-sing-act
URL:https://ponsonbycommunity.org.nz/event/pform-dance-sing-act/2025-08-20/
END:VEVENT
BEGIN:VEVENT
DTSTART;TZID=Pacific/Auckland:20250813T153000
DTEND;TZID=Pacific/Auckland:20250813T173000
DTSTAMP:20260426T162018
CREATED:20220329T035653Z
LAST-MODIFIED:20220329T035653Z
UID:17629-1755099000-1755106200@ponsonbycommunity.org.nz
SUMMARY:Pform - Dance\, Sing\, Act
DESCRIPTION:Ponsonby Timetable\nWednesday\, 3.30-4.30pmDance | Sing | ActJUNIOR: 5-8 years\nWednesday\, 4.30-5.30pmDance | Sing | ActSENIOR: 9+ years \nTo enrol and for more information visit\nhttps://www.pform.nz/auckland/class/dance-sing-act
URL:https://ponsonbycommunity.org.nz/event/pform-dance-sing-act/2025-08-13/
END:VEVENT
BEGIN:VEVENT
DTSTART;TZID=Pacific/Auckland:20250806T153000
DTEND;TZID=Pacific/Auckland:20250806T173000
DTSTAMP:20260426T162018
CREATED:20220329T035653Z
LAST-MODIFIED:20220329T035653Z
UID:17628-1754494200-1754501400@ponsonbycommunity.org.nz
SUMMARY:Pform - Dance\, Sing\, Act
DESCRIPTION:Ponsonby Timetable\nWednesday\, 3.30-4.30pmDance | Sing | ActJUNIOR: 5-8 years\nWednesday\, 4.30-5.30pmDance | Sing | ActSENIOR: 9+ years \nTo enrol and for more information visit\nhttps://www.pform.nz/auckland/class/dance-sing-act
URL:https://ponsonbycommunity.org.nz/event/pform-dance-sing-act/2025-08-06/
END:VEVENT
BEGIN:VEVENT
DTSTART;TZID=Pacific/Auckland:20250730T153000
DTEND;TZID=Pacific/Auckland:20250730T173000
DTSTAMP:20260426T162018
CREATED:20220329T035653Z
LAST-MODIFIED:20220329T035653Z
UID:17627-1753889400-1753896600@ponsonbycommunity.org.nz
SUMMARY:Pform - Dance\, Sing\, Act
DESCRIPTION:Ponsonby Timetable\nWednesday\, 3.30-4.30pmDance | Sing | ActJUNIOR: 5-8 years\nWednesday\, 4.30-5.30pmDance | Sing | ActSENIOR: 9+ years \nTo enrol and for more information visit\nhttps://www.pform.nz/auckland/class/dance-sing-act
URL:https://ponsonbycommunity.org.nz/event/pform-dance-sing-act/2025-07-30/
END:VEVENT
BEGIN:VEVENT
DTSTART;TZID=Pacific/Auckland:20250723T153000
DTEND;TZID=Pacific/Auckland:20250723T173000
DTSTAMP:20260426T162018
CREATED:20220329T035653Z
LAST-MODIFIED:20220329T035653Z
UID:17626-1753284600-1753291800@ponsonbycommunity.org.nz
SUMMARY:Pform - Dance\, Sing\, Act
DESCRIPTION:Ponsonby Timetable\nWednesday\, 3.30-4.30pmDance | Sing | ActJUNIOR: 5-8 years\nWednesday\, 4.30-5.30pmDance | Sing | ActSENIOR: 9+ years \nTo enrol and for more information visit\nhttps://www.pform.nz/auckland/class/dance-sing-act
URL:https://ponsonbycommunity.org.nz/event/pform-dance-sing-act/2025-07-23/
END:VEVENT
BEGIN:VEVENT
DTSTART;TZID=Pacific/Auckland:20250716T153000
DTEND;TZID=Pacific/Auckland:20250716T173000
DTSTAMP:20260426T162018
CREATED:20220329T035653Z
LAST-MODIFIED:20220329T035653Z
UID:17625-1752679800-1752687000@ponsonbycommunity.org.nz
SUMMARY:Pform - Dance\, Sing\, Act
DESCRIPTION:Ponsonby Timetable\nWednesday\, 3.30-4.30pmDance | Sing | ActJUNIOR: 5-8 years\nWednesday\, 4.30-5.30pmDance | Sing | ActSENIOR: 9+ years \nTo enrol and for more information visit\nhttps://www.pform.nz/auckland/class/dance-sing-act
URL:https://ponsonbycommunity.org.nz/event/pform-dance-sing-act/2025-07-16/
END:VEVENT
BEGIN:VEVENT
DTSTART;TZID=Pacific/Auckland:20250709T153000
DTEND;TZID=Pacific/Auckland:20250709T173000
DTSTAMP:20260426T162018
CREATED:20220329T035653Z
LAST-MODIFIED:20220329T035653Z
UID:17624-1752075000-1752082200@ponsonbycommunity.org.nz
SUMMARY:Pform - Dance\, Sing\, Act
DESCRIPTION:Ponsonby Timetable\nWednesday\, 3.30-4.30pmDance | Sing | ActJUNIOR: 5-8 years\nWednesday\, 4.30-5.30pmDance | Sing | ActSENIOR: 9+ years \nTo enrol and for more information visit\nhttps://www.pform.nz/auckland/class/dance-sing-act
URL:https://ponsonbycommunity.org.nz/event/pform-dance-sing-act/2025-07-09/
END:VEVENT
BEGIN:VEVENT
DTSTART;TZID=Pacific/Auckland:20250702T153000
DTEND;TZID=Pacific/Auckland:20250702T173000
DTSTAMP:20260426T162018
CREATED:20220329T035653Z
LAST-MODIFIED:20220329T035653Z
UID:17623-1751470200-1751477400@ponsonbycommunity.org.nz
SUMMARY:Pform - Dance\, Sing\, Act
DESCRIPTION:Ponsonby Timetable\nWednesday\, 3.30-4.30pmDance | Sing | ActJUNIOR: 5-8 years\nWednesday\, 4.30-5.30pmDance | Sing | ActSENIOR: 9+ years \nTo enrol and for more information visit\nhttps://www.pform.nz/auckland/class/dance-sing-act
URL:https://ponsonbycommunity.org.nz/event/pform-dance-sing-act/2025-07-02/
END:VEVENT
BEGIN:VEVENT
DTSTART;TZID=Pacific/Auckland:20250625T153000
DTEND;TZID=Pacific/Auckland:20250625T173000
DTSTAMP:20260426T162018
CREATED:20220329T035653Z
LAST-MODIFIED:20220329T035653Z
UID:17622-1750865400-1750872600@ponsonbycommunity.org.nz
SUMMARY:Pform - Dance\, Sing\, Act
DESCRIPTION:Ponsonby Timetable\nWednesday\, 3.30-4.30pmDance | Sing | ActJUNIOR: 5-8 years\nWednesday\, 4.30-5.30pmDance | Sing | ActSENIOR: 9+ years \nTo enrol and for more information visit\nhttps://www.pform.nz/auckland/class/dance-sing-act
URL:https://ponsonbycommunity.org.nz/event/pform-dance-sing-act/2025-06-25/
END:VEVENT
BEGIN:VEVENT
DTSTART;TZID=Pacific/Auckland:20250618T153000
DTEND;TZID=Pacific/Auckland:20250618T173000
DTSTAMP:20260426T162018
CREATED:20220329T035653Z
LAST-MODIFIED:20220329T035653Z
UID:17621-1750260600-1750267800@ponsonbycommunity.org.nz
SUMMARY:Pform - Dance\, Sing\, Act
DESCRIPTION:Ponsonby Timetable\nWednesday\, 3.30-4.30pmDance | Sing | ActJUNIOR: 5-8 years\nWednesday\, 4.30-5.30pmDance | Sing | ActSENIOR: 9+ years \nTo enrol and for more information visit\nhttps://www.pform.nz/auckland/class/dance-sing-act
URL:https://ponsonbycommunity.org.nz/event/pform-dance-sing-act/2025-06-18/
END:VEVENT
BEGIN:VEVENT
DTSTART;TZID=Pacific/Auckland:20250611T153000
DTEND;TZID=Pacific/Auckland:20250611T173000
DTSTAMP:20260426T162018
CREATED:20220329T035653Z
LAST-MODIFIED:20220329T035653Z
UID:17620-1749655800-1749663000@ponsonbycommunity.org.nz
SUMMARY:Pform - Dance\, Sing\, Act
DESCRIPTION:Ponsonby Timetable\nWednesday\, 3.30-4.30pmDance | Sing | ActJUNIOR: 5-8 years\nWednesday\, 4.30-5.30pmDance | Sing | ActSENIOR: 9+ years \nTo enrol and for more information visit\nhttps://www.pform.nz/auckland/class/dance-sing-act
URL:https://ponsonbycommunity.org.nz/event/pform-dance-sing-act/2025-06-11/
END:VEVENT
BEGIN:VEVENT
DTSTART;TZID=Pacific/Auckland:20250604T153000
DTEND;TZID=Pacific/Auckland:20250604T173000
DTSTAMP:20260426T162018
CREATED:20220329T035653Z
LAST-MODIFIED:20220329T035653Z
UID:17619-1749051000-1749058200@ponsonbycommunity.org.nz
SUMMARY:Pform - Dance\, Sing\, Act
DESCRIPTION:Ponsonby Timetable\nWednesday\, 3.30-4.30pmDance | Sing | ActJUNIOR: 5-8 years\nWednesday\, 4.30-5.30pmDance | Sing | ActSENIOR: 9+ years \nTo enrol and for more information visit\nhttps://www.pform.nz/auckland/class/dance-sing-act
URL:https://ponsonbycommunity.org.nz/event/pform-dance-sing-act/2025-06-04/
END:VEVENT
BEGIN:VEVENT
DTSTART;TZID=Pacific/Auckland:20250528T153000
DTEND;TZID=Pacific/Auckland:20250528T173000
DTSTAMP:20260426T162018
CREATED:20220329T035653Z
LAST-MODIFIED:20220329T035653Z
UID:17618-1748446200-1748453400@ponsonbycommunity.org.nz
SUMMARY:Pform - Dance\, Sing\, Act
DESCRIPTION:Ponsonby Timetable\nWednesday\, 3.30-4.30pmDance | Sing | ActJUNIOR: 5-8 years\nWednesday\, 4.30-5.30pmDance | Sing | ActSENIOR: 9+ years \nTo enrol and for more information visit\nhttps://www.pform.nz/auckland/class/dance-sing-act
URL:https://ponsonbycommunity.org.nz/event/pform-dance-sing-act/2025-05-28/
END:VEVENT
END:VCALENDAR