BEGIN:VCALENDAR
VERSION:2.0
PRODID:-//Ponsonby Community Centre - ECPv6.15.20//NONSGML v1.0//EN
CALSCALE:GREGORIAN
METHOD:PUBLISH
X-ORIGINAL-URL:https://ponsonbycommunity.org.nz
X-WR-CALDESC:Events for Ponsonby Community Centre
REFRESH-INTERVAL;VALUE=DURATION:PT1H
X-Robots-Tag:noindex
X-PUBLISHED-TTL:PT1H
BEGIN:VTIMEZONE
TZID:Pacific/Auckland
BEGIN:STANDARD
TZOFFSETFROM:+1300
TZOFFSETTO:+1200
TZNAME:NZST
DTSTART:20240406T140000
END:STANDARD
BEGIN:DAYLIGHT
TZOFFSETFROM:+1200
TZOFFSETTO:+1300
TZNAME:NZDT
DTSTART:20240928T140000
END:DAYLIGHT
BEGIN:STANDARD
TZOFFSETFROM:+1300
TZOFFSETTO:+1200
TZNAME:NZST
DTSTART:20250405T140000
END:STANDARD
BEGIN:DAYLIGHT
TZOFFSETFROM:+1200
TZOFFSETTO:+1300
TZNAME:NZDT
DTSTART:20250927T140000
END:DAYLIGHT
BEGIN:STANDARD
TZOFFSETFROM:+1300
TZOFFSETTO:+1200
TZNAME:NZST
DTSTART:20260404T140000
END:STANDARD
BEGIN:DAYLIGHT
TZOFFSETFROM:+1200
TZOFFSETTO:+1300
TZNAME:NZDT
DTSTART:20260926T140000
END:DAYLIGHT
END:VTIMEZONE
BEGIN:VEVENT
DTSTART;TZID=Pacific/Auckland:20250426T140000
DTEND;TZID=Pacific/Auckland:20250426T170000
DTSTAMP:20260420T010420
CREATED:20190318T010325Z
LAST-MODIFIED:20250407T001818Z
UID:13503-1745676000-1745686800@ponsonbycommunity.org.nz
SUMMARY:Romanian Sewing group
DESCRIPTION:
URL:https://ponsonbycommunity.org.nz/event/doina-romanian-dance-2-2-2-2/2025-04-26/
LOCATION:Gluepot Room\, 20 Ponsonby Terrace\, Auckland\, 1011\, New Zealand
GEO:-36.8502225;174.7421481
X-APPLE-STRUCTURED-LOCATION;VALUE=URI;X-ADDRESS=Gluepot Room 20 Ponsonby Terrace Auckland 1011 New Zealand;X-APPLE-RADIUS=500;X-TITLE=20 Ponsonby Terrace:geo:174.7421481,-36.8502225
END:VEVENT
END:VCALENDAR