BEGIN:VCALENDAR
VERSION:2.0
PRODID:-//Ponsonby Community Centre - ECPv6.15.20//NONSGML v1.0//EN
CALSCALE:GREGORIAN
METHOD:PUBLISH
X-WR-CALNAME:Ponsonby Community Centre
X-ORIGINAL-URL:https://ponsonbycommunity.org.nz
X-WR-CALDESC:Events for Ponsonby Community Centre
REFRESH-INTERVAL;VALUE=DURATION:PT1H
X-Robots-Tag:noindex
X-PUBLISHED-TTL:PT1H
BEGIN:VTIMEZONE
TZID:Pacific/Auckland
BEGIN:STANDARD
TZOFFSETFROM:+1300
TZOFFSETTO:+1200
TZNAME:NZST
DTSTART:20240406T140000
END:STANDARD
BEGIN:DAYLIGHT
TZOFFSETFROM:+1200
TZOFFSETTO:+1300
TZNAME:NZDT
DTSTART:20240928T140000
END:DAYLIGHT
BEGIN:STANDARD
TZOFFSETFROM:+1300
TZOFFSETTO:+1200
TZNAME:NZST
DTSTART:20250405T140000
END:STANDARD
BEGIN:DAYLIGHT
TZOFFSETFROM:+1200
TZOFFSETTO:+1300
TZNAME:NZDT
DTSTART:20250927T140000
END:DAYLIGHT
BEGIN:STANDARD
TZOFFSETFROM:+1300
TZOFFSETTO:+1200
TZNAME:NZST
DTSTART:20260404T140000
END:STANDARD
BEGIN:DAYLIGHT
TZOFFSETFROM:+1200
TZOFFSETTO:+1300
TZNAME:NZDT
DTSTART:20260926T140000
END:DAYLIGHT
END:VTIMEZONE
BEGIN:VEVENT
DTSTART;TZID=Pacific/Auckland:20250624T151500
DTEND;TZID=Pacific/Auckland:20250624T170000
DTSTAMP:20260420T004153
CREATED:20250501T042515Z
LAST-MODIFIED:20260130T033231Z
UID:18378-1750778100-1750784400@ponsonbycommunity.org.nz
SUMMARY:After School Classes at Freemans Bay Community Centre
DESCRIPTION:Weekly Art and craft activities with the ReCreators who focus on upcycling and reuse. \n$99 per child – 6 weeks\nPlease provide a snack\, drink and hat. \nChildren who attend Freemans Bay School will be picked up by tutor from outside school office and walked across road. \nScan the QR code below to book!
URL:https://ponsonbycommunity.org.nz/event/after-school-classes-at-freemans-bay-community-centre/2025-06-24/
ORGANIZER;CN="Ponsonby Community Centre":MAILTO:info@ponsonbycommunity.org.nz
END:VEVENT
BEGIN:VEVENT
DTSTART;TZID=Pacific/Auckland:20250617T151500
DTEND;TZID=Pacific/Auckland:20250617T170000
DTSTAMP:20260420T004153
CREATED:20250501T042515Z
LAST-MODIFIED:20260130T033231Z
UID:18377-1750173300-1750179600@ponsonbycommunity.org.nz
SUMMARY:After School Classes at Freemans Bay Community Centre
DESCRIPTION:Weekly Art and craft activities with the ReCreators who focus on upcycling and reuse. \n$99 per child – 6 weeks\nPlease provide a snack\, drink and hat. \nChildren who attend Freemans Bay School will be picked up by tutor from outside school office and walked across road. \nScan the QR code below to book!
URL:https://ponsonbycommunity.org.nz/event/after-school-classes-at-freemans-bay-community-centre/2025-06-17/
ORGANIZER;CN="Ponsonby Community Centre":MAILTO:info@ponsonbycommunity.org.nz
END:VEVENT
BEGIN:VEVENT
DTSTART;TZID=Pacific/Auckland:20250610T151500
DTEND;TZID=Pacific/Auckland:20250610T170000
DTSTAMP:20260420T004153
CREATED:20250501T042515Z
LAST-MODIFIED:20260130T033231Z
UID:18376-1749568500-1749574800@ponsonbycommunity.org.nz
SUMMARY:After School Classes at Freemans Bay Community Centre
DESCRIPTION:Weekly Art and craft activities with the ReCreators who focus on upcycling and reuse. \n$99 per child – 6 weeks\nPlease provide a snack\, drink and hat. \nChildren who attend Freemans Bay School will be picked up by tutor from outside school office and walked across road. \nScan the QR code below to book!
URL:https://ponsonbycommunity.org.nz/event/after-school-classes-at-freemans-bay-community-centre/2025-06-10/
ORGANIZER;CN="Ponsonby Community Centre":MAILTO:info@ponsonbycommunity.org.nz
END:VEVENT
BEGIN:VEVENT
DTSTART;TZID=Pacific/Auckland:20250603T151500
DTEND;TZID=Pacific/Auckland:20250603T170000
DTSTAMP:20260420T004153
CREATED:20250501T042515Z
LAST-MODIFIED:20260130T033230Z
UID:18375-1748963700-1748970000@ponsonbycommunity.org.nz
SUMMARY:After School Classes at Freemans Bay Community Centre
DESCRIPTION:Weekly Art and craft activities with the ReCreators who focus on upcycling and reuse. \n$99 per child – 6 weeks\nPlease provide a snack\, drink and hat. \nChildren who attend Freemans Bay School will be picked up by tutor from outside school office and walked across road. \nScan the QR code below to book!
URL:https://ponsonbycommunity.org.nz/event/after-school-classes-at-freemans-bay-community-centre/2025-06-03/
ORGANIZER;CN="Ponsonby Community Centre":MAILTO:info@ponsonbycommunity.org.nz
END:VEVENT
BEGIN:VEVENT
DTSTART;TZID=Pacific/Auckland:20250527T151500
DTEND;TZID=Pacific/Auckland:20250527T170000
DTSTAMP:20260420T004153
CREATED:20250501T042515Z
LAST-MODIFIED:20260130T033230Z
UID:18374-1748358900-1748365200@ponsonbycommunity.org.nz
SUMMARY:After School Classes at Freemans Bay Community Centre
DESCRIPTION:Weekly Art and craft activities with the ReCreators who focus on upcycling and reuse. \n$99 per child – 6 weeks\nPlease provide a snack\, drink and hat. \nChildren who attend Freemans Bay School will be picked up by tutor from outside school office and walked across road. \nScan the QR code below to book!
URL:https://ponsonbycommunity.org.nz/event/after-school-classes-at-freemans-bay-community-centre/2025-05-27/
ORGANIZER;CN="Ponsonby Community Centre":MAILTO:info@ponsonbycommunity.org.nz
END:VEVENT
BEGIN:VEVENT
DTSTART;TZID=Pacific/Auckland:20250520T151500
DTEND;TZID=Pacific/Auckland:20250520T170000
DTSTAMP:20260420T004153
CREATED:20250501T042515Z
LAST-MODIFIED:20260130T033230Z
UID:18371-1747754100-1747760400@ponsonbycommunity.org.nz
SUMMARY:After School Classes at Freemans Bay Community Centre
DESCRIPTION:Weekly Art and craft activities with the ReCreators who focus on upcycling and reuse. \n$99 per child – 6 weeks\nPlease provide a snack\, drink and hat. \nChildren who attend Freemans Bay School will be picked up by tutor from outside school office and walked across road. \nScan the QR code below to book!
URL:https://ponsonbycommunity.org.nz/event/after-school-classes-at-freemans-bay-community-centre/2025-05-20/
ORGANIZER;CN="Ponsonby Community Centre":MAILTO:info@ponsonbycommunity.org.nz
END:VEVENT
END:VCALENDAR